BEGIN:VCALENDAR
VERSION:2.0
PRODID:-//Alianza Francesa Guatemala - ECPv6.15.20//NONSGML v1.0//EN
CALSCALE:GREGORIAN
METHOD:PUBLISH
X-WR-CALNAME:Alianza Francesa Guatemala
X-ORIGINAL-URL:https://alianzafrancesa.org.gt
X-WR-CALDESC:Eventos para Alianza Francesa Guatemala
REFRESH-INTERVAL;VALUE=DURATION:PT1H
X-Robots-Tag:noindex
X-PUBLISHED-TTL:PT1H
BEGIN:VTIMEZONE
TZID:America/Guatemala
BEGIN:STANDARD
TZOFFSETFROM:-0600
TZOFFSETTO:-0600
TZNAME:CST
DTSTART:20210101T000000
END:STANDARD
END:VTIMEZONE
BEGIN:VEVENT
DTSTART;TZID=America/Guatemala:20220602T190000
DTEND;TZID=America/Guatemala:20220602T203000
DTSTAMP:20260422T232142
CREATED:20220524T205557Z
LAST-MODIFIED:20220524T205557Z
UID:7240-1654196400-1654201800@alianzafrancesa.org.gt
SUMMARY:Mujeres ConCiencia - Debate de mujeres científicas
DESCRIPTION:Mujeres ConCiencia – Debate de mujeres científicas\nEl jueves 2 de junio\, la Alianza Francesa de Guatemala\, conjunto a la Embajada de Francia en Guatemala\, el Centro de Estudios Mexicanos y Centroamericanos (CEMCA)\, la Universidad del Valle de Guatemala (UVG)\, el Centro de Cooperación Internacional en Investigación Agrícola para el Desarrollo (CIRAD)\, el Centro Agronómico Tropical de Investigación y Enseñanza (CATIE) y la Organización para las Mujeres en la Ciencia para el mundo en desarrollo (OWSD)\, les invita al nuevo ciclo “Mujeres ConCiencia”. \nPara iniciar este ciclo\, dedicado a las mujeres científicas\, les presentaremos un conversatorio sobre el tema del acceso de las mujeres a las ciencias STEM con la participación de un panel intergeneracional de expertas. \n\nEl primer tema de este conversatorio\nPara Francia la igualdad de género y los derechos de las mujeres es una de nuestras prioridades. Para nosotros es muy importante que todas las jóvenes tengan todas las oportunidades para estudiar las carreras que deseen\, incluso las carreras científicas. \nNuestro ciclo de eventos Mujeres con Ciencia empezará con un primer conversatorio sobre el tema del acceso de las mujeres a las ciencias STEAM. Este será una gran oportunidad particularmente para jóvenes científicas y estudiantes. Se presentará también el estudio de Claudine Schmuck en el marco de la encuesta Gender Scan 2021. \nNuestro objetivo es dar a conocer los retos a los que se enfrentan las mujeres científicas hoy en día\, y también que haya un intercambio de ideas y debates con mujeres científicas guatemaltecas y francesas\, de manera intergeneracional. \nHabrá cupo limitado para asistir en formato presencial y los participantes tendrán la oportunidad de tener un intercambio personalizado con las panelistas. Compartiremos un enlace hacia un formulario en línea para participar de manera presencial. También se retransmitirá el evento en Facebook Live. \n  \nJueves 2 de junio \n19:00hrs\nEntrada libre\nGalería de la Alianza Francesa de  Guatemala y página Facebook Live
URL:https://alianzafrancesa.org.gt/evento/mujeres-conciencia-debate-de-mujeres-cientificas/
CATEGORIES:Agenda,Conferencia
ATTACH;FMTTYPE=image/png:https://alianzafrancesa.org.gt/wp-content/uploads/2022/05/banner-1-1-scaled.png
END:VEVENT
BEGIN:VEVENT
DTSTART;TZID=America/Guatemala:20220608T193000
DTEND;TZID=America/Guatemala:20220608T203000
DTSTAMP:20260422T232142
CREATED:20220524T193803Z
LAST-MODIFIED:20220525T171533Z
UID:7236-1654716600-1654720200@alianzafrancesa.org.gt
SUMMARY:Inauguración de la exposición “Por su propio peso”  de Jorge Chavarría
DESCRIPTION:Inauguración de la exposición “Por su propio peso” de Jorge Chavarría\nEl miércoles 8 de junio\, la Alianza Francesa de Guatemala les invita a la inauguración de la exposición “Por su propio peso”  de Jorge Chavarría. Del 1ero de junio al 1er de julio\, podrá visitar la exposición en la galería de arte. \n“Por su propio peso” es el resultado de una investigación personal de Jorge Chavarría en donde se adentra en la vida de sus pares\, un trabajo que quedará marcado por la búsqueda de significación dentro de su cotidianeidad. \n  \nSobre la exposición\nComo un registro de nuestro paso por el mundo\, la imagen se convierte en un testimonio de las historias que trascendieron dentro de nuestra colectividad. Un intento de sobrevivir en el tiempo\, volviendo al origen más puro del retrato fotográfico y a un anhelo tan humano de continuar existiendo; algo por lo que seamos recordados cuando nuestra presencia física ya no sea más. \nUn proyecto que nace de la necesidad de exaltar la labor de individuos que aportaron desde sus habilidades y posibilidades\, para modificar nuestra realidad social dejando una huella dentro de su distintivo campo de acción. \nElaborados con la minuciosidad artesanal del proceso fotográfico del colodión húmedo\, una técnica recuperada del siglo XIX y de los mismos inicios de la fotografía\, en un formato único\, uniendo así\, nuestra época con otra temporalidad. \nCada retrato se convierte en una pieza única con un sentido inherente de permanencia\, que perdurará tanto\, como el legado de los protagonistas; impregnada del carácter incisivo de su creador. \n  \n\nAlgunas palabras sobre Jorge Chavarría\nSu trabajo explora temas como el género\, la cultura\, paisaje e identidad\, su trabajo es una mezcla de fotografía documental\, diseño y arte contemporáneo.  Es un fotografo autodidacta que ha trabajado su obra utilizando diversas técnicas de fotografía\, pero que actualmente se especializado en procesos alternativos de fotografía del siglo XIX. \nSu obra se ha mostrado de manera colectiva en las principales museos\, galerías y festivales de arte de Guatemala\, El Salvador\, Puerto Rico\, Estados Unidos\, Republica Checa\, Japón. Entre sus exposiciones individuales se pueden mencionar «Sinergia» en el Museo Ixchel del traje indigena 2018.  «Nosotros»\, Festival Foto30\, Cantón Exposición\, Fundación G&T\, Guatemala\, septiembre 2011.  «Lucha diaria»\, Festival ESFoto 11\, Centro Cultural de la Embajada de México\, El Salvador. \nMiércoles 8 de junio\n19:30hrs\nEntrada libre\nGalería de la Alianza Francesa de  Guatemala 
URL:https://alianzafrancesa.org.gt/evento/inauguracion-de-la-exposicion-por-su-propio-peso-de-jorge-chavarria/
CATEGORIES:Agenda,Artes Plásticas,Arts Plastiques
ATTACH;FMTTYPE=image/png:https://alianzafrancesa.org.gt/wp-content/uploads/2022/05/banner-2-min-3.png
END:VEVENT
BEGIN:VEVENT
DTSTART;TZID=America/Guatemala:20220621T180000
DTEND;TZID=America/Guatemala:20220621T230000
DTSTAMP:20260422T232142
CREATED:20220618T003813Z
LAST-MODIFIED:20220618T003813Z
UID:7285-1655834400-1655852400@alianzafrancesa.org.gt
SUMMARY:Fiesta de la música - Micrófonos Abiertos - 21 de junio 2022
DESCRIPTION:Ciclo «Estar vivo\, ser consciente» | Fiesta de la música “Micrófono abierto”\nEl martes 21 de junio\, en su ciclo “Estar vivo\, ser consciente”  \, la Alianza Francesa de Guatemala\, el Imaginatorio Studio y el Molly Lab les invitan a su “Micrófono Abierto” organizado en el marco de la Fiesta de la música. \n Se decidió realizar el “micrófono abierto” lanzando una convocatoria para todos los músicos\, aficionados o profesionales\, de todas edades\, que quieran compartir sus creaciones y enseñar su talento. \n¡¡¡Las propuestas las más adecuadas fueron seleccionadas para este escenario abierto\, 8 grupos tocarán en el jardín de la Alianza Francesa durante 20 minutos cada uno!!!\n Sobre la Fiesta de la música:\nDesde hace 40 años\, el 21 de junio no sólo marca la llegada del solsticio de verano\, sino también la celebración de la fiesta de la música (Fête de la Musique). Fundada en Francia en 1982\, este evento está presente hoy en más de 125 países en los 5 continentes. En la 24a edición de la Fiesta de la Música en Guatemala\, la receta será la misma: aprovechar el día más largo del año\, ¡para inundar las calles con música!\n Sobre el ciclo «Estar vivo\, ser consciente»\nEste ciclo propondrá una actividad cultural diferente cada mes: cine\, debate\, mercado orgánico\, salida\, naturaleza ect. El objetivo es abordar temas como los derechos humanos\, medio ambiente\, discapacidades\, derechos de las mujeres\, ecología\, para tomar consciencia y luchar por un desarrollo sostenible juntos. \n¡Este 21 de junio\, inauguraremos nuestras estaciones de reciclaje\, la Alianza se pone cada vez más verde ! \n—\n Entrada LIBRE\n Opciones de comida y bebidas a la venta con los foodtrucks invitados (Voraz\, El Toque y Cabrito Cabrón) y en el Bistrot Crêpette\n Con la participación de la cervezería @Cerveza El Zapote !!!
URL:https://alianzafrancesa.org.gt/evento/fiesta-de-la-musica-microfonos-abiertos-21-de-junio-2022/
LOCATION:Alianza Francesa de Guatemala\, 5ta calle 10-55 Finca La Aurora zona 13\, Guatemala\, Guatemala\, 01013\, Guatemala
CATEGORIES:Agenda,Música,Musique
ATTACH;FMTTYPE=image/png:https://alianzafrancesa.org.gt/wp-content/uploads/2022/06/banner_web-min1-1-scaled.png
ORGANIZER;CN="Alianza Francesa de Guatemala":MAILTO:info@alianzafrancesa.org.gt
END:VEVENT
END:VCALENDAR