BEGIN:VCALENDAR
VERSION:2.0
PRODID:-//Alianza Francesa Guatemala - ECPv6.15.20//NONSGML v1.0//EN
CALSCALE:GREGORIAN
METHOD:PUBLISH
X-WR-CALNAME:Alianza Francesa Guatemala
X-ORIGINAL-URL:https://alianzafrancesa.org.gt
X-WR-CALDESC:Eventos para Alianza Francesa Guatemala
REFRESH-INTERVAL;VALUE=DURATION:PT1H
X-Robots-Tag:noindex
X-PUBLISHED-TTL:PT1H
BEGIN:VTIMEZONE
TZID:America/Guatemala
BEGIN:STANDARD
TZOFFSETFROM:-0600
TZOFFSETTO:-0600
TZNAME:CST
DTSTART:20210101T000000
END:STANDARD
END:VTIMEZONE
BEGIN:VEVENT
DTSTART;TZID=America/Guatemala:20220705T180000
DTEND;TZID=America/Guatemala:20220710T230000
DTSTAMP:20260422T214923
CREATED:20220708T160719Z
LAST-MODIFIED:20220708T160719Z
UID:7304-1657044000-1657494000@alianzafrancesa.org.gt
SUMMARY:FranciAnimada
DESCRIPTION:FESTIVAL DE CINE DE ANIMACIÓN FRANCÉS\nDesde 2016 la Alianza Francesa de Guatemala\, en el marco de su ciclo de cine al aire libre\, proyecta\, previo a la función\, cortometrajes animados. Tomando en cuenta los buenos comentarios que se han recibido\, en 2019\, se decidió el  festival de cine de animación francés en Guatemala titulado FranciAnimada. \nLA CARTELERA │ 11 películas a proyectar\nDel 5 al 10 de julio\, se proyectará una selección de 10 películas francesas en versión original con subtítulos en español en la galería de arte y en el jardín de la Alianza Francesa. A continuación\, conozca más detalles sobre cada uno de estas películas: \n  \nMartes 5 de julio\n18:00 horas | Los cuentos de la noche de Michel Ocelot\n \nPelícula familiar \n \nCada noche un niño\, una niña y un viejo técnico se ven en un cine en desuso y bastante deteriorado. La sala\, no obstante\, esconde un secreto: en realidad\, es un lugar mágico en el que los tres amigos se divierten revolviendo cosas\, disfrazándose y representando historias imaginarias que a ellos durante esas noches se les antojan muy reales; tanto que es entonces cuando magos y elfos toman el auditorio\, mozos de cuadra que pierden. \n19:45 horas | Josep de Aurel\n \nPúblico adulto \n \nFebrero\, 1939. El gobierno francés\, ante la oleada de republicanos que huyen de España por la dictadura de Franco\, decide confinar a los españoles en campos de concentración. En uno de estos campos\, dos hombres traban una amistad separados por un alambre de púas. Uno de ellos es Josep Bartoli\, un ilustrador que lucha contra el régimen de Franco y que hacía dibujos en la prensa durante la República. Durante su estancia en los campos de concentración\, se las ingenió para conseguir carboncillos y seguir dibujando. Cuando pudo abandonar esa pesadilla\, Josep se fue a México\, donde mantuvo una relación con Frida Kahlo y pudo publicar su libro \n  \nMiércoles 6 de julio\n18:00 horas | El pequeño vampiro de Joann Sfar\n \nPelícula familiar \n \nEl pequeño vampiro vive en una casa encantada con un alegre grupo de monstruos\, pero pese a ello está muerto de aburrimiento. Una noche se escabulle en secreto de la mansión junto a su fiel bulldog con el propósito de encontrar nuevas aventuras y amigos. Adaptación animada del cómic homónimo de Joann Sfar. \n19:45 horas | El planeta salvaje de René Laloux\n \nPúblico adulto \n \nEn el lejano planeta Ygam viven unas criaturas gigantescas llamadas “Draags” que han domesticado a los pequeños «Oms»\, seres humanos que están siendo exterminados. Pero un Om consigue escapar… \n  \nJueves 7 de julio \n18:00 horas | Amarillito de Cristian De Vita\n \nPelícula familiar \n \nAmarillito nunca ha conocido a su familia\, no ha visto el mundo y no está interesado en conocerlo… hasta que un día\, alentado por su amiga la Mariquita\, se aleja unos metros de su nido… es entonces cuando se encuentra con Darius\, un pájaro malherido\, líder de una bandada\, que le desvela la nueva ruta hacia África. Deslumbrado por la belleza de Delf\, la hija de Darius\, y con el desconfiado Carl siempre atento a sus errores\, nuestro pequeño héroe iniciará la aventura más vibrante de su vida! Conseguirá llevar a su nueva familia hasta Africa? \n19:45 horas | Las golondrinas de Kabul de Zabou Breitman y Eléa Gobbé-Mévellec\n \nPúblico adulto \n \nVerano de 1998. Kabul bajo el dominio talibán. Zunaira y Mohsen son dos jóvenes enamorados. A pesar de la violencia y penurias que sufren a diario\, sueñan con un futuro mejor. Un día\, un gesto espontáneo hace que sus vidas den un giro irrevocable. Esta película de animación para adultos está basada en el best seller de Yasmina Khadra. \n  \nViernes 8 de julio \n18:00 horas | El lienzo de Jean-François Laguionie \nPelícula familiar \nPelícula fantástica que narra la historia de de tres tipos de personajes que viven dentro de un cuadro incompleto y que pertenecen a una clase social distinta. Los Toupins\, que han sido pintados totalmente; los Pafins\, que poseen varios colores y los Reufs\, que son sólo trazos. Esto causa que los primeros sean superiores a los últimos. Por ello\, Ramo\, Lola y Plume\, son tres jóvenes que deciden conseguir que el pintor acabe el cuadro con el objetivo de que la armonía vuelva a reinar entre todos. La película de animación ha sido dirigida por Jean-François Laguionie (Gwen\, le livre de sable\, Le château des singes). \n19:45 horas | Louise en invierno de Jean-François Laguionie\n \nPúblico adulto \n \nLouise se queda sola\, ha llegado el final del verano y el tren de la temporada acaba de marcharse\, esta vez sin ella. Biligen\, la ciudad donde vive\, se queda desierta y el temporal cada vez es más fuerte. El pueblo se queda sin electricidad y completamente aislado sin ningún medio de comunicación. Louise deberá superar el invierno más duro de su vida y enfrentarse a la soledad y a los recuerdos de toda su vida\, que la invaden por momentos. \n  \nSábado 9 de julio \n18:00 horas | El viaje del príncipe de Jean-François Laguionie\n \nPelícula familiar \n \nUn viejo mono\, Prince\, se despierta un día en un lugar desconocido. Herido y perdido\, conoce a un joven de 12 años llamado Tom\, que rápidamente le lleva ante sus padres. Curiosamente\, sus progenitores son dos científicos que fueron expulsados de su comunidad por defender una teoría que probaba la existencia de otras dimensiones en la que existía una civilización de primates. Con la ayuda de Tom\, Prince descubre una sociedad que nunca deja de sorprenderle\, mientras que sus nuevos padres adoptivos le emplean como prueba de que sus teorías eran correctas. \n  \nDomingo 10 de julio \n18:00 horas | Calamity de Rémi Chayé\n \nPelícula familiar \n \nEn 1863\, Martha Janes debe aprender cómo manejar a los caballos de un carruaje para poder así participar en un convoy que transita por el oeste de los Estados Unidos. Un día decide ponerse pantalones y cortarse el pelo\, generando así una enorme polémica que sacará a relucir su verdadero carácter ante las innumerables dificultades que se se presentan en un mundo tan grande como salvaje y en el que todo es posible. \n19:45 horas | Funan de Denis Do\n \nPúblico adulto \n \nCamboya\, 1975. Chou lleva una vida tranquila en Phnom Penh hasta que una mañana la guerrilla de los Jemeres rojos sumerge al país en el horror. La población es deportada a los campos y en el camino Chou y su familia sufren la desaparición de su hijo pequeño. \n  \n 
URL:https://alianzafrancesa.org.gt/evento/francianimada/
LOCATION:Alianza Francesa de Guatemala\, 5ta calle 10-55 Finca La Aurora zona 13\, Guatemala\, Guatemala\, 01013\, Guatemala
CATEGORIES:Agenda,Cine,Cinéma
ATTACH;FMTTYPE=image/png:https://alianzafrancesa.org.gt/wp-content/uploads/2022/07/francianimada-3-min-scaled.png
ORGANIZER;CN="Alianza Francesa de Guatemala":MAILTO:info@alianzafrancesa.org.gt
END:VEVENT
BEGIN:VEVENT
DTSTART;TZID=America/Guatemala:20220712T090000
DTEND;TZID=America/Guatemala:20220827T170000
DTSTAMP:20260422T214923
CREATED:20220725T175022Z
LAST-MODIFIED:20220728T211159Z
UID:7355-1657616400-1661619600@alianzafrancesa.org.gt
SUMMARY:Mes sin plástico
DESCRIPTION:Concurso\nEste concurso forma parte del ciclo “Estar vivo\, ser consciente” de la Alianza Francesa de Guatemala\, poniendo en valor las acciones ciudadanas eco-responsables. \nEste mes de julio\, para celebrar el día internacional sin bolsa plástico y más en general para luchar contra la contaminación de los lugares naturales de Guatemala por el plástico\, la Alianza Francesa de Guatemala empieza un concurso de recolección y reciclaje de desechos plásticos que durará hasta el fin de agosto. \nEl objetivo es llenar la estructura en forma de gallo reciclando los desechos plásticos y limpiar las calles y los lugares naturales retirando el plástico y tirar la basura al buen lugar. \nTodo el mundo puede participar en el concurso del «Mes sin Plástico» que consiste en poner en valor los que reciclen los desechos plásticos. Por eso\, simplemente hay que recoger y tirar los desechos en plástico en la estructura de gallo\, cada vez pesando lo que traen con la balanza puesta a disposición. Este concurso durará hasta el fin del mes de agosto\, los 5 participantes que tengan el peso total máximo ganarán los premios de la Muniguate. \nCon el código QR y el enlace siguiente https://forms.gle/d7iKtrdjUgrouYVw6 puedes enviar la prueba de depósito de los desechos para el concurso\, cada vez que traiga desechos para tirarlos en la estructura de gallo. Este proyecto está a continuación del proceso de conversión de la Alianza Francesa de Guatemala en una Alianza Verde. \n \nAyúdanos proteger la naturaleza\, ponte de verde con nosotros.\nHorarios aconsejables para depositar sus desechos:\nMartes a Domingo: de las 9 am a las 5 pm. \nEste proyecto estará acompañado de una velada de Cine al aire libre en el jardín de la Alianza Francesa de Guatemala que contará con dos cortometrajes y una película. \n  \nCine al aire libre\n \nCortometraje «La noche de los sacos plásticos»\n29/07/2022 │ 7:45 pm │ Jardín de la AFG\nENTRADA LIBRE\nDuración\, 9 minutos \nAgathe\, de treinta y nueve años\, tiene una sola obsesión: tener un hijo. Encontrará a su ex\, Marc-Antoine\, que mezcla techno en las Calanques de Marsella. Mientras ella trata de convencerlo de que vuelvan a estar juntos\, las bolsas de plástico cobran vida y atacan la ciudad. \n  \n \nCortometraje «Plástico y vidrio»\n29/07/2022 │ 8:05 pm │ Jardín de la AFG\nENTRADA LIBRE\nDuración\, 18 minutos \nEn una fábrica de reciclaje en el norte de Francia\, los trabajadores se juntan para cantar\, y hasta los camiones se les unen y hacen casi un ballet. Desde el funcionamiento de las prodigiosas máquinas hasta el trabajo manual de clasificación\, la película muestra el proceso de reciclaje y el ruido que acompaña al\ntrabajo se convierte en cadencia. El sonido de la fábrica se convierte en un ritmo constante y un camionero comienza a cantarle una canción a su amada. Quiere construir una isla con los objetos encontrados\, donde puedan estar juntos. \n  \n \nPelícula «Rojo»\n29/07/2022 │ Hora: 8:15 pm │ Jardín de la AFG\nENTRADA LIBRE\nDuración\, 1h28 \nUna enfermera intenta ayudar a una periodista a denunciar la fuga de residuos tóxicos de una\nplanta química. Recién contratada como enfermera en una fábrica de químicos\, Nour descubre los apaños\nentre la dirección y su padre\, Slimane\, el representante del personal. Mentiras sobre\ndescargas de contaminantes\, enfermedades de empleados\, accidentes tapados… Poco a poco\,\nNour va renunciando a aceptar los compromisos de su padre para preservar la imagen de la empresa. \n  \nTalleres\, ceremonia y película\nEl 27 de agosto se llevarán acabo una serie de talleres de educación ambiental en conjunto con la Muniguate\, luego tendremos una ceremonia de entrega de premios de las personas que más plástico depositaron durante estos dos meses y una película para cerrar. \n4:00 pm: taller sobre el reciclaje.\n4:30 pm: taller sobre la reforestación “Adopta un árbol”.\n5:00 pm: taller sobre los huertos urbanos.\n6:00 pm: entrega de los premios.\n7:30 pm: proyección de la película “Sueños de juventud”. \n \nPelícula «Sueños de juventud»\n27/08/2022 │ Hora: 7:30 pm\nENTRADA LIBRE\nDuración\, 1h32 \nSalomé consigue un trabajo de verano en un basurero del pueblo. Bajo un sol occidental\, en este lugar fuera de este mundo\, su adolescencia rebelde la alcanza. De encuentros inesperados en penas compartidas\, surge la promesa de una nueva vida. \n¡TE ESPERAMOS!
URL:https://alianzafrancesa.org.gt/evento/mes-sin-plastico/
LOCATION:Alianza Francesa – Ciudad de Guatemala\, 5a. Calle 10-55 Zona 13 - Finca La Aurora\, Ciudad de Guatemala\, Guatemala
CATEGORIES:Agenda
ATTACH;FMTTYPE=image/png:https://alianzafrancesa.org.gt/wp-content/uploads/2022/07/banner1.png
ORGANIZER;CN="Alianza Francesa de Guatemala":MAILTO:info@alianzafrancesa.org.gt
END:VEVENT
BEGIN:VEVENT
DTSTART;TZID=America/Guatemala:20220727T180000
DTEND;TZID=America/Guatemala:20220727T220000
DTSTAMP:20260422T214923
CREATED:20220725T184100Z
LAST-MODIFIED:20220728T211130Z
UID:7372-1658944800-1658959200@alianzafrancesa.org.gt
SUMMARY:Masterclass Jam Session
DESCRIPTION:Festival Guatejazz \nLa fundación Amigos del Arte FUNDADELA\, tiene el gusto de presentar el Jam Session y concierto de Imox Jazz\, dentro del marco del Festival GuateJazz 2022. Este evento está dirigido a al publico amante del jazz y los músicos que se quieran unir a tocar con la banda base. \n  \nMaster class\n \nLa Universidad Da Vinci de Guatemala y los docentes de la Facultad de Música y Artes Visuales\, presentan la master class «Hip Hop y Jazz\, mezcla de armonías y beats»\, en la cual se abordarán aspectos teóricos y prácticos sobre la fusión entre el jazz y el hip hop. Se detallarán aspectos relevantes a la búsqueda y la exploración en estos géneros\, desde la composición y la interpretación de temas influenciados por la fusión del jazz y el hip hop\, dos géneros que están estrechamente relacionados y comparten un trasfondo social de gran relevancia en la historia de Estados Unidos de Norte América.\n¡Ven a ser parte de esta sesión de aprendizaje! \nENTRADA GRATUITA\nFecha: 27/07/2022\nHorario: 6:00 a 7:45 pm\nLugar: Mediateca de la AFGT \nJam Session\n \nImox Jazz será la banda anfitriona en el último Jam Session del Festival GuateJazz\, evento que se llevará a cabo el miércoles 27 de julio a las 20:00 en el jardín de la Alianza Francesa de Guatemala. Este evento comenzará con un concierto del cuarteto anfitrión\, para luego darle paso al Jam Session\, el cual reunirá a músicos de distintas disciplinas y géneros musicales\, para compartir el escenario con temas tradicionales del repertorio de estándar de jazz\, así como las nuevas propuestas del Neo Soul y la fusión entre el jazz y el\nHip Hop. \nENTRADA GRATUITA\nConcierto de jazz\nBanda: Imox\nFecha: 27/07/2022\nHorario: 8:00 a 10:00 pm\nLugar: jardín de la AFGT \n  \n  \n 
URL:https://alianzafrancesa.org.gt/evento/masterclass-jam-session/
LOCATION:Alianza Francesa – Ciudad de Guatemala\, 5a. Calle 10-55 Zona 13 - Finca La Aurora\, Ciudad de Guatemala\, Guatemala
CATEGORIES:Agenda,Música,Musique
END:VEVENT
BEGIN:VEVENT
DTSTART;TZID=America/Guatemala:20220730T180000
DTEND;TZID=America/Guatemala:20220730T194500
DTSTAMP:20260422T214923
CREATED:20220725T183043Z
LAST-MODIFIED:20220728T211027Z
UID:7369-1659204000-1659210300@alianzafrancesa.org.gt
SUMMARY:Asimov
DESCRIPTION:30/07/2022 │ 6:00 a 7:45 pm \nAsimov es un proyecto musical que mezcla el shoegazing con diversos géneros como el post-rock\, post-punk y dreampop. La banda esta integrada por Pilar Angel (Guitarra y voz)\, Luz Reynoso (Batería)\, Luis Pablo Pérez (Guitarra y voz)\, Leonel Campos (Bajo). \nAsimov es un proyecto musical que mezcla el shoegazing con diversos géneros como el post-rock\, post-punk y dreampop. El proyecto inicia a principios del 2015\, pero sufre algunos cambios\, tanto de integrantes como de visión y sonido. Desde el 2018 consolida su formación\, la cual ha mantenido hasta la actualidad. \nA finales del 2019 lanzan su primer material discográfico de alta duración llamado “Todo Lo Que Buscamos es Desaparecer”\, el cuál cuenta con 7 temas que evocan nostalgia y melancolía a través de sonidos reverberantes y melodías dulces.\nEl lanzamiento de éste LP significó un punto de inflexión en la banda\, alcanzando más de 50\,000 reproducciones en su primer mes de lanzamiento en Spotify. \n  \nLugar: jardín de la AFG (5ta calle 10-55 zona 13\, frente al Museo de los Niños) \nPrecios: \n– Q125.00 en preventa (hasta 29 de julio). \n– Día del evento Q150.00 (en taquilla). \nEnlace de preventas: \nforms.gle/9XJkrXZhajsoSv6G
URL:https://alianzafrancesa.org.gt/evento/asimov/
LOCATION:Alianza Francesa – Ciudad de Guatemala\, 5a. Calle 10-55 Zona 13 - Finca La Aurora\, Ciudad de Guatemala\, Guatemala
CATEGORIES:Agenda,Música,Musique
ATTACH;FMTTYPE=image/png:https://alianzafrancesa.org.gt/wp-content/uploads/2022/07/banner_fb-min4.png
END:VEVENT
END:VCALENDAR