BEGIN:VCALENDAR
VERSION:2.0
PRODID:-//Alianza Francesa Guatemala - ECPv6.15.20//NONSGML v1.0//EN
CALSCALE:GREGORIAN
METHOD:PUBLISH
X-ORIGINAL-URL:https://alianzafrancesa.org.gt
X-WR-CALDESC:Eventos para Alianza Francesa Guatemala
REFRESH-INTERVAL;VALUE=DURATION:PT1H
X-Robots-Tag:noindex
X-PUBLISHED-TTL:PT1H
BEGIN:VTIMEZONE
TZID:America/Guatemala
BEGIN:STANDARD
TZOFFSETFROM:-0600
TZOFFSETTO:-0600
TZNAME:CST
DTSTART:20220101T000000
END:STANDARD
END:VTIMEZONE
BEGIN:VEVENT
DTSTART;TZID=America/Guatemala:20230201T194500
DTEND;TZID=America/Guatemala:20230201T213000
DTSTAMP:20260422T120128
CREATED:20230201T221523Z
LAST-MODIFIED:20230201T222019Z
UID:8024-1675280700-1675287000@alianzafrancesa.org.gt
SUMMARY:Cine al aire libre - Petite nature
DESCRIPTION:DELICADO\n2021 – 1 hour 33 mn – Long métrage \nDirector: Samuel Theis \n \nJohnny tiene diez años. A pesar de su corta edad\, solo le interesan los asuntos de los mayores. En su modesto barrio de Lorena\, Johnny observa con curiosidad la agitada vida sentimental de su joven madre. Este año ha entrado en la clase del Profesor Adamski\, un joven docente que cree en él y que le abrirá las puertas de un nuevo mundo. \nDelicado nos propone compartir la mirada de Johnny\, un niño de 10 años que ve en su nuevo profesor la posibilidad de cambiar una vida con pocas perspectivas. Vemos con emoción cómo su libertad se genera en ambigüidad y vergüenza\, para acabar realizándose. Después de Party Girl\, Samuel Theis vuelve a Forbach para ofrecer una película poética\, dulce y con un punto de vista definitivamente político sobre la etapa que precede a la adolescencia. \n \n????️ Fecha: miércoles 01/02/2023\n⏲️ Hora: 19:45\n???? Lugar: Alianza Francesa de Guatemala\n???? Dirección: 5a calle 10-55\, zona 13\, frente al Museo de los Niños.\n???? ENTRADA GRATUITA\n???? PARQUEO GRATUITO (SEGÚN DISPONIBILIDAD) \n¡Te esperamos! \n#Alianzafrancesagt #franciaenguate #cultura #idiomaycultura
URL:https://alianzafrancesa.org.gt/evento/cine-al-aire-libre-petite-nature/
LOCATION:Alianza Francesa – Ciudad de Guatemala\, 5a. Calle 10-55 Zona 13 - Finca La Aurora\, Ciudad de Guatemala\, Guatemala
CATEGORIES:Agenda,Cine,Cinéma
ORGANIZER;CN="Alianza Francesa de Guatemala":MAILTO:info@alianzafrancesa.org.gt
END:VEVENT
BEGIN:VEVENT
DTSTART;TZID=America/Guatemala:20230203T194500
DTEND;TZID=America/Guatemala:20230203T210000
DTSTAMP:20260422T120128
CREATED:20230201T225321Z
LAST-MODIFIED:20230201T232143Z
UID:8028-1675453500-1675458000@alianzafrancesa.org.gt
SUMMARY:Cine al aire - Les magnetiques
DESCRIPTION:LOS MAGNÉTICOS\n2021 – 1 hour 48 mn \nDirector: Vincent Maël Cardona \n \nUna pequeña ciudad del interior de Francia\, a comienzos de los años 80. Philippe vive bajo la sombra de su hermano\, Jérôme\, la oveja negra de la pandilla. Entre la radio pirata\, el taller del padre y la amenaza del servicio militar\, no son conscientes de que están viviendo los últimos momentos de un mundo a punto de desaparecer. \nEl nacimiento de las radios independientes\, la llegada de la izquierda al poder en Francia\, los primeros años de la década de los 80: es el escenario de la vida de dos hermanos que sueñan con cambiar el mundo. Gracias a una osada puesta en escena\, a un notable uso del sonido y a la interpretación de Timothée Robart\, esta ópera prima refleja toda la complejidad de su época\, entre la desilusión política y la energía liberadora del rock and roll. \n2021: Premios César: Mejor ópera prima \n \n????️ Fecha: viernes 03/02/2023\n⏲️ Hora: 19:45\n???? Lugar: Alianza Francesa de Guatemala\n???? Dirección: 5a calle 10-55\, zona 13\, frente al Museo de los Niños.\n???? ENTRADA GRATUITA\n???? PARQUEO GRATUITO (SEGÚN DISPONIBILIDAD) \n¡Te esperamos! \n#Alianzafrancesagt #franciaenguate #cultura #idiomaycultura
URL:https://alianzafrancesa.org.gt/evento/cine-al-aire-les-magnetiques/
LOCATION:Alianza Francesa de Guatemala\, 5ta calle 10-55 Finca La Aurora zona 13\, Guatemala\, Guatemala\, 01013\, Guatemala
CATEGORIES:Agenda,Cine,Cinéma
ORGANIZER;CN="Alianza Francesa de Guatemala":MAILTO:info@alianzafrancesa.org.gt
END:VEVENT
BEGIN:VEVENT
DTSTART;TZID=America/Guatemala:20230208T194500
DTEND;TZID=America/Guatemala:20230208T213000
DTSTAMP:20260422T120129
CREATED:20230203T173850Z
LAST-MODIFIED:20230203T181133Z
UID:8034-1675885500-1675891800@alianzafrancesa.org.gt
SUMMARY:Cine al aire libre - Une histoire d'amour et de désir
DESCRIPTION:UNA HISTORIA DE AMOR Y DE DESEO\n2020 – 1 hour 42 mn\nDirector: Leila Bouzid \n \n  \nAhmed tiene 18 años\, es francés de origen argelino y ha crecido en los suburbios de París. En la facultad conoce a Farah\, una chica llena de vida que acaba de llegar de Túnez. Ahmed se enamora perdidamente\, al mismo tiempo que descubre todo un corpus de literatura árabe sensual y érótica\, cuya existencia ignoraba. Aunque literalmente sumergido por el deseo\, Ahmed intentará resistirse. \nA modo de una verdadera educación sentimental\, Una historia de amor y de deseo es sobre todo el relato sensible del despertar de Ahmed a la sensualidad. En este fascinante segundo largometraje\, interpretado de manera brillante por la pareja de jóvenes actores formada por Zbeida Belhajamor y Sami Outalbali\, Leyla Bouzid reúne los sentidos en este sutil relato iniciático en el que se redefinen acertadamente las palabras de su título y su dualidad. \n \n???? Fecha: miércoles 08/02/2023\n⏲ Hora: 19:45\n???? Lugar: Alianza Francesa de Guatemala\n???? Dirección: 5a calle 10-55\, zona 13\, frente al Museo de los Niños.\n???? ENTRADA GRATUITA\n???? PARQUEO GRATUITO (SEGÚN DISPONIBILIDAD) \n¡Te esperamos! \n#Alianzafrancesagt #franciaenguate #cultura #idiomaycultura
URL:https://alianzafrancesa.org.gt/evento/cine-al-aire-libre-une-histoire-damour-et-de-desir/
LOCATION:Alianza Francesa de Guatemala\, 5ta calle 10-55 Finca La Aurora zona 13\, Guatemala\, Guatemala\, 01013\, Guatemala
CATEGORIES:Agenda,Cine,Cinéma
ATTACH;FMTTYPE=image/jpeg:https://alianzafrancesa.org.gt/wp-content/uploads/2023/02/UHAD_PHOTOGRAMME_00116230_éclaircie-scaled.jpg
ORGANIZER;CN="Alianza Francesa de Guatemala":MAILTO:info@alianzafrancesa.org.gt
END:VEVENT
BEGIN:VEVENT
DTSTART;TZID=America/Guatemala:20230210T194500
DTEND;TZID=America/Guatemala:20230210T194500
DTSTAMP:20260422T120129
CREATED:20230203T183741Z
LAST-MODIFIED:20230209T173905Z
UID:8042-1676058300-1676058300@alianzafrancesa.org.gt
SUMMARY:Cine al aire libre - Orange sanguine
DESCRIPTION:NARANJAS SANGRIENTAS\n2021 – 1 hour 52 mn\nDirector: Jean-Christophe Meurisse \n \n**CUIDADO: Esta película contiene\nimágenes que pueden herir la sensibilidad de los espectadores\, sobre todo del público joven. Dirigida a un público informado y a partir de los 16 años. ** \nAl mismo tiempo\, en Francia\, una pareja de jubilados endeudados intenta ganar un concurso de rock and roll\, se sospecha de un ministro por evasión de impuestos\, una joven adolescente se cruza con un maníaco sexual. Empieza una larga noche. Han soltado los perros. \nEn su segundo largometraje\, Jean-Christophe Meurisse utiliza varios géneros para reflejar los monstruos de nuestra sociedad contemporánea\, en una comedia negra y agria. Una sátira\, tan libre como irrespetuosa\, sobre los mecanismos del poder. \n \n  \n???? Fecha: viernes 10/02/2023\n⏲ Hora: 19:45\n???? Lugar: Alianza Francesa de Guatemala\n???? Dirección: 5a calle 10-55\, zona 13\, frente al Museo de los Niños.\n???? ENTRADA GRATUITA\n???? PARQUEO GRATUITO (SEGÚN DISPONIBILIDAD) \n¡Te esperamos! \n#Alianzafrancesagt #franciaenguate #cultura #idiomaycultura
URL:https://alianzafrancesa.org.gt/evento/cine-al-aire-libre-orange-sanguine/
LOCATION:Alianza Francesa de Guatemala\, 5ta calle 10-55 Finca La Aurora zona 13\, Guatemala\, Guatemala\, 01013\, Guatemala
CATEGORIES:Agenda,Cine,Cinéma
ATTACH;FMTTYPE=image/jpeg:https://alianzafrancesa.org.gt/wp-content/uploads/2023/02/oranges-sanguines4.jpg
ORGANIZER;CN="Alianza Francesa de Guatemala":MAILTO:info@alianzafrancesa.org.gt
END:VEVENT
BEGIN:VEVENT
DTSTART;TZID=America/Guatemala:20230215T190000
DTEND;TZID=America/Guatemala:20230215T210000
DTSTAMP:20260422T120129
CREATED:20230215T192212Z
LAST-MODIFIED:20230215T192212Z
UID:8080-1676487600-1676494800@alianzafrancesa.org.gt
SUMMARY:Guitarra para todos
DESCRIPTION:Por amor a la guitarra \n\nTe invitamos a una noche inolvidable de guitarra acústica con músicos de excelencia. Este concierto reúne a tres guitarristas talentosos que harán vibrar tus sentidos con sus melodías suaves y el sonido cálido de la guitarra acústica. Noah Shelley\, Roberto Monroy y David Franco se unen para ofrecerte una experiencia musical única e inolvidable. Cada uno de ellos tiene un estilo distinto y ha cosechado un éxito impresionante en el mundo de la música. \n  \nGuitarrista estelar: \nNoah Shelley es un guitarrista guatemalteco de gran talento e inspiración musical. Inicio de manera autodidacta sus estudios musicales\, pero al darse cuenta de la necesidad de tomar clases\, se pone en manos de dos maestros internacionales de gran renombre. \nNoah ha tocado en diversos escenarios tanto en la capital como en el interior de la república. \nEs ganador del 3.º lugar en el 1.º Concurso de Guitarra para TODOS\, en 2022. \nActualmente\, es profesor de guitarra\, de inglés\, se dedica al buceo libre y es parte del staff permanente del programa Guitarra para TODOS. \n  \nEl recital “Por amor a la guitarra” presentará a Roberto Monroy\, David Franco y Noah Shelley\, 3 destacados guitarristas guatemaltecos que se caracterizan por su forma de tocar. Imprimen sentimiento a las obras que interpretan y cautivan al público con las melodías de sus guitarras. Tocarán individualmente obras de los grandes compositores de la guitarra clásica. \n  \n \nFecha: miércoles\, 15 de febrero \nHora: 19:00 \nLugar: jardín de AFGT \nEntrada gratuita \nParqueo gratuito
URL:https://alianzafrancesa.org.gt/evento/guitarra-para-todos-2/
LOCATION:Alianza Francesa – Ciudad de Guatemala\, 5a. Calle 10-55 Zona 13 - Finca La Aurora\, Ciudad de Guatemala\, Guatemala
CATEGORIES:Agenda,Música,Musique
ATTACH;FMTTYPE=image/png:https://alianzafrancesa.org.gt/wp-content/uploads/2023/02/banner-1.png
ORGANIZER;CN="Alianza Francesa de Guatemala":MAILTO:info@alianzafrancesa.org.gt
END:VEVENT
BEGIN:VEVENT
DTSTART;TZID=America/Guatemala:20230218T181500
DTEND;TZID=America/Guatemala:20230218T223000
DTSTAMP:20260422T120129
CREATED:20230215T190630Z
LAST-MODIFIED:20230215T191526Z
UID:8071-1676744100-1676759400@alianzafrancesa.org.gt
SUMMARY:Noche de cine de la amistad franco-alemana
DESCRIPTION:Es un placer invitarles a una noche especial de cine al aire libre en celebración de la amistad franco-alemana. Con motivo del aniversario del Tratado de los Elyseos\, queremos unirnos para celebrar la unión y la colaboración entre Francia y Alemania. \nEl evento tendrá lugar en el jardín de la AFGT\, habrá proyección de una película francesa y alemana que destacan la amistad y la diversidad cultural. Habrá comida y bebidas para disfrutar mientras disfrutan de las películas. \n \nLas cosas que decimos\, las cosas que hacemos\nUna película de Emmanuel Mouret\nDaphné\, embarazada de tres meses y de vacaciones en el campo\, acoge como huésped a Maxime\, primo de su pareja\, François\, que ha tenido que volver a París para cubrir a un compañero hospitalizado. Durante cuatro días\, esperando el regreso de François\, Daphné y Maxime se van conociendo y desarrollando cierta amistad\, contándose sus respectivas experiencias sentimentales. \nAño: 2020 \nDuración: 2h02min \nGénero: Drama romántico \n \n  \n \nRelaciones imposibles\nUna película de Helena Hufnagel\nTim (Frederick Lau) se cree el Don Juan por excelencia. El soltero sale con una mujer tras otra\, sólo para dejar de contactarla cuando se pone demasiado serio o se aburre. No es el único con esta actitud; después de todo\, muchos otros de su generación piensan lo mismo. No les gusta estar en una relación – algunos de ellos tienen demasiado miedo a comprometerse. Sin embargo\, este carrusel de citas sólo le va bien al soltero a tiempo completo hasta que conoce a Ghost (Luise Heyer). A ella tampoco le gusta mucho el concepto de un compromiso serio\, pero ahora es Tim quien quiere más. Después de una cita\, es víctima de todos los trucos del libro. A la chica independiente no le gusta nada el Tim romántico… \nAño: 2021 \nDuración: 1h24min \nGénero: Comedia romántica \n \n  \n  \nFecha: sábado\, 18 de febrero 2023 \n18:15 Inauguración \n18:30 Proyección\, Las cosas que decimos\, las cosas que hacemos \n20:30 Proyección\, Relaciones imposibles \nEntrada gratuita \nParqueo gratuito \nLugar: jardín de la AFGT
URL:https://alianzafrancesa.org.gt/evento/noche-de-cine-de-la-amistad-franco-alemana/
LOCATION:Alianza Francesa de Guatemala\, 5ta calle 10-55 Finca La Aurora zona 13\, Guatemala\, Guatemala\, 01013\, Guatemala
CATEGORIES:Agenda,Cine,Cinéma,Otros
ATTACH;FMTTYPE=image/jpeg:https://alianzafrancesa.org.gt/wp-content/uploads/2023/02/banner_evento-min-1.jpg
ORGANIZER;CN="Alianza Francesa de Guatemala":MAILTO:info@alianzafrancesa.org.gt
END:VEVENT
BEGIN:VEVENT
DTSTART;TZID=America/Guatemala:20230221T190000
DTEND;TZID=America/Guatemala:20230221T213000
DTSTAMP:20260422T120129
CREATED:20230203T184300Z
LAST-MODIFIED:20230216T223950Z
UID:8047-1677006000-1677015000@alianzafrancesa.org.gt
SUMMARY:Conferencia El Holocausto por Balas un modelo de crimen de masas en la actualidad por Patrick Desbois
DESCRIPTION:Padre Patrick Desbois es un sacerdote católico francés\, quien cuenta con una larga trayectoria en su misión como religioso. De 1999 a 2016 fue nombrado Secretario General de la Conferencia Episcopal Francesa para la relación con la Comunidad Judía. Además\, funge como asesor del Vaticano sobre las relaciones con el judaísmo. Padre Patrick\, es nieto de un prisionero francés de la Segunda Guerra Mundial que permaneció en el campamento de Rawa Ruska en la frontera entre Polonia y Ucrania. \nEn el año 2004\, une fuerzas con miembros de la Comunidad Católica y Judía francesa y funda Yahad In-Unum (Que significa “Juntos en Uno” en hebreo y latin). El propósito de la organización es fomentar las relaciones entre católicos y judíos. Su más grande y ambiciosa iniciativa es localizar los lugares donde se realizaron ejecuciones masivas de judíos y gitanos en Europa del Este durante la segunda Guerra Mundial. \nAsí mismo\, debemos destacar que es el Presidente fundador de la organización que se dedica a investigar y documentar no solo sobre el Holocausto\, sino también otros Genocidios y crímenes de lesa humanidad. \nEl trabajo tan humanitario del Padre Patrick Desbois\, ha sido reconocido\, alentado y apoyado por presidentes de Francia\, Europa y Estados Unidos. Su trabajo y causa lo ha llevado a ser reconocido internacionalmente y ha obtenido por sus extraordinarios esfuerzos numerosos premios y reconocimientos. \n \n????️ Conferencia en francés y español \n???? Fecha: martes 21/02/2023\n⏲ Hora: 19:00\n???? Lugar: jardín de Alianza Francesa de Guatemala\n???? Dirección: 5a calle 10-55\, zona 13\, frente al Museo de los Niños.\n???? ENTRADA GRATUITA\n???? PARQUEO GRATUITO (SEGÚN DISPONIBILIDAD) \n¡Te esperamos! \n#Alianzafrancesagt #franciaenguate #cultura #idiomaycultura
URL:https://alianzafrancesa.org.gt/evento/presentation-livre-patrick-desbois/
LOCATION:Alianza Francesa de Guatemala\, 5ta calle 10-55 Finca La Aurora zona 13\, Guatemala\, Guatemala\, 01013\, Guatemala
CATEGORIES:Agenda,Literatura,Littérature
ATTACH;FMTTYPE=image/jpeg:https://alianzafrancesa.org.gt/wp-content/uploads/2023/02/banner-min2.jpg
ORGANIZER;CN="Alianza Francesa de Guatemala":MAILTO:info@alianzafrancesa.org.gt
END:VEVENT
BEGIN:VEVENT
DTSTART;TZID=America/Guatemala:20230225T194500
DTEND;TZID=America/Guatemala:20230225T213000
DTSTAMP:20260422T120129
CREATED:20230215T192756Z
LAST-MODIFIED:20230216T222655Z
UID:8088-1677354300-1677360600@alianzafrancesa.org.gt
SUMMARY:Dualidad
DESCRIPTION:Un espectáculo de improvisación teatral basado en las pasiones y aversiones \nEs un espectáculo de improvisación teatral de formato largo donde se crean dos historias independientes\, una historia es inspirada en las pasiones del público y la segunda historia es creada a partir de las aversiones del público. Estas dos historias convergen en determinado momento del espectáculo para unir los dos universos creados o continuar el desarrollo de los universos de forma independiente. \nEn este espectáculo transgredimos el espacio convencional escénico\, las y los espectadores verán las historias 360 grados. Todo se crea en el momento\, haciendo de esta\, una obra única e irrepetible. \n  \n \nXoshil Rose\, actriz\, improvisadora y tallerista guatemalteca. Es egresada de la universidad el bosque de Bogotá Colombia\, con dos diplomados en improvisación teatral y pensum cerrado en la licenciatura en arte dramático USAC. Ha trabajado con compañías y en festivales nacionales e internacionales en Guatemala\, Colombia\, New York. Honduras\, Nicaragua\, entre otros. \nTambién ha facilitado talleres para la juventud con la asociación feminista La Cuerda\, Prodessa y Maia – Impacto Infinito\, sobre teatro y escritura creativa de forma virtual con enfoque feminista\, e impartido talleres para adultos en varias partes de Guatemala\, Honduras y Colombia. \n  \nDiego Cazali\, improvisador con 11 años de experiencia. Ha trabajado con compañías como impronunciables\, República Comedia y Alquimia Escena (Guatemala)\, Comedia ES (El Salvador)\, Impromptu (Costa Rica). Es fundador y director de Salto al vacío. Ha participado dos años consecutivos en el festival centroamericano de comedia (El Salvador) (Stand up e Impro). En el encuentro internacional de match improvisación (Costa Rica)\, festival internacional de clown (Colombia). \nHa impartido talleres de improvisación en Guatemala para artistas locales\, jóvenes y empresas. Además\, ha sido productor de los espectáculos: Salto al vacío\, Los tejedores de historias\, Conexiones\, y Personajes. \nFecha: sábado\, 25 de febrero 2023 \nHora: 19:45 \nEntrada: Q65 en preventa\, Q80 el día del evento \nParqueo: gratuito \nLugar: galería de la AFGT
URL:https://alianzafrancesa.org.gt/evento/dualidad-2/
LOCATION:Alianza Francesa de Guatemala\, 5ta calle 10-55 Finca La Aurora zona 13\, Guatemala\, Guatemala\, 01013\, Guatemala
CATEGORIES:Agenda,Teatro,Théâtre
ATTACH;FMTTYPE=image/jpeg:https://alianzafrancesa.org.gt/wp-content/uploads/2023/02/banner-2-min.jpg
ORGANIZER;CN="Alianza Francesa de Guatemala":MAILTO:info@alianzafrancesa.org.gt
END:VEVENT
BEGIN:VEVENT
DTSTART;TZID=America/Guatemala:20230227T190000
DTEND;TZID=America/Guatemala:20230227T210000
DTSTAMP:20260422T120129
CREATED:20230216T173414Z
LAST-MODIFIED:20230216T173414Z
UID:8098-1677524400-1677531600@alianzafrancesa.org.gt
SUMMARY:Mujeres en primera línea de crímenes de violencia masiva en todo del Mundo
DESCRIPTION:Tras más de 12 años de investigación de campo sobre el Holocausto por balas y los crímenes contemporáneos de violencia masiva\, la exposición de Yahad-In Unum «Mujeres en primera línea de crímenes de violencia masiva en todo el mundo» pretende dar voz a las mujeres víctimas de la violencia masiva perpetrada en diversos países y continentes desde la Segunda Guerra Mundial hasta nuestros días. \n\nLa brutalidad infligida a las mujeres durante el genocidio y la violencia masiva\, en concreto\, guarda semejanzas de un conflicto a otro. Lamentablemente\, las experiencias individuales de las mujeres siguen sin hablarse ni estudiarse en la historiografía\, mientras que las mujeres son sistemáticamente el blanco de los autores de la violencia masiva\, humilladas en distintas formas\, violadas\, privadas de su maternidad\, esterilizadas y\, en ciertos casos\, esclavizadas. \n\nCon esta exposición se quiere sensibilizar y educar sobre la realidad que no ha quedado en la historia para las mujeres\, solamente ha innovado a otros tipos de violencia. \n  \nFecha: lunes\, 27 de febrero 2023 \nHora: 19:00 \nEntrada gratuita \nParqueo gratuito \nLugar: galería de la AFGT
URL:https://alianzafrancesa.org.gt/evento/mujeres-en-primera-linea-de-crimenes-de-violencia-masiva-en-todo-del-mundo/
LOCATION:Alianza Francesa de Guatemala\, 5ta calle 10-55 Finca La Aurora zona 13\, Guatemala\, Guatemala\, 01013\, Guatemala
CATEGORIES:Agenda,Exposición
ATTACH;FMTTYPE=image/jpeg:https://alianzafrancesa.org.gt/wp-content/uploads/2023/02/5.-Exposicion-1-scaled.jpg
ORGANIZER;CN="Alianza Francesa de Guatemala":MAILTO:info@alianzafrancesa.org.gt
END:VEVENT
END:VCALENDAR