BEGIN:VCALENDAR
VERSION:2.0
PRODID:-//Alianza Francesa Guatemala - ECPv6.15.20//NONSGML v1.0//EN
CALSCALE:GREGORIAN
METHOD:PUBLISH
X-ORIGINAL-URL:https://alianzafrancesa.org.gt
X-WR-CALDESC:Eventos para Alianza Francesa Guatemala
REFRESH-INTERVAL;VALUE=DURATION:PT1H
X-Robots-Tag:noindex
X-PUBLISHED-TTL:PT1H
BEGIN:VTIMEZONE
TZID:America/Guatemala
BEGIN:STANDARD
TZOFFSETFROM:-0600
TZOFFSETTO:-0600
TZNAME:CST
DTSTART:20220101T000000
END:STANDARD
END:VTIMEZONE
BEGIN:VEVENT
DTSTART;TZID=America/Guatemala:20230412T190000
DTEND;TZID=America/Guatemala:20230412T203000
DTSTAMP:20260422T092108
CREATED:20230410T193503Z
LAST-MODIFIED:20230410T221224Z
UID:8392-1681326000-1681331400@alianzafrancesa.org.gt
SUMMARY:Recital La Nueva Generación
DESCRIPTION:  \nTe invitamos a una noche inolvidable de guitarra acústica con músicos de excelencia organizada por Guitarra Para Todos. Este concierto reúne a tres guitarristas talentosos que harán vibrar tus sentidos con sus melodías suaves y el sonido cálido de la guitarra acústica. Dany Iquité\, Roberto Monroy y Erlyn Juárez se unen para ofrecerte una experiencia musical única e inolvidable. Cada uno de ellos tiene un estilo distinto y ha cosechado un éxito impresionante en el mundo de la música. \n  \n  \nDany Iquité\n \nEs un joven guitarrista con una gran trayectoria a nivel nacional e internacional. Posee una técnica muy refinada e interpreta obras de gran nivel musical. Estas son las obras que presentará el día del evento; Preludio en E – Manuel M. Ponce\, Una limosna por el amor de Dios – Agustín Pío Barrios\, Porro – Gentil Montaña\, Tonada por despedida – Juan Antonio Sánchez\, Jongo – Paulo Bellinati\, Danza de la paloma enamorada – Atahualpa Yupanqui\, Sones Guatemaltecos «Ixtía Chimalteca»\, «Mi palmarcito querido» y también estrenará su obra Achalalil. \n  \n  \nRoberto Monroy\n \nEs un guitarrista clásico por parte del Conservatorio Nacional de Música. Dedicado a la interpretación de la tradición guitarrista clásica europea y tocará algunas obras como: Divertimento Op.13\, no.1 y Estudio VI de Fernando Sor\, Vals en D. de Francisco Tárrega. \n  \n  \nErlyn Rubén Juárez Cutzal\n \nJoven guitarrista\, maestro\, compositor y productor musical de 23 años de edad con un amplio repertorio y conocimientos que nos deleita y expresan en sus interpretaciones. Durante su trayectoria ha producido varios proyectos discográficos como Antología entre cuerdas\, Otoño y Viento por los Lares. Durante la velada nos deleitará con estos temas; Vals venezolano – Raul Borges\, Pavana – F. Tarrega\, Minuett II. Bb – J.S Bach\, Río Polochic – Rodolfo Narciso Chavarria. \n\n  \n¡Te esperamos!\n????️ Fecha: miércoles 12/04/2023\n⏲️ Hora: 19:00\n???? Lugar: Alianza Francesa de Guatemala\n???? Dirección: 5a calle 10-55\, zona 13\, frente al Museo de los Niños.\n???? ENTRADA GRATUITA\n???? PARQUEO GRATUITO (SEGÚN DISPONIBILIDAD)
URL:https://alianzafrancesa.org.gt/evento/recital-de-guitarra-clasica/
LOCATION:Alianza Francesa de Guatemala\, 5ta calle 10-55 Finca La Aurora zona 13\, Guatemala\, Guatemala\, 01013\, Guatemala
CATEGORIES:Agenda,Música,Musique
ORGANIZER;CN="Alianza Francesa de Guatemala":MAILTO:info@alianzafrancesa.org.gt
END:VEVENT
BEGIN:VEVENT
DTSTART;TZID=America/Guatemala:20230415T103000
DTEND;TZID=America/Guatemala:20230415T120000
DTSTAMP:20260422T092108
CREATED:20230410T203917Z
LAST-MODIFIED:20230410T203917Z
UID:8407-1681554600-1681560000@alianzafrancesa.org.gt
SUMMARY:Hidroponía
DESCRIPTION:Cultivos sin Tierra\nEs una forma sencilla\, limpia y económica de la Agricultura Urbana que permite producir muchas plantas útiles a la familia especialmente hortalizas\, plantas medicinales y plantas ornamentales. \n\nEsta técnica ha sido posible debido a que se utilizan pequeños espacios de la vivienda\, aprovechando también materiales de desechos que de no ser utilizados serían contaminantes o refugio de plagas transmisoras de enfermedades. \nEl cultivo de las plantas por este método necesita poca agua y poco esfuerzo\, pero es muy dependiente de la voluntad\, la dedicación y constancia de las personas que la enseñan\, la promueven y la practican en sus casas. \nEstas tres cualidades humanas son el secreto para hacer de los cultivos sin tierra una oportunidad de alimentar mejor a la familia\, de ganar algún dinero extra dentro de la misma casa y demostrar que todas las personas\, independientemente de su capacidad económica\, pueden llegar a ser pequeños empresarios capaces de crecer en todos los sentidos. \n\nAntecedentes\nLos fundadores de la Hidroponía\, del griego Hydros\, agua y del latin ponos\, plantar\, trataban de identificar los alimentos que las plantas extraían del suelo\, para conseguirlo\, sumergían las plantas en bañeras\, disolviéndose de esta manera los nutrientes químicos artificiales. Actualmente\, resulta más eficaz cultivar hidropónicamente sobre algún sustrato estéril (sustituyente de la tierra) que facilite a las raíces acceder mejor al líquido nutriente. Entre los materiales utilizados se pueden citar\, arena de río\, aserrín\, gravilla\, lana mineral\, gránulos de plástico\, cascarilla de arroz y otros. \n\nLos cultivos hidropónicamente han sido utilizados en países desarrollados\, como China\, Inglaterra\, Japón\, Israel y otros\, con fines comerciales\, utilizando tecnología sofisticada\, con grandes instalaciones y complejos\, procesos de producción\, compensados con los altos rendimiento y calidad obtenidos. \nEn América Latina\, la Hidroponía ha sido reenfocada para ayudar a solventar los problemas de acceso y disponibilidad de alimentos sanos y frescos\, utilizando la Hidroponía Popular\, la que se origina de una serie de adaptaciones tecnológicas que permiten la utilización de materiales que se encuentran localmente o de algunos que se puedan reciclar. En países como Chile\, Colombia\, Costa Rica\, Nicaragua y El Salvador\, se han implementado proyectos de esta índole\, obteniéndose como resultado una mejor calidad de vida de las personas\, en su mayoría mujeres de las comunidades beneficiadas\, gracias al surgimiento de microempresas hidropónicas autosostenibles\, ya que sus productos son de igual o mejor calidad que los cultivos en tierra\, y pueden competir muy bien en un mercado local. \n\nEn Guatemala ya se han tenido experiencias trabajando con niños\, personas de la tercera edad y mujeres\, tanto en el área urbana como en el área rural. Los resultados obtenidos de estas experiencias han demostrado la viabilidad técnica para quela Hidroponía Popular pueda ser implementada como un Proyecto Productivo en Guatemala. \n  \nConferencia\nAngel Ignacio Godoy\, experto en cultivos hidropónicos\, dará una conferencia «Huertos familiares con Hidroponía» acompañada de la venta de libros de Hidroponía a precio especial. \n  \nFecha: sábado\, 15 de abril 2023 \nHora: 10:00 am \nLugar: galería de la AFGT \nEntrada gratuita \nParqueo gratuito
URL:https://alianzafrancesa.org.gt/evento/hidroponia/
LOCATION:Alianza Francesa de Guatemala\, 5ta calle 10-55 Finca La Aurora zona 13\, Guatemala\, Guatemala\, 01013\, Guatemala
CATEGORIES:Agenda,Conferencia,Otros
ATTACH;FMTTYPE=image/jpeg:https://alianzafrancesa.org.gt/wp-content/uploads/2023/04/banner-2-min51.jpg
ORGANIZER;CN="Alianza Francesa de Guatemala":MAILTO:info@alianzafrancesa.org.gt
END:VEVENT
BEGIN:VEVENT
DTSTART;TZID=America/Guatemala:20230421T190000
DTEND;TZID=America/Guatemala:20230421T235900
DTSTAMP:20260422T092108
CREATED:20230418T224333Z
LAST-MODIFIED:20230418T230208Z
UID:8423-1682103600-1682121540@alianzafrancesa.org.gt
SUMMARY:Zpu
DESCRIPTION:Juan Prieto Sánchez más conocido como ZPU es un MC\, escritor y poeta de rap en español. ​ Es reconocido por ser uno de los raperos más profundos y relevantes de la escena del hip hop de habla hispana. Es hermano de Soma\, uno de los productores musicales más laureados del rap español. \nEl Hombre de Oro presenta la gira más extensa hasta ahora en su carrera en el continente americano y lo hace con motivo de sus 25 años rapeando. \n  \n \n  \n \n  \nFecha: viernes\, 21 de abril 2023\nHora: 19:00\nLugar: jardín de la AFGT\nEntrada: Q300 preventa\, 375 taquilla\nParqueo gratuito
URL:https://alianzafrancesa.org.gt/evento/zpu/
LOCATION:Alianza Francesa – Ciudad de Guatemala\, 5a. Calle 10-55 Zona 13 - Finca La Aurora\, Ciudad de Guatemala\, Guatemala
CATEGORIES:Agenda,Música,Musique
ATTACH;FMTTYPE=image/jpeg:https://alianzafrancesa.org.gt/wp-content/uploads/2023/04/ZPU.jpeg
ORGANIZER;CN="Alianza Francesa de Guatemala":MAILTO:info@alianzafrancesa.org.gt
END:VEVENT
BEGIN:VEVENT
DTSTART;TZID=America/Guatemala:20230422T140000
DTEND;TZID=America/Guatemala:20230422T180000
DTSTAMP:20260422T092108
CREATED:20230418T224651Z
LAST-MODIFIED:20230419T221022Z
UID:8429-1682172000-1682186400@alianzafrancesa.org.gt
SUMMARY:IMA-FEST
DESCRIPTION:Fashion Revolution Week (FRW) es la campaña anual que reúne al mayor movimiento de activismo mundial de la moda durante siete días de actividades en torno al aniversario del colapso de la fábrica de Rana Plaza. \nEste año Fashion Revolution cumple 10 años y celebrará esa trayectoria compartiendo globalmente cada punto del manifiesto para una industria de la moda más justa y transparente. \n  \nLa moda nunca destruye o descarta innecesariamente\, sino que rediseña y recupera conscientemente de forma circular. Las prendas se reparan\, reutilizan\, reciclan y supra reciclan. \nEn el marco de Fashion Revolution Week se presentará el documental «Se abrió Paca»\, seguido de esto\, se hará un clothes swap. \n \nScreening Documental\nUna radiografía social\, política y ambiental del second-hand en un país en desarrollo. \nSe abrió Paca\, es un documental elaborado por el equipo de Fashion Revolution Guatemala con el fin de informar sobre el impacto real de la importación y consumo masivo de la ropa de post-consumo (Segunda mano\, Second-hand). Analiza el valor de una prenda\, no por el precio en la etiqueta; sino por el costo real de la mano de obra\, su impacto en nuestros recursos naturales y la urgente necesidad de reformar nuestras políticas ambientales y de tratamiento de desechos textiles. \n  \nSwap de Ropa\n¿Qué es un clothes swap?\nUn acto revolucionario que consiste en extender el uso de nuestras prendas mediante el intercambio. Los participantes llevan prendas valiosas\, pero que ya no usan con el fin de poder ofrecerlas a alguien más que si las vaya a utilizar y así extender la vida útil de la misma. \nFashion Revolution Guatemala se hace responsable que la ropa que no encuentre un \nsegundo hogar durante la actividad sea redirigida a otro proyecto de aspecto social. \nTrailer: https://youtu.be/90DhzVKtPEM \n \nFecha: sábado\, 22 de abril 2023\nAbrimos puertas: 14:00\nScreening “Se abrió paca” 15:30\nClothing Swap: 16:30\nBeats: 16:00 – 18:00\nLugar: Alianza Francesa de Guatemala\nDonación: Q20\nParqueo gratuito
URL:https://alianzafrancesa.org.gt/evento/ima-fest/
CATEGORIES:Agenda,Autres,Otros
ATTACH;FMTTYPE=image/jpeg:https://alianzafrancesa.org.gt/wp-content/uploads/2023/04/IMA-FEST.jpg
END:VEVENT
BEGIN:VEVENT
DTSTART;TZID=America/Guatemala:20230426T180000
DTEND;TZID=America/Guatemala:20230426T233000
DTSTAMP:20260422T092108
CREATED:20230419T213216Z
LAST-MODIFIED:20230419T215730Z
UID:8442-1682532000-1682551800@alianzafrancesa.org.gt
SUMMARY:Lanzamiento de la temporada cultural 2023
DESCRIPTION:La Alianza Francesa de Guatemala dará la bienvenida a la temporada cultural 2023 con una noche llena de actividades para venir entre amigos o en familia. El programa tendrá exposición\, película\, lectura y mucha música. \n  \n18:30 Exposición y Película | Acordarse del agua \nLa exposición busca evidenciar la amnesia ambiental y contribuir a la transmisión de la memoria del agua\, además de resaltar el papel del agua como un recurso que moldea nuestros referentes simbólicos y construye nuestra experiencia estética del mundo. \n  \n18:30 Lectura plurilingüe | El Principito \nComo prolongación de la exposición sobre el Principito\, se realizarán en la Mediateca de la Alianza Francesa de Guatemala lecturas en varios idiomas del Principito. Durante media hora\, se leerán algunos extractos en francés\, español y posiblemente en maya k’iche o kaqchikel. \n  \n19:00 Concierto | Aimin Etwal \nAimin Etwal deleitará con sonidos y rítmicas de varias partes del mundo. Canta a la esencia que nos hace humanos\, a nuestra conexión indivisible con la naturaleza y a la profunda ansia por la libertad y la autodeterminación\, expresándose con una particular poesía. \n  \n19:45 Concierto | Zacatio Malcriados \ngrupo percusión y voces\, fiesta y relajo. Todo tipo eventos\, Que Juy!! \n  \n21:00 Set | DJ Xango \nEl afrouhouse es un estilo musical que nos lleva a la polirritmia africana\, sus endiablados y sudorosos ritmos cruzados y esas percusiones hipnóticas\, profundas y frenéticas que tan bien se unen a los ritmos del house. \n  \n¡Durante la velada tendremos el Festival de Foodtrucks para que la experiencia sea la mejor! \n\nPatio Pizzería\nShotios\nDegustación por Cerveza El Zapote\n\n  \n \n  \nFecha: miércoles\, 26 de abril 2023 \nHora: a partir de las 18:00 \nEntrada gratuita \nParqueo gratuito \nLugar: AFGT
URL:https://alianzafrancesa.org.gt/evento/lanzamiento-de-la-temporada-cultural-2023/
LOCATION:Alianza Francesa de Guatemala\, 5ta calle 10-55 Finca La Aurora zona 13\, Guatemala\, Guatemala\, 01013\, Guatemala
CATEGORIES:Agenda,Cine,Cinéma,Danse,Música,Musique,Otros
ATTACH;FMTTYPE=image/jpeg:https://alianzafrancesa.org.gt/wp-content/uploads/2023/04/Lanzamiento.jpg
ORGANIZER;CN="Alianza Francesa de Guatemala":MAILTO:info@alianzafrancesa.org.gt
END:VEVENT
BEGIN:VEVENT
DTSTART;TZID=America/Guatemala:20230427T194500
DTEND;TZID=America/Guatemala:20230427T213000
DTSTAMP:20260422T092108
CREATED:20230419T214046Z
LAST-MODIFIED:20230426T154052Z
UID:8447-1682624700-1682631000@alianzafrancesa.org.gt
SUMMARY:Cine al aire libre - Allons Enfants
DESCRIPTION:En el marco internacional del Día de la Danza\, la Alianza Francesa de Guatemala proyectará la película Allons Enfants de Thierry Demaizière et Alban Teurlai. \n \nSinopsis: \nEl Instituto elitista Turgot es un lugar donde se enseña baile moderno y hip hop\, abierto a jóvenes en riesgo de exclusión social\, a cambio de un “pequeño” esfuerzo: que aprueben las asignaturas generales de secundaria y bachillerato. Se trata no solo de convertirse en artista de hip hop\, sino de romper el ciclo que condena a los jóvenes de familias sin recursos a transformarse en “casos sociales”\, carne de cañón para el mundo. \n \n\nDuración: 1h50\nAudio: en francés con subtítulos en español.\n\n Degustación de cerveza por Cerveza El Zapote\n Fecha: jueves\, 27 de abril 2023\n Hora: 19:45\n Entrada gratuita\n Parqueo gratuito\n Lugar: jardín de la AFGT
URL:https://alianzafrancesa.org.gt/evento/allons-enfants/
LOCATION:Alianza Francesa de Guatemala\, 5ta calle 10-55 Finca La Aurora zona 13\, Guatemala\, Guatemala\, 01013\, Guatemala
CATEGORIES:Agenda,Cine,Cinéma
ATTACH;FMTTYPE=image/jpeg:https://alianzafrancesa.org.gt/wp-content/uploads/2023/04/Mesa-de-trabajo-3-min31.jpg
ORGANIZER;CN="Alianza Francesa de Guatemala":MAILTO:info@alianzafrancesa.org.gt
END:VEVENT
BEGIN:VEVENT
DTSTART;TZID=America/Guatemala:20230429T173000
DTEND;TZID=America/Guatemala:20230429T173000
DTSTAMP:20260422T092108
CREATED:20230419T215115Z
LAST-MODIFIED:20230419T215520Z
UID:8454-1682789400-1682789400@alianzafrancesa.org.gt
SUMMARY:Recital de cátedra de violón
DESCRIPTION:El Programa Pedagógico Musical nace por el interés de algunos integrantes de la Orquesta Sinfónica Nacional de Guatemala y Alianza Francesa de Guatemala\, en formar a las futuras generaciones de músicos sinfónicos de nuestro país\, competitivos a nivel mundial. Además de contribuir al desarrollo cultural y artístico de la niñez y juventud guatemalteca. \nActualmente\, el Programa Pedagógico consta con estudiantes comprendidos en las edades de 5 años en adelante y se imparten los cursos de instrumentos musicales: Violín. Viola\, cello\, contrabajo\, guitarra\, piano\, trompeta y Oboe\, además de los cursos de Lenguaje Musical. \nEn este recital podremos escuchar las destrezas adquiridas por los alumnos de primer año de la cátedra de Violín a cargo de los maestros Otto Letona y Desiderio Musus. \nLa selección de obras a interpretar esta tarde comprende repertorio académico para nivel inicial de la ejecución del violín. \n  \n \n????️ Fecha: sábado 29/04/2023\n⏲️ Hora: 17:30 \n???? Lugar: galería de Alianza Francesa de Guatemala\n???? Dirección: 5a calle 10-55\, zona 13\, frente al Museo de los Niños.\n???? ENTRADA GRATUITA\n???? PARQUEO GRATUITO (SEGÚN DISPONIBILIDAD)\n\n¡Te esperamos!
URL:https://alianzafrancesa.org.gt/evento/recital-de-catedra-de-violon/
LOCATION:Alianza Francesa de Guatemala\, 5ta calle 10-55 Finca La Aurora zona 13\, Guatemala\, Guatemala\, 01013\, Guatemala
CATEGORIES:Agenda,Música,Musique,Otros
ATTACH;FMTTYPE=image/jpeg:https://alianzafrancesa.org.gt/wp-content/uploads/2023/04/banner-2-min81-1.jpg
ORGANIZER;CN="Alianza Francesa de Guatemala":MAILTO:info@alianzafrancesa.org.gt
END:VEVENT
END:VCALENDAR