BEGIN:VCALENDAR
VERSION:2.0
PRODID:-//Alianza Francesa Guatemala - ECPv6.15.20//NONSGML v1.0//EN
CALSCALE:GREGORIAN
METHOD:PUBLISH
X-ORIGINAL-URL:https://alianzafrancesa.org.gt
X-WR-CALDESC:Eventos para Alianza Francesa Guatemala
REFRESH-INTERVAL;VALUE=DURATION:PT1H
X-Robots-Tag:noindex
X-PUBLISHED-TTL:PT1H
BEGIN:VTIMEZONE
TZID:America/Guatemala
BEGIN:STANDARD
TZOFFSETFROM:-0600
TZOFFSETTO:-0600
TZNAME:CST
DTSTART:20210101T000000
END:STANDARD
END:VTIMEZONE
BEGIN:VEVENT
DTSTART;TZID=America/Guatemala:20220712T090000
DTEND;TZID=America/Guatemala:20220827T170000
DTSTAMP:20260422T215543
CREATED:20220725T175022Z
LAST-MODIFIED:20220728T211159Z
UID:7355-1657616400-1661619600@alianzafrancesa.org.gt
SUMMARY:Mes sin plástico
DESCRIPTION:Concurso\nEste concurso forma parte del ciclo “Estar vivo\, ser consciente” de la Alianza Francesa de Guatemala\, poniendo en valor las acciones ciudadanas eco-responsables. \nEste mes de julio\, para celebrar el día internacional sin bolsa plástico y más en general para luchar contra la contaminación de los lugares naturales de Guatemala por el plástico\, la Alianza Francesa de Guatemala empieza un concurso de recolección y reciclaje de desechos plásticos que durará hasta el fin de agosto. \nEl objetivo es llenar la estructura en forma de gallo reciclando los desechos plásticos y limpiar las calles y los lugares naturales retirando el plástico y tirar la basura al buen lugar. \nTodo el mundo puede participar en el concurso del «Mes sin Plástico» que consiste en poner en valor los que reciclen los desechos plásticos. Por eso\, simplemente hay que recoger y tirar los desechos en plástico en la estructura de gallo\, cada vez pesando lo que traen con la balanza puesta a disposición. Este concurso durará hasta el fin del mes de agosto\, los 5 participantes que tengan el peso total máximo ganarán los premios de la Muniguate. \nCon el código QR y el enlace siguiente https://forms.gle/d7iKtrdjUgrouYVw6 puedes enviar la prueba de depósito de los desechos para el concurso\, cada vez que traiga desechos para tirarlos en la estructura de gallo. Este proyecto está a continuación del proceso de conversión de la Alianza Francesa de Guatemala en una Alianza Verde. \n \nAyúdanos proteger la naturaleza\, ponte de verde con nosotros.\nHorarios aconsejables para depositar sus desechos:\nMartes a Domingo: de las 9 am a las 5 pm. \nEste proyecto estará acompañado de una velada de Cine al aire libre en el jardín de la Alianza Francesa de Guatemala que contará con dos cortometrajes y una película. \n  \nCine al aire libre\n \nCortometraje «La noche de los sacos plásticos»\n29/07/2022 │ 7:45 pm │ Jardín de la AFG\nENTRADA LIBRE\nDuración\, 9 minutos \nAgathe\, de treinta y nueve años\, tiene una sola obsesión: tener un hijo. Encontrará a su ex\, Marc-Antoine\, que mezcla techno en las Calanques de Marsella. Mientras ella trata de convencerlo de que vuelvan a estar juntos\, las bolsas de plástico cobran vida y atacan la ciudad. \n  \n \nCortometraje «Plástico y vidrio»\n29/07/2022 │ 8:05 pm │ Jardín de la AFG\nENTRADA LIBRE\nDuración\, 18 minutos \nEn una fábrica de reciclaje en el norte de Francia\, los trabajadores se juntan para cantar\, y hasta los camiones se les unen y hacen casi un ballet. Desde el funcionamiento de las prodigiosas máquinas hasta el trabajo manual de clasificación\, la película muestra el proceso de reciclaje y el ruido que acompaña al\ntrabajo se convierte en cadencia. El sonido de la fábrica se convierte en un ritmo constante y un camionero comienza a cantarle una canción a su amada. Quiere construir una isla con los objetos encontrados\, donde puedan estar juntos. \n  \n \nPelícula «Rojo»\n29/07/2022 │ Hora: 8:15 pm │ Jardín de la AFG\nENTRADA LIBRE\nDuración\, 1h28 \nUna enfermera intenta ayudar a una periodista a denunciar la fuga de residuos tóxicos de una\nplanta química. Recién contratada como enfermera en una fábrica de químicos\, Nour descubre los apaños\nentre la dirección y su padre\, Slimane\, el representante del personal. Mentiras sobre\ndescargas de contaminantes\, enfermedades de empleados\, accidentes tapados… Poco a poco\,\nNour va renunciando a aceptar los compromisos de su padre para preservar la imagen de la empresa. \n  \nTalleres\, ceremonia y película\nEl 27 de agosto se llevarán acabo una serie de talleres de educación ambiental en conjunto con la Muniguate\, luego tendremos una ceremonia de entrega de premios de las personas que más plástico depositaron durante estos dos meses y una película para cerrar. \n4:00 pm: taller sobre el reciclaje.\n4:30 pm: taller sobre la reforestación “Adopta un árbol”.\n5:00 pm: taller sobre los huertos urbanos.\n6:00 pm: entrega de los premios.\n7:30 pm: proyección de la película “Sueños de juventud”. \n \nPelícula «Sueños de juventud»\n27/08/2022 │ Hora: 7:30 pm\nENTRADA LIBRE\nDuración\, 1h32 \nSalomé consigue un trabajo de verano en un basurero del pueblo. Bajo un sol occidental\, en este lugar fuera de este mundo\, su adolescencia rebelde la alcanza. De encuentros inesperados en penas compartidas\, surge la promesa de una nueva vida. \n¡TE ESPERAMOS!
URL:https://alianzafrancesa.org.gt/evento/mes-sin-plastico/
LOCATION:Alianza Francesa – Ciudad de Guatemala\, 5a. Calle 10-55 Zona 13 - Finca La Aurora\, Ciudad de Guatemala\, Guatemala
CATEGORIES:Agenda
ATTACH;FMTTYPE=image/png:https://alianzafrancesa.org.gt/wp-content/uploads/2022/07/banner1.png
ORGANIZER;CN="Alianza Francesa de Guatemala":MAILTO:info@alianzafrancesa.org.gt
END:VEVENT
BEGIN:VEVENT
DTSTART;TZID=America/Guatemala:20220810T080000
DTEND;TZID=America/Guatemala:20220826T120000
DTSTAMP:20260422T215543
CREATED:20220803T193253Z
LAST-MODIFIED:20220803T193253Z
UID:7397-1660118400-1661515200@alianzafrancesa.org.gt
SUMMARY:RECICLATÚ
DESCRIPTION:Estar vivo\, ser consciente \nLa Alianza Francesa de Guatemala y la Unidad de Reciclaje de la Muniguate se combinan este mes de agosto para organizar varias jornadas de reciclaje del programa ReciclaTú en la Alianza. Durante estas jornadas podrías llevar tus desechos reciclables y Tetrapak\, ven a conocer el Municentro de la Alianza y ayudanos a ser más verde! \nReciclar es una de las actividades cotidianas más sencillas y gratificantes que podemos llevar a cabo. Tanto\, que puede participar cualquier miembro de la familia\, incluso los más pequeños de la casa. Al reciclar protegemos nuestros suelos porque los residuos van al lugar correspondiente y no se acumulan en las aguas de nuestros ríos y mares. \nPuedes traer :\n– papel y cartón como: cuadernos\, revistas\, papel bond\, libros\, prensa\, cajas de cartón\, papel triturado\, guías telefónicas.\n– Envases plástico y tetra pak: botellas de plástico\, plástico burbuja\, nylon. (No se aceptan botellas de aceite\, platos\, vasos\, y tenedores desechables\, duroport\, bolsas plásticas\, mantas vinílicas ni\npañales).\n– Latas y metales: aluminio\, cobre\, latas\, chatarra.\n– E-waste o electrónicos: baterías\, laptops y pc´s\, microondas\, cámaras\, teclados\, cables\, impresoras\, celulares\, pantallas\, televisores (no se aceptan cartuchos de tinta o tóner).\n– Vidrio: botellas\, cristalería (No se acepta vidrio de ventana\, vidrio quebrado ni porcelana\, vidrio plano\, tipo pyrex\, bombillos\, ampollas de inyección\, pantallas de televisores y/o computadoras\, ni ningún otro tipo de material). Si traes vidrio\, puedes realizar un canje al estilo “Vidrio X Vidrio Guatemala” en el que incentivos de DISTINCOMER busca premiar a sus clientes y a la comunidad en general por gestionar adecuadamente sus residuos valorizables de vidrio. \nEste programa consiste en el canje de productos de vidrio usado\, por nuevos productos de vidrio del catálogo seleccionado de DISTINCOMER. Todo el vidrio que se reciba será reciclado para elaborar nuevos productos\, por lo que el vidrio que se entregue deberá venir clasificado por color: ámbar\, cristalino y verde. \nComo clasificar tus residuos:\nbit.ly/RecepciondeMaterialReciclable \n \nINFORMACIÓN GENERAL\n10\, 12\, 17\, 19\, 24\, 26/08/2022\nHora: 08:00 a 12:00hrs\nLugar: Jardín de la AFGT\nENTRADA LIBRE \n¡Ayúdanos a limpiar la ciudad y dar una nueva vida a tus desechos!
URL:https://alianzafrancesa.org.gt/evento/reciclatu/
LOCATION:Alianza Francesa de Guatemala\, 5ta calle 10-55 Finca La Aurora zona 13\, Guatemala\, Guatemala\, 01013\, Guatemala
CATEGORIES:Agenda,Autres
ATTACH;FMTTYPE=image/png:https://alianzafrancesa.org.gt/wp-content/uploads/2022/07/banner1.png
ORGANIZER;CN="Alianza Francesa de Guatemala":MAILTO:info@alianzafrancesa.org.gt
END:VEVENT
BEGIN:VEVENT
DTSTART;TZID=America/Guatemala:20220811T194500
DTEND;TZID=America/Guatemala:20220811T213000
DTSTAMP:20260422T215543
CREATED:20220803T200355Z
LAST-MODIFIED:20220803T200355Z
UID:7400-1660247100-1660253400@alianzafrancesa.org.gt
SUMMARY:Cine al aire libre
DESCRIPTION:Estar vivo\, ser consciente\nEn el marco de los días mundiales del elefante y de la fotografía tendremos varias proyecciones en el jardín de la Alianza. \nLos cortos fueron elegidos para el Día Mundial del Elefante que se celebra cada 12 de agosto. Es una iniciativa internacional impulsada por la Fundación para la Reintroducción de los Elefantes. El objetivo es valorar este animal\, recordar los retos de la conservación de las especies de elefantes y luchar contra la tendencia de disminución de estos\ngrandes mamíferos. Es importante poner en valor la importancia de salvar estos animales cuya demografía ha disminuido más del 60% en los últimos años. Este maravilloso mamífero está\namenazado y podría extinguirse al finalizar la siguiente década sobre todo a causa del comercio ilegal de marfil. \n¿Lo sabías?\nLa trompa de un elefante cuenta con alrededor de 40\,000 músculos. El humano\, por ejemplo\, tiene más de 600 músculos en todo su cuerpo. ¡Qué fuertes son! El elefante africano del bosque está catalogado como En Peligro Crítico y el elefante de la sabana africana como En Peligro. ¡Qué pena! Los elefantes tienen el período de gestación más largo que cualquier otro mamífero: 22\nmeses. ¡Qué largo tiempo tienen que esperar a sus hijos! Son ingenieros de los ecosistemas permitiendo que otras especies transiten. ¡Qué listos son y\, además\, ni siquiera se dan cuenta! \n  \nFuente National Geographic \n  \n \nCortometraje\nLa Bicicleta del elefante\nde Olesya Shchukina\nUn elefante vive en la ciudad entre la gente\nnormal y trabaja como barrendero. Un día\, ve\nuna enorme valla publicitaria que anuncia una\nbicicleta\, que parece del tamaño perfecto para\nél. A partir de ese momento\, la vida del\nelefante cambia: ¡debe conseguir esta bicicleta\na toda costa! \nFecha: 11/08/2022 │ Horario: 19:45\nLugar: Jardín de la AFGT\nDuración: 9 min\nENTRADA GRATUITA \n  \n \nCortometraje\nHannibal el elefante\nde Aurélie Monteix\nUn elefante de guerra se pierde en las\nmontañas. Encuentros inesperados cambiarán\nsu vida. \nFecha: 11/08/2022 │ Horario: 19:55\nLugar: Jardín de la AFGT\nDuración: 4 min\nENTRADA GRATUITA \n  \n \nPelícula Camille\nde Boris Lojkine\nCamille es una joven reportera gráfica\, con\ngrandes ideales\, que viaja a la República\nCentroafricana para hacer un reportaje sobre\nla incipiente guerra civil. Camille se apasiona\nenseguida por este país y por la juventud que\nvive sumida en la confusión. A partir de ahora\,\nel destino de Camille estará unido a este país.\nLa joven Nina Meurisse fue nominada al César\na Mejor Actriz Revelación gracias a su\nentregada interpretación. \nFecha: 11/08/2022 │ Horario: 20:00\nLugar: Jardín de la AFGT\nDuración: 1h30\nENTRADA GRATUITA \nTrailer de la película\n \n  \nDía mundial de la fotografía\nEsta película fue elegida para celebrar el día mundial de la fotografía.\n¿Por qué esta fecha?\nEl 19 de agosto de 1839 el inventor y artista francés Louis-Jacques Daguerre\npresentó ante la Academia de Ciencias de Francia su inventó; el daguerrotipo\, el\ncual le permitía capturar una imagen a través de un proceso químico. Después\nde un par de tiempo\, gracias a la iniciativa del fotógrafo australiano Korske Ara\nen el 2009\, se oficializó el 19 de agosto como el Día Mundial de la Fotografía.\n¿Por qué se celebra la fotografía?\nCon la evolución de las tecnologías\, y el mejor acceso para todos a la fotografía\,\nhoy cualquier persona puede capturar eventos preciosos o terribles\, mágicos o\ntrágicos\, cómicos o serios\, y compartirlos. Cada persona puede ayudar a\nacordarse de los instantes que componen su historia y a larga escala la historia\nde un país o más importante de la humanidad.\nDesde luego\, se ha utilizado las imágenes y videos como vector de información\ny de emoción. La fotografía está en evolución constantemente pero el\ntrasfondo permanece invariable. Porque tiene el poder de contar historias\,\ninspirar al espectador y lo que es más importante\, el poder de cambiar el\nmundo.
URL:https://alianzafrancesa.org.gt/evento/cine-al-aire-libre-6/
LOCATION:Alianza Francesa de Guatemala\, 5ta calle 10-55 Finca La Aurora zona 13\, Guatemala\, Guatemala\, 01013\, Guatemala
CATEGORIES:Agenda,Cine,Cinéma
ATTACH;FMTTYPE=image/jpeg:https://alianzafrancesa.org.gt/wp-content/uploads/2022/08/banner_event.jpg
ORGANIZER;CN="Alianza Francesa de Guatemala":MAILTO:info@alianzafrancesa.org.gt
END:VEVENT
END:VCALENDAR