BEGIN:VCALENDAR
VERSION:2.0
PRODID:-//Alianza Francesa Guatemala - ECPv6.15.20//NONSGML v1.0//EN
CALSCALE:GREGORIAN
METHOD:PUBLISH
X-WR-CALNAME:Alianza Francesa Guatemala
X-ORIGINAL-URL:https://alianzafrancesa.org.gt
X-WR-CALDESC:Eventos para Alianza Francesa Guatemala
REFRESH-INTERVAL;VALUE=DURATION:PT1H
X-Robots-Tag:noindex
X-PUBLISHED-TTL:PT1H
BEGIN:VTIMEZONE
TZID:America/Guatemala
BEGIN:STANDARD
TZOFFSETFROM:-0600
TZOFFSETTO:-0600
TZNAME:CST
DTSTART:20210101T000000
END:STANDARD
END:VTIMEZONE
BEGIN:VEVENT
DTSTART;TZID=America/Guatemala:20220831T194500
DTEND;TZID=America/Guatemala:20220831T203000
DTSTAMP:20260422T203223
CREATED:20220803T213929Z
LAST-MODIFIED:20220824T161200Z
UID:7426-1661975100-1661977800@alianzafrancesa.org.gt
SUMMARY:Dualidad
DESCRIPTION:Teatro y danza \nAlquimia escena es un movimiento que se dedica a transmutar la cotidianidad de la vida en espectáculos teatrales. con sus propuestas. el público desencadena la imaginación del elenco\, provocando acciones que le van dando forma\, en el momento\, a la representación.\nSurgió en 2017 y actualmente es dirigida por Xoshil Rose. Han realizado espectáculos en ciudad de Guatemala\, Antigua Guatemala\, el lago de Atitlán y Mataquesclienta. Actualmente\, Alquimia trabaja dando talleres de formación y espectáculo en improvisación. \nEl salto al vacio inició con el interés de personas que buscaban aprender improvisación teatral en 2017 en la ciudad de Guatemala que pusieron en escena de espectáculos llamados el salto al vacío\, conexiones\, una fusión inesperada. Diego Cazali lidera el movimiento y ha trabajado con compañías nacionales e internacionales. \n¿Qué es Dualidad? Es un espectáculo de improvisación teatral de formato largo donde creamos dos historias independientes\, una historia es inspirada en las pasiones del público y la segunda historia es creada a partir de las aversiones del público. estas dos historias convergen en determinado momento del espectáculo para unir los dos universos creados o continuar el desarrollo de los universos de forma independiente.\nEn este espectáculo transgredimos el espacio convencional escénico\, las y los espectadores verán las historias 360 grados. todo se crea en el momento\, haciendo de esta\, una obra única e irrepetible. \n \nINFORMACIÓN GENERAL\n31/08/2022 │ Dualidad\nHorario: 19:45\nLugar: Galería de la AFGT\nEntrada: Q65 preventa\,\nQ80 día del evento\nDe venta en la recepción\nde la Alianza de lunes a viernes\nde 09:00 a 13:00 / 14:00 a 16:30\ny sábados de 08:30 a 12:30. \nDe venta en la recepción de la Alianza de lunes a viernes de 08:00 a 13:00 / 14:00 a 17:00\nPara adquirir tus boleto en preventa por transferencia\, debes comunicarte con asistente.cultural@alianzafrancesa.org.gt o contabilidad@alianzafrancesa.org.gt\, o llamar directamente la Alianza Francesa de Guatemala (+ 502 2207-5757).
URL:https://alianzafrancesa.org.gt/evento/dualidad/
LOCATION:Alianza Francesa de Guatemala\, 5ta calle 10-55 Finca La Aurora zona 13\, Guatemala\, Guatemala\, 01013\, Guatemala
CATEGORIES:Agenda,Autres,Danse,Teatro,Théâtre
ATTACH;FMTTYPE=image/png:https://alianzafrancesa.org.gt/wp-content/uploads/2022/08/banner_general_ualidad.png
ORGANIZER;CN="Alianza Francesa de Guatemala":MAILTO:info@alianzafrancesa.org.gt
END:VEVENT
END:VCALENDAR