BEGIN:VCALENDAR
VERSION:2.0
PRODID:-//Alianza Francesa Guatemala - ECPv6.15.20//NONSGML v1.0//EN
CALSCALE:GREGORIAN
METHOD:PUBLISH
X-WR-CALNAME:Alianza Francesa Guatemala
X-ORIGINAL-URL:https://alianzafrancesa.org.gt
X-WR-CALDESC:Eventos para Alianza Francesa Guatemala
REFRESH-INTERVAL;VALUE=DURATION:PT1H
X-Robots-Tag:noindex
X-PUBLISHED-TTL:PT1H
BEGIN:VTIMEZONE
TZID:America/Guatemala
BEGIN:STANDARD
TZOFFSETFROM:-0600
TZOFFSETTO:-0600
TZNAME:CST
DTSTART:20210101T000000
END:STANDARD
END:VTIMEZONE
BEGIN:VEVENT
DTSTART;TZID=America/Guatemala:20220906T090000
DTEND;TZID=America/Guatemala:20220929T130000
DTSTAMP:20260422T203400
CREATED:20220907T223151Z
LAST-MODIFIED:20220914T202513Z
UID:7592-1662454800-1664456400@alianzafrancesa.org.gt
SUMMARY:RECICLATÚ
DESCRIPTION:Estar vivo\, ser consciente \n  \nLa Alianza Francesa de Guatemala y la Unidad de Reciclaje de la Muniguate se combinan este mes de septiembre para organizar varias jornadas de reciclaje del programa ReciclaTú en la Alianza. Durante estas jornadas podrías llevar tus desechos reciclables y Tetrapak\, ven a conocer el Municentro de la Alianza y ayúdanos a ser más verde! \n  \nReciclar es una de las actividades cotidianas más sencillas y gratificantes que podemos llevar a cabo. Tanto\, que puede participar cualquier miembro de la familia\, incluso los más pequeños de la casa. \nAl reciclar protegemos nuestros suelos porque los residuos van al lugar correspondiente y no se acumulan en las aguas de nuestros ríos y mares. \n  \nPuedes traer : \n– papel y cartón como: cuadernos\, revistas\, papel bond\, libros\, prensa\, cajas de cartón\, papel triturado\, guías telefónicas. \n– Envases plástico y tetra pak: botellas de plástico\, plástico burbuja\, nylon. (No se aceptan botellas de aceite\, platos\, vasos\, y tenedores desechables\, duroport\, bolsas plásticas\, mantas vinílicas ni pañales). \n– Latas y metales: aluminio\, cobre\, latas\, chatarra. \n– E-waste o electrónicos: baterías\, laptops y pc´s\, microondas\, cámaras\, teclados\, cables\, impresoras\, celulares\, pantallas\, televisores (no se aceptan cartuchos de tinta o tóner). \n– Vidrio: botellas\, cristalería (No se acepta vidrio de ventana\, vidrio quebrado ni porcelana\, vidrio plano\, tipo pyrex\, bombillos\, ampollas de inyección\, pantallas de televisores y/o computadoras\, ni ningún otro tipo de material). \n  \nINFORMACIÓN GENERAL \n6\, 9\, 20\, 23 & 29/09/2022 \nHora: 09:00 a 13:00 \nLugar: Jardín de la AFGT \nENTRADA GRATUITA \n \nComo clasificar tus residuos \nbit.ly/RecepciondeMaterialReciclable \n 
URL:https://alianzafrancesa.org.gt/evento/reciclatu-2/
LOCATION:Alianza Francesa de Guatemala\, 5ta calle 10-55 Finca La Aurora zona 13\, Guatemala\, Guatemala\, 01013\, Guatemala
CATEGORIES:Agenda
ATTACH;FMTTYPE=image/png:https://alianzafrancesa.org.gt/wp-content/uploads/2022/09/29-scaled.png
ORGANIZER;CN="Alianza Francesa de Guatemala":MAILTO:info@alianzafrancesa.org.gt
END:VEVENT
BEGIN:VEVENT
DTSTART;TZID=America/Guatemala:20220913T194500
DTEND;TZID=America/Guatemala:20220913T210000
DTSTAMP:20260422T203400
CREATED:20220907T200405Z
LAST-MODIFIED:20220908T001056Z
UID:7564-1663098300-1663102800@alianzafrancesa.org.gt
SUMMARY:100 kg de estrellas de Marie Sophie CHAMBON
DESCRIPTION:Cine al aire libre \n  \nLoïs (Laure Duchene)\, de 16 años\, solo tiene un sueño desde que era una niña: convertirse en una cosmonauta y volar lejos de esta Tierra donde se siente tan extraña. Puede que ella tenga talento en matemáticas y física\, pero tiene un problema: Loïs pesa 100 kilos y no hay forma de escapar. Cuando todo parece perdido\, Loïs conoce a Amélie (Angèle Metzger)\, Stannah (Pauline Serieys) y Justine (Zoé De Tarlé)\, tres chicas adolescentes que están marcadas como ella por la vida y que están listas para hacer cualquier cosa para irse con ella al espacio. \nTrailer de la película\n \n  \n \nFecha: 13/09/2022\nHora: 19:45\nLugar: Jardín de la AFGT\nDuración: 1h28\nAudio en francés con subtítulos en español\nENTRADA GRATUITA \n  \nEvento Facebook https://fb.me/e/eMk0Fwrd9 \n 
URL:https://alianzafrancesa.org.gt/evento/100-kg-de-estrellas-de-marie-sophie-chambon/
LOCATION:Alianza Francesa de Guatemala\, 5ta calle 10-55 Finca La Aurora zona 13\, Guatemala\, Guatemala\, 01013\, Guatemala
CATEGORIES:Agenda,Cine,Cinéma
ATTACH;FMTTYPE=image/png:https://alianzafrancesa.org.gt/wp-content/uploads/2022/09/100kg_banner.png
ORGANIZER;CN="Alianza Francesa de Guatemala":MAILTO:info@alianzafrancesa.org.gt
END:VEVENT
END:VCALENDAR