BEGIN:VCALENDAR
VERSION:2.0
PRODID:-//Alianza Francesa Guatemala - ECPv6.15.20//NONSGML v1.0//EN
CALSCALE:GREGORIAN
METHOD:PUBLISH
X-ORIGINAL-URL:https://alianzafrancesa.org.gt
X-WR-CALDESC:Eventos para Alianza Francesa Guatemala
REFRESH-INTERVAL;VALUE=DURATION:PT1H
X-Robots-Tag:noindex
X-PUBLISHED-TTL:PT1H
BEGIN:VTIMEZONE
TZID:America/Guatemala
BEGIN:STANDARD
TZOFFSETFROM:-0600
TZOFFSETTO:-0600
TZNAME:CST
DTSTART:20210101T000000
END:STANDARD
END:VTIMEZONE
BEGIN:VEVENT
DTSTART;TZID=America/Guatemala:20220906T090000
DTEND;TZID=America/Guatemala:20220929T130000
DTSTAMP:20260422T203514
CREATED:20220907T223151Z
LAST-MODIFIED:20220914T202513Z
UID:7592-1662454800-1664456400@alianzafrancesa.org.gt
SUMMARY:RECICLATÚ
DESCRIPTION:Estar vivo\, ser consciente \n  \nLa Alianza Francesa de Guatemala y la Unidad de Reciclaje de la Muniguate se combinan este mes de septiembre para organizar varias jornadas de reciclaje del programa ReciclaTú en la Alianza. Durante estas jornadas podrías llevar tus desechos reciclables y Tetrapak\, ven a conocer el Municentro de la Alianza y ayúdanos a ser más verde! \n  \nReciclar es una de las actividades cotidianas más sencillas y gratificantes que podemos llevar a cabo. Tanto\, que puede participar cualquier miembro de la familia\, incluso los más pequeños de la casa. \nAl reciclar protegemos nuestros suelos porque los residuos van al lugar correspondiente y no se acumulan en las aguas de nuestros ríos y mares. \n  \nPuedes traer : \n– papel y cartón como: cuadernos\, revistas\, papel bond\, libros\, prensa\, cajas de cartón\, papel triturado\, guías telefónicas. \n– Envases plástico y tetra pak: botellas de plástico\, plástico burbuja\, nylon. (No se aceptan botellas de aceite\, platos\, vasos\, y tenedores desechables\, duroport\, bolsas plásticas\, mantas vinílicas ni pañales). \n– Latas y metales: aluminio\, cobre\, latas\, chatarra. \n– E-waste o electrónicos: baterías\, laptops y pc´s\, microondas\, cámaras\, teclados\, cables\, impresoras\, celulares\, pantallas\, televisores (no se aceptan cartuchos de tinta o tóner). \n– Vidrio: botellas\, cristalería (No se acepta vidrio de ventana\, vidrio quebrado ni porcelana\, vidrio plano\, tipo pyrex\, bombillos\, ampollas de inyección\, pantallas de televisores y/o computadoras\, ni ningún otro tipo de material). \n  \nINFORMACIÓN GENERAL \n6\, 9\, 20\, 23 & 29/09/2022 \nHora: 09:00 a 13:00 \nLugar: Jardín de la AFGT \nENTRADA GRATUITA \n \nComo clasificar tus residuos \nbit.ly/RecepciondeMaterialReciclable \n 
URL:https://alianzafrancesa.org.gt/evento/reciclatu-2/
LOCATION:Alianza Francesa de Guatemala\, 5ta calle 10-55 Finca La Aurora zona 13\, Guatemala\, Guatemala\, 01013\, Guatemala
CATEGORIES:Agenda
ATTACH;FMTTYPE=image/png:https://alianzafrancesa.org.gt/wp-content/uploads/2022/09/29-scaled.png
ORGANIZER;CN="Alianza Francesa de Guatemala":MAILTO:info@alianzafrancesa.org.gt
END:VEVENT
BEGIN:VEVENT
DTSTART;TZID=America/Guatemala:20220914T080000
DTEND;TZID=America/Guatemala:20221031T233000
DTSTAMP:20260422T203514
CREATED:20220914T200856Z
LAST-MODIFIED:20220927T203122Z
UID:7608-1663142400-1667259000@alianzafrancesa.org.gt
SUMMARY:Convocatoria Cultural 2023
DESCRIPTION:ARTES VISUALES | MÚSICA | CIRCO | TEATRO | LITERATURA | CINE | DISEÑO | MODA | DANZA | DEBATE DE IDEAS\nRECEPCIÓN DE PROPUESTAS HASTA EL 31 DE OCTUBRE DE 2022.\nLa Alianza Francesa de Guatemala\, en el marco de su programación artística y deseando brindar espacios para el desarrollo cultural de Guatemala en las áreas escénica y visual\, abre la siguiente convocatoria a los artistas guatemaltecos con el fin de presentar sus propuestas para la Temporada Cultural 2023. \nLos objetivos\n\nParticipar al desarrollo cultural del ámbito artístico guatemalteco.\nDescubrir nuevas propuestas artísticas guatemaltecas y extranjeras.\nBrindar espacios de exposición\, tanto visuales como de artes escénicas.\nPresentar al público una oferta cultural novedosa.\nGenerar espacios de discusión\, diálogo y conversación alrededor del arte y de la cultura\n\n  \nLas disciplinas\n\nARTE VISUAL: pintura\, escultura\, modelismo\, fotografía\, ilustración\, arquitectura\, y técnicas mixtas.\nMÚSICA: clásica\, jazz\, rock\, pop\, folk\, hip-hop\, funk\, reggae\, electro\, contemporánea\, etc.\nTEATRO: obras contemporáneas\, monólogos\, teatro experimental\, teatro de objeto (títeres\, marionetas\, etc)\,\ncirco contemporáneo.\nLITERATURA: novela\, poesía\, cuentos\, etc.\nCINE: largometrajes\, cortometrajes\, documentales\, animados\, etc.\nDISEÑO Y MODA: diseño gráfico\, diseño industrial\, diseño de moda.\nDANZA: clásica\, contemporánea\, moderna. Danzas populares\, autóctonas\, folclóricas o regionales.\nDEBATE DE IDEAS: conferencias\, debates\, mesas redondas\, etc. alrededor de temas sociales y de derechos humanos.\n\n  \nRequisitos\n\nCURRÍCULUM: Presentación de su trayectoria artística (formaciones\, talleres\, eventos\, etc.).\nPROPUESTA ESCRITA: Texto de presentación de lo que se quiere proponer a la Alianza Francesa de Guatemala en el marco de su programación.\nMATERIAL AUDIOVISUAL:\n\n\nPortafolio (Arte Visual / Diseño y Moda).\nFotos\, audio y videos de espectáculos (Música\, Teatro\, Danza).\nFotos\, trailers\, extractos de videos (Cine).\n\nINGRESA AL FORMULARIO PARA APLICAR\nhttps://forms.gle/sgnNXFunH81syUdA8\nFECHA LÍMITE DE RECEPCIÓN DE PROPUESTAS: 31 de octubre de 2022.
URL:https://alianzafrancesa.org.gt/evento/convocatoria-cultural-2023/
LOCATION:Alianza Francesa de Guatemala\, 5ta calle 10-55 Finca La Aurora zona 13\, Guatemala\, Guatemala\, 01013\, Guatemala
CATEGORIES:Agenda,Artes Plásticas,Arts Plastiques,Autres,Cine,Cinéma,Conferencia,Danse,Danza,Dessin,Diseño,Exposición,Literatura,Littérature,Mediateca,Música,Musique,Otros,Teatro,Théâtre
ATTACH;FMTTYPE=image/jpeg:https://alianzafrancesa.org.gt/wp-content/uploads/2022/09/IG-1.jpg
END:VEVENT
BEGIN:VEVENT
DTSTART;TZID=America/Guatemala:20220919T150000
DTEND;TZID=America/Guatemala:20220919T170000
DTSTAMP:20260422T203514
CREATED:20220907T201158Z
LAST-MODIFIED:20220919T184850Z
UID:7568-1663599600-1663606800@alianzafrancesa.org.gt
SUMMARY:Las víctimas olvidadas en europa del este durante la segunda guerra mundial
DESCRIPTION:Conferencia \nLorsque l’on aborde le sujet de la Seconde Guerre mondiale et de l’Holocauste\, on pense presque immédiatement au massacre des Juifs. Et à juste titre\, puisque cette période sombre de l’histoire européenne a vu le meurtre de plus de 6 millions de Juifs aux mains des occupants allemands et de leurs alliés. En outre\, nous pouvons également dire que lorsque nous pensons au génocide des Juifs\, les premières images qui nous viennent à l’esprit sont celles des camps d’extermination\, des chambres à gaz et de la combustion de millions de cadavres\, notamment à Auschwitz. \n  \nCette «industrialisation de la mort» est aussi choquante qu’elle est sans précédent par son ampleur ; entre 2\,5 et 2\,7 millions de victimes sont mortes dans les camps de la mort\, plus d’un million dans les ghettos et beaucoup d’autres lors des marches de la mort. Cependant\, il est important de ne pas oublier les plus de deux millions d’autres victimes. Dans tous les territoires de l’est de l’Europe\, ils ont été sauvagement assassinés par les unités mobiles de tuerie allemandes\, l’armée régulière\, les bataillons de police ou les alliés locaux. \n  \nCependant\, et cette histoire n’est pas très connue\, les Juifs n’étaient pas les seules cibles des nazis. Les Tsiganes\, les prisonniers de guerre soviétiques et les handicapés ont également connu un sort terrible. \n \nINFORMACIÓN GENERAL\nFecha: 19/10/2022\nHorario: 15:00 a 17:00\nLugar: Galería de la AFGT\nENTRADA GRATUITA \nEvento Facebook https://fb.me/e/29BVLS35o \n 
URL:https://alianzafrancesa.org.gt/evento/las-victimas-olvidadas-en-europa-del-este-durante-la-segunda-guerra-mundial/
LOCATION:Alianza Francesa de Guatemala\, 5ta calle 10-55 Finca La Aurora zona 13\, Guatemala\, Guatemala\, 01013\, Guatemala
CATEGORIES:Agenda,Conferencia
ATTACH;FMTTYPE=image/jpeg:https://alianzafrancesa.org.gt/wp-content/uploads/2022/09/haulocosto-1-scaled.jpg
ORGANIZER;CN="Alianza Francesa de Guatemala":MAILTO:info@alianzafrancesa.org.gt
END:VEVENT
END:VCALENDAR