BEGIN:VCALENDAR
VERSION:2.0
PRODID:-//Alianza Francesa Guatemala - ECPv6.15.20//NONSGML v1.0//EN
CALSCALE:GREGORIAN
METHOD:PUBLISH
X-ORIGINAL-URL:https://alianzafrancesa.org.gt
X-WR-CALDESC:Eventos para Alianza Francesa Guatemala
REFRESH-INTERVAL;VALUE=DURATION:PT1H
X-Robots-Tag:noindex
X-PUBLISHED-TTL:PT1H
BEGIN:VTIMEZONE
TZID:America/Guatemala
BEGIN:STANDARD
TZOFFSETFROM:-0600
TZOFFSETTO:-0600
TZNAME:CST
DTSTART:20210101T000000
END:STANDARD
END:VTIMEZONE
BEGIN:VEVENT
DTSTART;TZID=America/Guatemala:20220914T080000
DTEND;TZID=America/Guatemala:20221031T233000
DTSTAMP:20260422T190855
CREATED:20220914T200856Z
LAST-MODIFIED:20220927T203122Z
UID:7608-1663142400-1667259000@alianzafrancesa.org.gt
SUMMARY:Convocatoria Cultural 2023
DESCRIPTION:ARTES VISUALES | MÚSICA | CIRCO | TEATRO | LITERATURA | CINE | DISEÑO | MODA | DANZA | DEBATE DE IDEAS\nRECEPCIÓN DE PROPUESTAS HASTA EL 31 DE OCTUBRE DE 2022.\nLa Alianza Francesa de Guatemala\, en el marco de su programación artística y deseando brindar espacios para el desarrollo cultural de Guatemala en las áreas escénica y visual\, abre la siguiente convocatoria a los artistas guatemaltecos con el fin de presentar sus propuestas para la Temporada Cultural 2023. \nLos objetivos\n\nParticipar al desarrollo cultural del ámbito artístico guatemalteco.\nDescubrir nuevas propuestas artísticas guatemaltecas y extranjeras.\nBrindar espacios de exposición\, tanto visuales como de artes escénicas.\nPresentar al público una oferta cultural novedosa.\nGenerar espacios de discusión\, diálogo y conversación alrededor del arte y de la cultura\n\n  \nLas disciplinas\n\nARTE VISUAL: pintura\, escultura\, modelismo\, fotografía\, ilustración\, arquitectura\, y técnicas mixtas.\nMÚSICA: clásica\, jazz\, rock\, pop\, folk\, hip-hop\, funk\, reggae\, electro\, contemporánea\, etc.\nTEATRO: obras contemporáneas\, monólogos\, teatro experimental\, teatro de objeto (títeres\, marionetas\, etc)\,\ncirco contemporáneo.\nLITERATURA: novela\, poesía\, cuentos\, etc.\nCINE: largometrajes\, cortometrajes\, documentales\, animados\, etc.\nDISEÑO Y MODA: diseño gráfico\, diseño industrial\, diseño de moda.\nDANZA: clásica\, contemporánea\, moderna. Danzas populares\, autóctonas\, folclóricas o regionales.\nDEBATE DE IDEAS: conferencias\, debates\, mesas redondas\, etc. alrededor de temas sociales y de derechos humanos.\n\n  \nRequisitos\n\nCURRÍCULUM: Presentación de su trayectoria artística (formaciones\, talleres\, eventos\, etc.).\nPROPUESTA ESCRITA: Texto de presentación de lo que se quiere proponer a la Alianza Francesa de Guatemala en el marco de su programación.\nMATERIAL AUDIOVISUAL:\n\n\nPortafolio (Arte Visual / Diseño y Moda).\nFotos\, audio y videos de espectáculos (Música\, Teatro\, Danza).\nFotos\, trailers\, extractos de videos (Cine).\n\nINGRESA AL FORMULARIO PARA APLICAR\nhttps://forms.gle/sgnNXFunH81syUdA8\nFECHA LÍMITE DE RECEPCIÓN DE PROPUESTAS: 31 de octubre de 2022.
URL:https://alianzafrancesa.org.gt/evento/convocatoria-cultural-2023/
LOCATION:Alianza Francesa de Guatemala\, 5ta calle 10-55 Finca La Aurora zona 13\, Guatemala\, Guatemala\, 01013\, Guatemala
CATEGORIES:Agenda,Artes Plásticas,Arts Plastiques,Autres,Cine,Cinéma,Conferencia,Danse,Danza,Dessin,Diseño,Exposición,Literatura,Littérature,Mediateca,Música,Musique,Otros,Teatro,Théâtre
ATTACH;FMTTYPE=image/jpeg:https://alianzafrancesa.org.gt/wp-content/uploads/2022/09/IG-1.jpg
END:VEVENT
BEGIN:VEVENT
DTSTART;TZID=America/Guatemala:20221006T090000
DTEND;TZID=America/Guatemala:20221025T130000
DTSTAMP:20260422T190855
CREATED:20221003T194707Z
LAST-MODIFIED:20221004T205149Z
UID:7666-1665046800-1666702800@alianzafrancesa.org.gt
SUMMARY:ReciclaTú
DESCRIPTION:La Alianza Francesa de Guatemala y la Unidad de Reciclaje de la Muniguate continuarán organizando jornadas de reciclaje del programa ReciclaTú en octubre. Durante estas jornadas podrás llevar tus desechos reciclables y Tetrapak\, ven a conocer el Municentro de la Alianza y ayúdanos a ser más verde! \nReciclar es una de las actividades cotidianas más sencillas y gratificantes que podemos llevar a cabo. Tanto\, que puede participar cualquier miembro de la familia\, incluso los más pequeños de la casa. \nAl reciclar protegemos nuestros suelos porque los residuos van al lugar correspondiente y no se acumulan en las aguas de nuestros ríos y mares. \nPuedes traer : \n– papel y cartón como: cuadernos\, revistas\, papel bond\, libros\, prensa\, cajas de cartón\, papel triturado\, guías telefónicas. \n– Envases plástico y tetra pak: botellas de plástico\, plástico burbuja\, nylon. (No se aceptan botellas de aceite\, platos\, vasos\, y tenedores desechables\, duroport\, bolsas plásticas\, mantas vinílicas ni pañales). \n– Latas y metales: aluminio\, cobre\, latas\, chatarra. \n– E-waste o electrónicos: baterías\, laptops y pc´s\, microondas\, cámaras\, teclados\, cables\, impresoras\, celulares\, pantallas\, televisores (no se aceptan cartuchos de tinta o tóner). \n– Vidrio: botellas\, cristalería (No se acepta vidrio de ventana\, vidrio quebrado ni porcelana\, vidrio plano\, tipo pyrex\, bombillos\, ampollas de inyección\, pantallas de televisores y/o computadoras\, ni ningún otro tipo de material). \n \n  \n 
URL:https://alianzafrancesa.org.gt/evento/reciclatu-3/
LOCATION:Alianza Francesa de Guatemala\, 5ta calle 10-55 Finca La Aurora zona 13\, Guatemala\, Guatemala\, 01013\, Guatemala
CATEGORIES:Agenda,Otros
ATTACH;FMTTYPE=image/png:https://alianzafrancesa.org.gt/wp-content/uploads/2022/10/afiche-reciclatu-29-de-julio.png
ORGANIZER;CN="Alianza Francesa de Guatemala":MAILTO:info@alianzafrancesa.org.gt
END:VEVENT
BEGIN:VEVENT
DTSTART;TZID=America/Guatemala:20221021T193000
DTEND;TZID=America/Guatemala:20221021T210000
DTSTAMP:20260422T190855
CREATED:20221003T221113Z
LAST-MODIFIED:20221011T181729Z
UID:7693-1666380600-1666386000@alianzafrancesa.org.gt
SUMMARY:Quinteto Brisante
DESCRIPTION:Academia \n  \nQuinteto de Maderas integrado por miembros de la Orquesta Sinfónica Nacional de Guatemala\, cuenta con repertorio académico y popular del Mundo y de Guatemala. \n \nMúsicos: \nGabriela Corleto flauta. \nCarlos Galdámez oboe. \nTelma Diaz clarinete. \nSergio Reyes fagot. \nJosue Vasquez corno Frances. \n  \nPrograma musical \nTumba de Couperin de Maurice Ravel \nKlein Kammermusik op. 24 de Paul HindemithFantasía «Carmen» de G\, Bizet \nBandolita (pasillo colombiano) de Luis Uribe Bueno \nTango Ballet de Astor Piazzola \n  \nMaurice Ravel fue un compositor francés del siglo XX. Su obra\, frecuentemente vinculada al impresionismo\, muestra además un audaz estilo neoclásico y\, a veces\, rasgos del expresionismo\, y es el fruto de una compleja herencia y de hallazgos musicales que revolucionaron la música para piano y para orquesta. \nPaul Hindemith fue un compositor\, violista y musicólogo alemán. Hindemith está considerado como uno de los compositores más influyentes de la primera mitad del siglo XX; su aportación creadora abarca desde el expresionismo hasta el neoclasicismo\, y su enorme catálogo comprende todos los géneros musicales. \nGeorges Bizet\, fue un compositor\, principalmente de óperas. En una carrera cortada por su muerte prematura\, alcanzó escasos éxitos hasta su última obra\, Carmen\, que se convirtió en una de las obras más populares e interpretadas de todo el repertorio operístico. \nAstor Pantaleón Piazzolla fue un bandoneonista y compositor argentino considerado uno de los músicos más importantes del Siglo XX y uno de los compositores más importantes de tango en todo el mundo. \n  \nFecha: 21/10/2022 \nHorario: 19:30 \nLugar: Jardín de la AFGT \nEntrada: Q30
URL:https://alianzafrancesa.org.gt/evento/quinteto-brisante/
LOCATION:Alianza Francesa de Guatemala\, 5ta calle 10-55 Finca La Aurora zona 13\, Guatemala\, Guatemala\, 01013\, Guatemala
CATEGORIES:Agenda,Música,Musique
ATTACH;FMTTYPE=image/jpeg:https://alianzafrancesa.org.gt/wp-content/uploads/2022/10/cuadrado1-scaled.jpg
ORGANIZER;CN="Alianza Francesa de Guatemala":MAILTO:info@alianzafrancesa.org.gt
END:VEVENT
END:VCALENDAR