BEGIN:VCALENDAR
VERSION:2.0
PRODID:-//Alianza Francesa Guatemala - ECPv6.15.20//NONSGML v1.0//EN
CALSCALE:GREGORIAN
METHOD:PUBLISH
X-ORIGINAL-URL:https://alianzafrancesa.org.gt
X-WR-CALDESC:Eventos para Alianza Francesa Guatemala
REFRESH-INTERVAL;VALUE=DURATION:PT1H
X-Robots-Tag:noindex
X-PUBLISHED-TTL:PT1H
BEGIN:VTIMEZONE
TZID:America/Guatemala
BEGIN:STANDARD
TZOFFSETFROM:-0600
TZOFFSETTO:-0600
TZNAME:CST
DTSTART:20210101T000000
END:STANDARD
END:VTIMEZONE
BEGIN:VEVENT
DTSTART;TZID=America/Guatemala:20221122T194500
DTEND;TZID=America/Guatemala:20221122T213000
DTSTAMP:20260422T175121
CREATED:20221115T205310Z
LAST-MODIFIED:20221115T205310Z
UID:7859-1669146300-1669152600@alianzafrancesa.org.gt
SUMMARY:Cine al aire libre - Animal de Cyril Dion
DESCRIPTION:En el marco del «Mes de la película documental» tendremos varias proyecciones en el jardín de la Alianza Francesa de Guatemala. \nDesde el año 2000\, los documentales ocupan un lugar destacado en el mes de noviembre. El Mes del Documental es una cita para descubrir películas e intercambiar ideas sobre el mundo. \nEste año el tema es cine y ambiente. \nObservemos la naturaleza\, protejámosla\, ¡ella nos observa! Aquí contamos la historia de la vacilación del mundo\, biodiversidad\, su belleza y su fragilidad. Este ciclo propone películas que muestran cómo los seres vivos se ven amenazados por el hombre\, acciones humanas\, sino que es el momento de actuar. \n  \n \nSinopsis: \nBella y Vipulan tienen 16 años. Pertenecen a una generación convencida de que su futuro está amenazado debido al cambio climático. Por más que alertan sobre la situación\, nada parece cambiar realmente. Así que deciden llegar al origen del problema: nuestra relación con el mundo vivo. A lo largo de un viaje extraordinario\, comprenderán que estamos profundamente ligados a las demás especies. Y que\, al salvarlas\, lograremos salvarnos nosotros también. \n \n  \n????️Fecha: martes 22/11/2022\n⏲️Hora: 19:45\n????Lugar: Alianza Francesa de Guatemala\nDirección: 5a calle 10-55 zona 13\, frente al Museo de los Niños.\n????ENTRADA Y PARQUEO GRATUITO \n¡Te esperamos!
URL:https://alianzafrancesa.org.gt/evento/cine-al-aire-libre-animal-de-cyril-dion/
LOCATION:Alianza Francesa de Guatemala\, 5ta calle 10-55 Finca La Aurora zona 13\, Guatemala\, Guatemala\, 01013\, Guatemala
CATEGORIES:Agenda,Cine,Cinéma
ATTACH;FMTTYPE=image/jpeg:https://alianzafrancesa.org.gt/wp-content/uploads/2022/11/animal-1.jpg
ORGANIZER;CN="Alianza Francesa de Guatemala":MAILTO:info@alianzafrancesa.org.gt
END:VEVENT
END:VCALENDAR