BEGIN:VCALENDAR
VERSION:2.0
PRODID:-//Alianza Francesa Guatemala - ECPv6.15.20//NONSGML v1.0//EN
CALSCALE:GREGORIAN
METHOD:PUBLISH
X-ORIGINAL-URL:https://alianzafrancesa.org.gt
X-WR-CALDESC:Eventos para Alianza Francesa Guatemala
REFRESH-INTERVAL;VALUE=DURATION:PT1H
X-Robots-Tag:noindex
X-PUBLISHED-TTL:PT1H
BEGIN:VTIMEZONE
TZID:America/Guatemala
BEGIN:STANDARD
TZOFFSETFROM:-0600
TZOFFSETTO:-0600
TZNAME:CST
DTSTART:20210101T000000
END:STANDARD
END:VTIMEZONE
BEGIN:VEVENT
DTSTART;TZID=America/Guatemala:20221123T194500
DTEND;TZID=America/Guatemala:20221123T220000
DTSTAMP:20260422T175056
CREATED:20221115T203149Z
LAST-MODIFIED:20221115T203149Z
UID:7855-1669232700-1669240800@alianzafrancesa.org.gt
SUMMARY:Comedia de autor
DESCRIPTION:Un show donde el público es el artista principal \n  \nEste formato largo de improvisación contará la historia detrás de las obras de arte creadas por el público. \n\nAntes de ingresar al espectáculo\, el público será recibido por 4 curadores de arte\, quienes les pedirán que: dibujen y pinten con crayones un lugar que les gustaría visitar en una vida alterna\, escriban una frase en rima a algún objeto que les guste o disguste\, dibujen y pinten un invento que les sería útil en la actualidad\, y compongan una canción en una app. \n\nLos 5 integrantes del elenco\, luego de que el público se posicione dentro de la galería o espacio artístico\, presentarán las obras de arte creadas por el público. \nDe cada categoría\, por medio de aplausos\, el público elegirá uno\, para la creación teatral. \nUna vez elegidas las 4 obras de arte\, los curadores (el elenco)\, presentarán las creaciones con sus respectivas historias\, pero no de forma oral\, sino de forma actuada. Cada obra de arte inspirará al elenco a actuar de forma improvisada\, una historia que contará lo que se quiso expresar el artista del público que creó la obra. \nAsí se crearán 4 historias de formato largo de improvisación durante el espectáculo\, replicando una exposición de arte actuada. \n\nElenco: David Reyes\, Xoshil Rose\, Juacho Carbono\, Caty García\, Diego Cazali. \n \nINFORMACIÓN GENERAL \n23/11/2022 \nHora: 19:45 \nLugar: Galería de la AFGT (5a calle 10-55 zona 13)\n \nEntrada: \nPreventa Q85 \nDía del evento Q100 \nEstudiantes y adultos mayores Q70. \n\nPreventa hasta el 22 de noviembre. Puedes pagar con tarjeta y efectivo\, para transferencias debes comunicarte a asistente.cultural@alianzafrancesa.org.gt \nLugar de preventa: recepción de AFGT de lunes a viernes de 09:00 a 13:00 / 14:00 a 16:30 y sábados de 08:30 a 12:30.
URL:https://alianzafrancesa.org.gt/evento/comedia-de-autor-4/
LOCATION:Alianza Francesa de Guatemala\, 5ta calle 10-55 Finca La Aurora zona 13\, Guatemala\, Guatemala\, 01013\, Guatemala
CATEGORIES:Agenda,Teatro,Théâtre
ATTACH;FMTTYPE=image/jpeg:https://alianzafrancesa.org.gt/wp-content/uploads/2022/11/AFGT.jpeg
ORGANIZER;CN="Alianza Francesa de Guatemala":MAILTO:info@alianzafrancesa.org.gt
END:VEVENT
END:VCALENDAR