BEGIN:VCALENDAR
VERSION:2.0
PRODID:-//Alianza Francesa Guatemala - ECPv6.15.20//NONSGML v1.0//EN
CALSCALE:GREGORIAN
METHOD:PUBLISH
X-WR-CALNAME:Alianza Francesa Guatemala
X-ORIGINAL-URL:https://alianzafrancesa.org.gt
X-WR-CALDESC:Eventos para Alianza Francesa Guatemala
REFRESH-INTERVAL;VALUE=DURATION:PT1H
X-Robots-Tag:noindex
X-PUBLISHED-TTL:PT1H
BEGIN:VTIMEZONE
TZID:America/Guatemala
BEGIN:STANDARD
TZOFFSETFROM:-0600
TZOFFSETTO:-0600
TZNAME:CST
DTSTART:20210101T000000
END:STANDARD
END:VTIMEZONE
BEGIN:VEVENT
DTSTART;TZID=America/Guatemala:20221125T191500
DTEND;TZID=America/Guatemala:20221125T210000
DTSTAMP:20260422T175000
CREATED:20221115T231154Z
LAST-MODIFIED:20221115T231154Z
UID:7896-1669403700-1669410000@alianzafrancesa.org.gt
SUMMARY:Cine al aire libre - Timbuktu de Abderrahmane Sissako
DESCRIPTION:En el marco del Día Internacional de la Eliminación de la Violencia contra la Mujer la Alianza Francesa tendrá la presentación de una sección de libros y seguido de esto habrá una película. \n  \nLa violencia contra las mujeres y las niñas sigue siendo una realidad preocupante. Según las últimas estimaciones mundiales\, 1 de cada 3 mujeres se ve afectada por algún tipo de violencia de género y cada 11 minutos una mujer o niña muere asesinada por un familiar. \nEl activismo es vital para conseguir un cambio en estos números. \n  \n19h15 : Mediateca  \nPresentación de la mediateca (horarios\, libros\, nuevos ingresos\, Culturethèque…) y también presentación sobre algunos libros sobre la violencia tanto física como psicológica contra las mujeres. \nLos libros son los siguientes:  \n\nG. HALIMI La cause des femmes: Gisele Halimi fue una de las abogadas más famosas de Francia\, y comparte en este libro sus pensamientos sobre el feminismo. Cuenta\, entre otras cosas\, el juicio de Bobigny. Este caso judicial trata de la penalización de la violación en Francia segun la ley de 1920. Una adolescente\, víctima de una violación\, abortó\, y fue penalizada a causa de este acto. \nD. MUKWEGE La force des femmes : este libro es una autobiografía escrita por Denis MUKWEGE. Este hombre recibió en 2018 el precio Nobel de la Paz porque se dedicaba a reparar las mujeres víctimas de violencia sexual en Republica democrática de Congo.  \nS.A. KHODJA Rien ne manque: Esta colección de novelas cortas comparte con sus lectores algunos momentos de la vida y de la intimidad de las mujeres argelinas…historias a menudo marcadas por la crueldad.  \nP.ADAM Luchadoras: Este cómic pone de relieve la violencia en el hogar familiar\, y más que todo nos alerta sobre el problema de los feminicidios. \n\nTodos estos libros están disponibles en la mediateca.  \n  \n19h45  : Película Timbuktu de Abderrahmane Sissako \n \nAño 2012\, la ciudad maliense de Tombuctú ha caído en manos de extremistas religiosos. Kidane vive tranquilamente en las dunas con su esposa Satima\, su hija Toya e Issam\, un niño pastor de 12 años. Pero en la ciudad los habitantes padecen el régimen de terror impuesto por los yihadistas: prohibido escuchar música\, reír\, fumar e incluso jugar al fútbol. Las mujeres se han convertido en sombras que intentan resistir con dignidad. Cada día\, unos tribunales islamistas improvisados lanzan sentencias tan absurdas como trágicas. El caos que reina en Tombuctú no parece afectar a Kidane hasta el día en que accidentalmente mata a Amadou\, un pescador que ha acabado con la vida de su vaca favorita. Ahora debe enfrentarse a las leyes impuestas por los ocupantes extranjeros. \nPremios de la película Timbuktu de Abderrahmane Sissako \n2014: Premios Oscar: Nominada a Mejor película de habla no inglesa\n2015: Premios BAFTA: Nominada a Mejor película en habla no inglesa\n2014: 7 Premios César: incluyendo Mejor película y director. 8 Nom.\n2014: Festival de Cannes: Sección oficial largometrajes a concurso\n2015: Premios Guldbagge (Suecia): nominada a mejor película extranjera\n2015: Círculo de Críticos de Nueva York: Mejor película extranjera\n2014: Festival de Chicago: Mejor director\n2015: Círculo de Críticos de San Francisco: Nom. mejor película de habla no inglesa\n2014: Satellite Awards: Nominada a Mejor película de habla no inglesa \n  \n????️Fecha: viernes 25/11/2022\n⏲️Hora: 19:15\n????Lugar: Alianza Francesa de Guatemala\nDirección: 5a calle 10-55 zona 13\, frente al Museo de los Niños.\n????ENTRADA Y PARQUEO GRATUITO \n¡Te esperamos! \n 
URL:https://alianzafrancesa.org.gt/evento/cine-al-aire-libre-timbuktu-de-abderrahmane-sissako/
LOCATION:Alianza Francesa de Guatemala\, 5ta calle 10-55 Finca La Aurora zona 13\, Guatemala\, Guatemala\, 01013\, Guatemala
CATEGORIES:Agenda,Cine,Cinéma,Literatura,Littérature
ATTACH;FMTTYPE=image/jpeg:https://alianzafrancesa.org.gt/wp-content/uploads/2022/11/banner_Event.jpg
ORGANIZER;CN="Alianza Francesa de Guatemala":MAILTO:info@alianzafrancesa.org.gt
END:VEVENT
END:VCALENDAR