BEGIN:VCALENDAR
VERSION:2.0
PRODID:-//Alianza Francesa Guatemala - ECPv6.15.20//NONSGML v1.0//EN
CALSCALE:GREGORIAN
METHOD:PUBLISH
X-ORIGINAL-URL:https://alianzafrancesa.org.gt
X-WR-CALDESC:Eventos para Alianza Francesa Guatemala
REFRESH-INTERVAL;VALUE=DURATION:PT1H
X-Robots-Tag:noindex
X-PUBLISHED-TTL:PT1H
BEGIN:VTIMEZONE
TZID:America/Guatemala
BEGIN:STANDARD
TZOFFSETFROM:-0600
TZOFFSETTO:-0600
TZNAME:CST
DTSTART:20220101T000000
END:STANDARD
END:VTIMEZONE
BEGIN:VEVENT
DTSTART;TZID=America/Guatemala:20230201T194500
DTEND;TZID=America/Guatemala:20230201T213000
DTSTAMP:20260422T133201
CREATED:20230201T221523Z
LAST-MODIFIED:20230201T222019Z
UID:8024-1675280700-1675287000@alianzafrancesa.org.gt
SUMMARY:Cine al aire libre - Petite nature
DESCRIPTION:DELICADO\n2021 – 1 hour 33 mn – Long métrage \nDirector: Samuel Theis \n \nJohnny tiene diez años. A pesar de su corta edad\, solo le interesan los asuntos de los mayores. En su modesto barrio de Lorena\, Johnny observa con curiosidad la agitada vida sentimental de su joven madre. Este año ha entrado en la clase del Profesor Adamski\, un joven docente que cree en él y que le abrirá las puertas de un nuevo mundo. \nDelicado nos propone compartir la mirada de Johnny\, un niño de 10 años que ve en su nuevo profesor la posibilidad de cambiar una vida con pocas perspectivas. Vemos con emoción cómo su libertad se genera en ambigüidad y vergüenza\, para acabar realizándose. Después de Party Girl\, Samuel Theis vuelve a Forbach para ofrecer una película poética\, dulce y con un punto de vista definitivamente político sobre la etapa que precede a la adolescencia. \n \n????️ Fecha: miércoles 01/02/2023\n⏲️ Hora: 19:45\n???? Lugar: Alianza Francesa de Guatemala\n???? Dirección: 5a calle 10-55\, zona 13\, frente al Museo de los Niños.\n???? ENTRADA GRATUITA\n???? PARQUEO GRATUITO (SEGÚN DISPONIBILIDAD) \n¡Te esperamos! \n#Alianzafrancesagt #franciaenguate #cultura #idiomaycultura
URL:https://alianzafrancesa.org.gt/evento/cine-al-aire-libre-petite-nature/
LOCATION:Alianza Francesa – Ciudad de Guatemala\, 5a. Calle 10-55 Zona 13 - Finca La Aurora\, Ciudad de Guatemala\, Guatemala
CATEGORIES:Agenda,Cine,Cinéma
ORGANIZER;CN="Alianza Francesa de Guatemala":MAILTO:info@alianzafrancesa.org.gt
END:VEVENT
END:VCALENDAR