BEGIN:VCALENDAR
VERSION:2.0
PRODID:-//Alianza Francesa Guatemala - ECPv6.15.20//NONSGML v1.0//EN
CALSCALE:GREGORIAN
METHOD:PUBLISH
X-ORIGINAL-URL:https://alianzafrancesa.org.gt
X-WR-CALDESC:Eventos para Alianza Francesa Guatemala
REFRESH-INTERVAL;VALUE=DURATION:PT1H
X-Robots-Tag:noindex
X-PUBLISHED-TTL:PT1H
BEGIN:VTIMEZONE
TZID:America/Guatemala
BEGIN:STANDARD
TZOFFSETFROM:-0600
TZOFFSETTO:-0600
TZNAME:CST
DTSTART:20220101T000000
END:STANDARD
END:VTIMEZONE
BEGIN:VEVENT
DTSTART;TZID=America/Guatemala:20230221T190000
DTEND;TZID=America/Guatemala:20230221T213000
DTSTAMP:20260422T133202
CREATED:20230203T184300Z
LAST-MODIFIED:20230216T223950Z
UID:8047-1677006000-1677015000@alianzafrancesa.org.gt
SUMMARY:Conferencia El Holocausto por Balas un modelo de crimen de masas en la actualidad por Patrick Desbois
DESCRIPTION:Padre Patrick Desbois es un sacerdote católico francés\, quien cuenta con una larga trayectoria en su misión como religioso. De 1999 a 2016 fue nombrado Secretario General de la Conferencia Episcopal Francesa para la relación con la Comunidad Judía. Además\, funge como asesor del Vaticano sobre las relaciones con el judaísmo. Padre Patrick\, es nieto de un prisionero francés de la Segunda Guerra Mundial que permaneció en el campamento de Rawa Ruska en la frontera entre Polonia y Ucrania. \nEn el año 2004\, une fuerzas con miembros de la Comunidad Católica y Judía francesa y funda Yahad In-Unum (Que significa “Juntos en Uno” en hebreo y latin). El propósito de la organización es fomentar las relaciones entre católicos y judíos. Su más grande y ambiciosa iniciativa es localizar los lugares donde se realizaron ejecuciones masivas de judíos y gitanos en Europa del Este durante la segunda Guerra Mundial. \nAsí mismo\, debemos destacar que es el Presidente fundador de la organización que se dedica a investigar y documentar no solo sobre el Holocausto\, sino también otros Genocidios y crímenes de lesa humanidad. \nEl trabajo tan humanitario del Padre Patrick Desbois\, ha sido reconocido\, alentado y apoyado por presidentes de Francia\, Europa y Estados Unidos. Su trabajo y causa lo ha llevado a ser reconocido internacionalmente y ha obtenido por sus extraordinarios esfuerzos numerosos premios y reconocimientos. \n \n????️ Conferencia en francés y español \n???? Fecha: martes 21/02/2023\n⏲ Hora: 19:00\n???? Lugar: jardín de Alianza Francesa de Guatemala\n???? Dirección: 5a calle 10-55\, zona 13\, frente al Museo de los Niños.\n???? ENTRADA GRATUITA\n???? PARQUEO GRATUITO (SEGÚN DISPONIBILIDAD) \n¡Te esperamos! \n#Alianzafrancesagt #franciaenguate #cultura #idiomaycultura
URL:https://alianzafrancesa.org.gt/evento/presentation-livre-patrick-desbois/
LOCATION:Alianza Francesa de Guatemala\, 5ta calle 10-55 Finca La Aurora zona 13\, Guatemala\, Guatemala\, 01013\, Guatemala
CATEGORIES:Agenda,Literatura,Littérature
ATTACH;FMTTYPE=image/jpeg:https://alianzafrancesa.org.gt/wp-content/uploads/2023/02/banner-min2.jpg
ORGANIZER;CN="Alianza Francesa de Guatemala":MAILTO:info@alianzafrancesa.org.gt
END:VEVENT
END:VCALENDAR