BEGIN:VCALENDAR
VERSION:2.0
PRODID:-//Alianza Francesa Guatemala - ECPv6.15.20//NONSGML v1.0//EN
CALSCALE:GREGORIAN
METHOD:PUBLISH
X-ORIGINAL-URL:https://alianzafrancesa.org.gt
X-WR-CALDESC:Eventos para Alianza Francesa Guatemala
REFRESH-INTERVAL;VALUE=DURATION:PT1H
X-Robots-Tag:noindex
X-PUBLISHED-TTL:PT1H
BEGIN:VTIMEZONE
TZID:America/Guatemala
BEGIN:STANDARD
TZOFFSETFROM:-0600
TZOFFSETTO:-0600
TZNAME:CST
DTSTART:20220101T000000
END:STANDARD
END:VTIMEZONE
BEGIN:VEVENT
DTSTART;TZID=America/Guatemala:20230225T194500
DTEND;TZID=America/Guatemala:20230225T213000
DTSTAMP:20260422T133200
CREATED:20230215T192756Z
LAST-MODIFIED:20230216T222655Z
UID:8088-1677354300-1677360600@alianzafrancesa.org.gt
SUMMARY:Dualidad
DESCRIPTION:Un espectáculo de improvisación teatral basado en las pasiones y aversiones \nEs un espectáculo de improvisación teatral de formato largo donde se crean dos historias independientes\, una historia es inspirada en las pasiones del público y la segunda historia es creada a partir de las aversiones del público. Estas dos historias convergen en determinado momento del espectáculo para unir los dos universos creados o continuar el desarrollo de los universos de forma independiente. \nEn este espectáculo transgredimos el espacio convencional escénico\, las y los espectadores verán las historias 360 grados. Todo se crea en el momento\, haciendo de esta\, una obra única e irrepetible. \n  \n \nXoshil Rose\, actriz\, improvisadora y tallerista guatemalteca. Es egresada de la universidad el bosque de Bogotá Colombia\, con dos diplomados en improvisación teatral y pensum cerrado en la licenciatura en arte dramático USAC. Ha trabajado con compañías y en festivales nacionales e internacionales en Guatemala\, Colombia\, New York. Honduras\, Nicaragua\, entre otros. \nTambién ha facilitado talleres para la juventud con la asociación feminista La Cuerda\, Prodessa y Maia – Impacto Infinito\, sobre teatro y escritura creativa de forma virtual con enfoque feminista\, e impartido talleres para adultos en varias partes de Guatemala\, Honduras y Colombia. \n  \nDiego Cazali\, improvisador con 11 años de experiencia. Ha trabajado con compañías como impronunciables\, República Comedia y Alquimia Escena (Guatemala)\, Comedia ES (El Salvador)\, Impromptu (Costa Rica). Es fundador y director de Salto al vacío. Ha participado dos años consecutivos en el festival centroamericano de comedia (El Salvador) (Stand up e Impro). En el encuentro internacional de match improvisación (Costa Rica)\, festival internacional de clown (Colombia). \nHa impartido talleres de improvisación en Guatemala para artistas locales\, jóvenes y empresas. Además\, ha sido productor de los espectáculos: Salto al vacío\, Los tejedores de historias\, Conexiones\, y Personajes. \nFecha: sábado\, 25 de febrero 2023 \nHora: 19:45 \nEntrada: Q65 en preventa\, Q80 el día del evento \nParqueo: gratuito \nLugar: galería de la AFGT
URL:https://alianzafrancesa.org.gt/evento/dualidad-2/
LOCATION:Alianza Francesa de Guatemala\, 5ta calle 10-55 Finca La Aurora zona 13\, Guatemala\, Guatemala\, 01013\, Guatemala
CATEGORIES:Agenda,Teatro,Théâtre
ATTACH;FMTTYPE=image/jpeg:https://alianzafrancesa.org.gt/wp-content/uploads/2023/02/banner-2-min.jpg
ORGANIZER;CN="Alianza Francesa de Guatemala":MAILTO:info@alianzafrancesa.org.gt
END:VEVENT
END:VCALENDAR