BEGIN:VCALENDAR
VERSION:2.0
PRODID:-//Alianza Francesa Guatemala - ECPv6.15.20//NONSGML v1.0//EN
CALSCALE:GREGORIAN
METHOD:PUBLISH
X-WR-CALNAME:Alianza Francesa Guatemala
X-ORIGINAL-URL:https://alianzafrancesa.org.gt
X-WR-CALDESC:Eventos para Alianza Francesa Guatemala
REFRESH-INTERVAL;VALUE=DURATION:PT1H
X-Robots-Tag:noindex
X-PUBLISHED-TTL:PT1H
BEGIN:VTIMEZONE
TZID:America/Guatemala
BEGIN:STANDARD
TZOFFSETFROM:-0600
TZOFFSETTO:-0600
TZNAME:CST
DTSTART:20220101T000000
END:STANDARD
END:VTIMEZONE
BEGIN:VEVENT
DTSTART;TZID=America/Guatemala:20230427T194500
DTEND;TZID=America/Guatemala:20230427T213000
DTSTAMP:20260422T105147
CREATED:20230419T214046Z
LAST-MODIFIED:20230426T154052Z
UID:8447-1682624700-1682631000@alianzafrancesa.org.gt
SUMMARY:Cine al aire libre - Allons Enfants
DESCRIPTION:En el marco internacional del Día de la Danza\, la Alianza Francesa de Guatemala proyectará la película Allons Enfants de Thierry Demaizière et Alban Teurlai. \n \nSinopsis: \nEl Instituto elitista Turgot es un lugar donde se enseña baile moderno y hip hop\, abierto a jóvenes en riesgo de exclusión social\, a cambio de un “pequeño” esfuerzo: que aprueben las asignaturas generales de secundaria y bachillerato. Se trata no solo de convertirse en artista de hip hop\, sino de romper el ciclo que condena a los jóvenes de familias sin recursos a transformarse en “casos sociales”\, carne de cañón para el mundo. \n \n\nDuración: 1h50\nAudio: en francés con subtítulos en español.\n\n Degustación de cerveza por Cerveza El Zapote\n Fecha: jueves\, 27 de abril 2023\n Hora: 19:45\n Entrada gratuita\n Parqueo gratuito\n Lugar: jardín de la AFGT
URL:https://alianzafrancesa.org.gt/evento/allons-enfants/
LOCATION:Alianza Francesa de Guatemala\, 5ta calle 10-55 Finca La Aurora zona 13\, Guatemala\, Guatemala\, 01013\, Guatemala
CATEGORIES:Agenda,Cine,Cinéma
ATTACH;FMTTYPE=image/jpeg:https://alianzafrancesa.org.gt/wp-content/uploads/2023/04/Mesa-de-trabajo-3-min31.jpg
ORGANIZER;CN="Alianza Francesa de Guatemala":MAILTO:info@alianzafrancesa.org.gt
END:VEVENT
END:VCALENDAR