BEGIN:VCALENDAR
VERSION:2.0
PRODID:-//Alianza Francesa Guatemala - ECPv6.15.20//NONSGML v1.0//EN
CALSCALE:GREGORIAN
METHOD:PUBLISH
X-WR-CALNAME:Alianza Francesa Guatemala
X-ORIGINAL-URL:https://alianzafrancesa.org.gt
X-WR-CALDESC:Eventos para Alianza Francesa Guatemala
REFRESH-INTERVAL;VALUE=DURATION:PT1H
X-Robots-Tag:noindex
X-PUBLISHED-TTL:PT1H
BEGIN:VTIMEZONE
TZID:America/Guatemala
BEGIN:STANDARD
TZOFFSETFROM:-0600
TZOFFSETTO:-0600
TZNAME:CST
DTSTART:20220101T000000
END:STANDARD
END:VTIMEZONE
BEGIN:VEVENT
DTSTART;TZID=America/Guatemala:20230824T194500
DTEND;TZID=America/Guatemala:20230824T220000
DTSTAMP:20260422T050312
CREATED:20230821T222930Z
LAST-MODIFIED:20230821T222930Z
UID:8721-1692906300-1692914400@alianzafrancesa.org.gt
SUMMARY:???? Cine al aire libre | Pataouchnok de Edouard Deluc
DESCRIPTION:???? Cine al aire libre \nNo se pueden perder esta semana la proyección de la película Pataouchnok de Edouard Deluc. \nSinopsis:\nDos amigos con mala suerte crean una empresa que organiza excursiones a caballo en las montañas de los Pirineos franceses\, para cambiar su fortuna. \n????️ Fecha: jueves 24/08/2023\n⏲️ Hora: 19:45\n???? Lugar: jardín de AFGT\n???? Dirección: 5a calle 10-55\, zona 13\, frente al Museo de los Niños.\n???? ENTRADA GRATUITA\n???? PARQUEO GRATUITO (SEGÚN DISPONIBILIDAD) \n¡Te esperamos! \n#Alianzafrancesagt #franciaenguate #cultura #idiomaycultura
URL:https://alianzafrancesa.org.gt/evento/%f0%9f%8d%bf-cine-al-aire-libre-pataouchnok-de-edouard-deluc/
LOCATION:Alianza Francesa de Guatemala\, 5ta calle 10-55 Finca La Aurora zona 13\, Guatemala\, Guatemala\, 01013\, Guatemala
CATEGORIES:Agenda,Cine,Cinéma
ATTACH;FMTTYPE=image/jpeg:https://alianzafrancesa.org.gt/wp-content/uploads/2023/08/petouchnok_cine_al_aire_libre-3-min.jpg
ORGANIZER;CN="Alianza Francesa de Guatemala":MAILTO:info@alianzafrancesa.org.gt
END:VEVENT
END:VCALENDAR