BEGIN:VCALENDAR
VERSION:2.0
PRODID:-//Alianza Francesa Guatemala - ECPv6.15.20//NONSGML v1.0//EN
CALSCALE:GREGORIAN
METHOD:PUBLISH
X-ORIGINAL-URL:https://alianzafrancesa.org.gt
X-WR-CALDESC:Eventos para Alianza Francesa Guatemala
REFRESH-INTERVAL;VALUE=DURATION:PT1H
X-Robots-Tag:noindex
X-PUBLISHED-TTL:PT1H
BEGIN:VTIMEZONE
TZID:America/Guatemala
BEGIN:STANDARD
TZOFFSETFROM:-0600
TZOFFSETTO:-0600
TZNAME:CST
DTSTART:20230101T000000
END:STANDARD
END:VTIMEZONE
BEGIN:VEVENT
DTSTART;TZID=America/Guatemala:20240509T190000
DTEND;TZID=America/Guatemala:20240509T210000
DTSTAMP:20260421T165137
CREATED:20240430T184956Z
LAST-MODIFIED:20240430T184956Z
UID:9494-1715281200-1715288400@alianzafrancesa.org.gt
SUMMARY:Guitarra para todos
DESCRIPTION:¡Celebra el amor maternal de una manera única este Día de las Madres con un concierto especial de guitarra que tocará las fibras más sensibles de tu corazón! Únete a nosotros en una velada llena de emociones y melodías que honran el inigualable vínculo entre madre e hijo. \nEn este concierto dedicado a las madres de todo el mundo\, serás transportado a través de un viaje musical que refleja la ternura\, el sacrificio y la devoción que ellas representan. Desde piezas clásicas impregnadas de nostalgia hasta composiciones contemporáneas llenas de gratitud\, cada nota resonará con el amor más puro y desinteresado que solo una madre puede ofrecer. \nNuestros talentosos guitarristas\, acompañados de sus instrumentos\, te guiará a través de una experiencia sonora que captura la esencia misma del amor maternal. Cada acorde\, cada arpegio\, será un tributo a esas mujeres extraordinarias que nos han dado tanto y han moldeado nuestras vidas de manera inigualable. \nAsí que únete a nosotros para una noche inolvidable llena de música\, recuerdos y celebración. ¡Trae a tu madre\, abuela\, esposa o cualquier figura materna especial en tu vida y déjalas sentirse verdaderamente apreciadas en este día tan especial! \n 
URL:https://alianzafrancesa.org.gt/evento/guitarra-para-todos-4/
LOCATION:Alianza Francesa de Guatemala\, 5ta calle 10-55 Finca La Aurora zona 13\, Guatemala\, Guatemala\, 01013\, Guatemala
CATEGORIES:Agenda,Musique
ATTACH;FMTTYPE=image/jpeg:https://alianzafrancesa.org.gt/wp-content/uploads/2024/04/ppm_post.jpg
ORGANIZER;CN="Alianza Francesa de Guatemala":MAILTO:info@alianzafrancesa.org.gt
END:VEVENT
END:VCALENDAR