BEGIN:VCALENDAR
VERSION:2.0
PRODID:-//Alianza Francesa Guatemala - ECPv6.15.20//NONSGML v1.0//EN
CALSCALE:GREGORIAN
METHOD:PUBLISH
X-WR-CALNAME:Alianza Francesa Guatemala
X-ORIGINAL-URL:https://alianzafrancesa.org.gt
X-WR-CALDESC:Eventos para Alianza Francesa Guatemala
REFRESH-INTERVAL;VALUE=DURATION:PT1H
X-Robots-Tag:noindex
X-PUBLISHED-TTL:PT1H
BEGIN:VTIMEZONE
TZID:America/Guatemala
BEGIN:STANDARD
TZOFFSETFROM:-0600
TZOFFSETTO:-0600
TZNAME:CST
DTSTART:20230101T000000
END:STANDARD
END:VTIMEZONE
BEGIN:VEVENT
DTSTART;TZID=America/Guatemala:20240603T190000
DTEND;TZID=America/Guatemala:20240624T203000
DTSTAMP:20260421T133415
CREATED:20240530T220205Z
LAST-MODIFIED:20240530T220719Z
UID:9614-1717441200-1719261000@alianzafrancesa.org.gt
SUMMARY:???? Clases de Tango Argentino ????
DESCRIPTION:Con Rocio Trkman y Victor Melchor \nEn estas clases\, aprenderás a bailar tango de forma social\, como se hace en las milongas ????????. Además\, conocerás la música de las típicas orquestas de tango ????. Organizamos una milonga al mes para que practiques lo aprendido y disfrutes del ambiente auténtico del tango. \nEl tango es un fenómeno global ????\, y ahora puedes ser parte. ¡Anímate a bailar! \nRocio Trkman y Victor Melchor son una pareja profesional de tango que ha competido en el Campeonato Mundial de Tango en Buenos Aires en 2016 y 2017\, en las categorías de Tango Pista y Tango Escenario ????. Rocio es originaria de Buenos Aires y Victor de Ciudad de Guatemala. Residen en Guatemala\, donde promueven el tango a través de clases y presentaciones. \n???? Cada lunes\n???? 19h00 – 20h30\n???? En la Galería de Arte de la Alianza Francesa\n???? Q350 por el mes\n???? Q100 la clase\n✍️ Inscripción gratuita
URL:https://alianzafrancesa.org.gt/evento/%f0%9f%92%83-clases-de-tango-argentino-%f0%9f%95%ba/
LOCATION:Alianza Francesa de Guatemala\, 5ta calle 10-55 Finca La Aurora zona 13\, Guatemala\, Guatemala\, 01013\, Guatemala
CATEGORIES:Agenda,Danse,Danza,Otros
ATTACH;FMTTYPE=image/jpeg:https://alianzafrancesa.org.gt/wp-content/uploads/2024/05/tango_banner.jpg
ORGANIZER;CN="Alianza Francesa de Guatemala":MAILTO:info@alianzafrancesa.org.gt
END:VEVENT
BEGIN:VEVENT
DTSTART;TZID=America/Guatemala:20240604T190000
DTEND;TZID=America/Guatemala:20240625T210000
DTSTAMP:20260421T133415
CREATED:20240530T221623Z
LAST-MODIFIED:20240530T222749Z
UID:9619-1717527600-1719349200@alianzafrancesa.org.gt
SUMMARY:Dancehall con Persa
DESCRIPTION:El Dancehall llena de energía cada parte de tu cuerpo\, disfruta bailar al ritmo de la música Jamaiquina con El Persa\, conoce su historia\, música y cultura. \nDisfruta de una noche llena de baile como la mejor oportunidad para ejercitarse y divertirse. \nValor de la entrada: Q25 por persona. \nEl Taller está dirigido a todas las edades\, no es necesario tener experiencia en baile.
URL:https://alianzafrancesa.org.gt/evento/dancehall-con-persa/
LOCATION:Alianza Francesa de Guatemala\, 5ta calle 10-55 Finca La Aurora zona 13\, Guatemala\, Guatemala\, 01013\, Guatemala
CATEGORIES:Agenda,Música,Musique
ATTACH;FMTTYPE=image/png:https://alianzafrancesa.org.gt/wp-content/uploads/2024/05/Baner-1.png
END:VEVENT
BEGIN:VEVENT
DTSTART;TZID=America/Guatemala:20240621T180000
DTEND;TZID=America/Guatemala:20240621T220000
DTSTAMP:20260421T133415
CREATED:20240607T184217Z
LAST-MODIFIED:20240607T185258Z
UID:9683-1718992800-1719007200@alianzafrancesa.org.gt
SUMMARY:Fiesta de la Música
DESCRIPTION:¡Celebra la Fiesta de la Música en la Alianza Francesa de Guatemala! \nLa Fiesta de la Música\, también conocida como Fête de la Musique\, es una celebración de la música viva que se lleva a cabo cada año el 21 de junio en más de 80 países de todo el mundo. Esta iniciativa\, originada en Francia en 1982\, busca democratizar el acceso a la música y promover la diversidad de estilos musicales. \nLa Alianza Francesa de Guatemala te invita a celebrar la Fiesta de la Música con un día lleno de música\, diversión y cultura. Disfruta de una clase gratuita de cumbia\, presentaciones en vivo de Trip’n tonic y cumbia por Vampiro Sabanero. \nPrograma:\n18:00 – 19:00: Clase de cumbia gratuita\n19:00 – 19:30: 1.º set de Trip’n tonic\n19:30 – 20:30: 1.º set cumbia Vampiro Sabanero\n20:30 – 21:00: 2.º set de Trip’n tonic\n21:00 – 22:00: 2.º set cumbia Vampiro Sabanero \n????️ 21/06/2024\n⏲️ 18:00\n???? Alianza Francesa de Guatemala\n???? Entrada gratuita\n???? Parqueo gratuito (según disponibilidad)
URL:https://alianzafrancesa.org.gt/evento/fiesta-de-la-musica/
LOCATION:Alianza Francesa de Guatemala\, 5ta calle 10-55 Finca La Aurora zona 13\, Guatemala\, Guatemala\, 01013\, Guatemala
CATEGORIES:Agenda,Música,Musique
ATTACH;FMTTYPE=image/png:https://alianzafrancesa.org.gt/wp-content/uploads/2024/06/FDLM-2024_publication_RS_1920x1080px.png
ORGANIZER;CN="Alianza Francesa de Guatemala":MAILTO:info@alianzafrancesa.org.gt
END:VEVENT
END:VCALENDAR