BEGIN:VCALENDAR
VERSION:2.0
PRODID:-//Alianza Francesa Guatemala - ECPv6.15.20//NONSGML v1.0//EN
CALSCALE:GREGORIAN
METHOD:PUBLISH
X-WR-CALNAME:Alianza Francesa Guatemala
X-ORIGINAL-URL:https://alianzafrancesa.org.gt
X-WR-CALDESC:Eventos para Alianza Francesa Guatemala
REFRESH-INTERVAL;VALUE=DURATION:PT1H
X-Robots-Tag:noindex
X-PUBLISHED-TTL:PT1H
BEGIN:VTIMEZONE
TZID:America/Chicago
BEGIN:DAYLIGHT
TZOFFSETFROM:-0600
TZOFFSETTO:-0500
TZNAME:CDT
DTSTART:20200308T080000
END:DAYLIGHT
BEGIN:STANDARD
TZOFFSETFROM:-0500
TZOFFSETTO:-0600
TZNAME:CST
DTSTART:20201101T070000
END:STANDARD
BEGIN:DAYLIGHT
TZOFFSETFROM:-0600
TZOFFSETTO:-0500
TZNAME:CDT
DTSTART:20210314T080000
END:DAYLIGHT
BEGIN:STANDARD
TZOFFSETFROM:-0500
TZOFFSETTO:-0600
TZNAME:CST
DTSTART:20211107T070000
END:STANDARD
BEGIN:DAYLIGHT
TZOFFSETFROM:-0600
TZOFFSETTO:-0500
TZNAME:CDT
DTSTART:20220313T080000
END:DAYLIGHT
BEGIN:STANDARD
TZOFFSETFROM:-0500
TZOFFSETTO:-0600
TZNAME:CST
DTSTART:20221106T070000
END:STANDARD
END:VTIMEZONE
BEGIN:VEVENT
DTSTART;TZID=America/Chicago:20210308T110000
DTEND;TZID=America/Chicago:20210308T130000
DTSTAMP:20260422T061421
CREATED:20210302T164105Z
LAST-MODIFIED:20210302T164105Z
UID:6339-1615201200-1615208400@alianzafrancesa.org.gt
SUMMARY:Mesa-Redonda | “Mujer y poder en Guatemala. Desafíos para el futuro”
DESCRIPTION:Mesa-Redonda: “Mujer y poder en Guatemala. Desafíos para el futuro”\nEn el marco del Dia Internacional de la mujer\, la Alianza Francesa de Guatemala\, la Embajada de Francia en Guatemala\, el Centro de Estudios Mexicanos y Centroamericanos (CEMCA) y la Fundación Esquipulas les invitan a la mesa-redonda «Mujer y poder en Guatemala. Desafíos para el futuro” con la participación de 6 invitados y 2 moderadoras. \nEn Guatemala\, las mujeres están cada vez más presentes en posiciones de poder a nivel político\, económico\, empresarial\, cultural o académico. \nEn este debate\, se abordarán diferentes temas relacionados con un acercamiento femenino del poder. \n\nLos invitados:\n\n Sra. Anabella Giracca\nLicenciatura en Letras y Filosofía. Miembro de la Comisión Consultiva para la Reforma Educativa de Guatemala. Dirigió el Instituto de Lingüística e Interculturalidad de la Universidad Rafael Landívar (1996-2015). Dirigió la cátedra UNESCO de comunicación para la diversidad cultural. Es escritora\, columnista de Prensa Libre y El Periódico. Es cofundadora e Integrante del Comité Ejecutivo Nacional del Partido Movimiento Semilla. \n\n\n  \n\n Sra. Otilia Lux\nMaya K´iche’. Excomisonada de la Comisión del Esclarecimiento Histórico CEH. Exministra de Cultura y Deportes\, Exdiputada al Congreso de la República. Asesora de Programas de la Mujer de MADRE y FILAC. \n\n\n  \n\n Sra. Sandra Morán\nLesbiana\, feminista y activista. Diputada de la octava legislatura 2016-2020\, integrante de varias organizaciones del Movimiento de Mujeres y feminista. Actualmente\, es convocante al Movimiento de Mujeres con Poder Constituyente y Coordinadora de la Escuela Internacional para la organización Feminista Berta Caceres. \n\n\n  \n\n Sra. Andrea Villagrán\nDiputada al Congreso de la República de Guatemala desde 2017\, reelecta para el periodo 2020-2024 por el Distrito Guatemala. Integrante de las Comisiones de la Mujer\, Relaciones Exteriores\, Cultura\, y Vicepresidenta Comisión de Reformas al Sector Justicia. Licenciada en Ciencia Política por la Universidad Rafael Landívar de Guatemala. \n\n\n  \n\n Sra. Carol Zardetto\nEscritora\, abogada\, autora de cuentos y ensayos literarios y políticos\, y columnista en los periódicos Siglo XXI y El Periódico. Con Pasión Absoluta\, su primera novela\, fue galardonada en el año 2004 con el Premio Centroamericano de Novela Mario Monteforte Toledo. Sus dos últimas novelas La ciudad de los minotauros (2016) y Cuando los Rolling Stones llegaron a la Habana (2019) fueron publicadas por Alfaguara. \n\n\n  \n\n Sr. Jordán Rodas\nAbogado y notario guatemalteco. Actualmente funge como Procurador de los Derechos Humanos de la República de Guatemala desde el 20 de agosto de 2017. \n\n\n  \nLas moderadoras:\n\n Sra. Anaisabel Prera\nAbogada y Notaria\, Doctora en Derecho. Secretaria General de la Corte Suprema de Justicia\, Ministra de Cultura y Deportes\, Diputada. Representante de Guatemala ante la CIM (Comisión Interamericana de Mujeres OEA). Funcionaria Internacional en UNESCO-Paris. Embajadora de Guatemala en Francia\, Suiza y Portugal. Embajadora Delegada ante UNESCO\, OCDE\, BIE. Presidenta de la Fundación Esquipulas. \n\n\n  \n\n Sra. Claudine Chamoreau\nDirectora del Centro francés de estudios mexicanos y centroamericanos\, doctora en Ciencias del Lenguaje por la Universidad de la Sorbona en Paris. Directora de investigación en el Centro Nacional de la Investigación francés (CNRS). Especialista en la gramática de idiomas originarios hablados en México y Centroamérica y en el estudio sociolingüístico de la transmisión de las lenguas a tradición oral. Ha publicado numerosos artículos y libros sobre estos temas. \n\n\nLunes 8 de marzo\n11:00hrs\nPágina Facebook de la Alianza Francesa
URL:https://alianzafrancesa.org.gt/evento/mesa-redonda-mujer-y-poder-en-guatemala-desafios-para-el-futuro/
CATEGORIES:Agenda,Conferencia
END:VEVENT
BEGIN:VEVENT
DTSTART;TZID=America/Chicago:20210325T160000
DTEND;TZID=America/Chicago:20210325T173000
DTSTAMP:20260422T061421
CREATED:20210317T204650Z
LAST-MODIFIED:20210317T204650Z
UID:6387-1616688000-1616693400@alianzafrancesa.org.gt
SUMMARY:Mesa-redonda | Afrodescendientes en Guatemala. Orígenes e identidades.
DESCRIPTION:Mesa-redonda | Afrodescendientes en Guatemala. Orígenes e identidades.\n  \nEl jueves 25 de marzo\, la Alianza Francesa de Guatemala\, la Embajada de Francia en Guatemala y el Centro de Estudios Mexicanos y Centroamericanos (CEMCA) les invitan a la mesa-redonda “Afrodescendientes en Guatemala. Orígenes e identidades”. \nAl proclamar el decenio Internacional para los Afrodescendientes (2015-2024)\, las Naciones Unidas y la comunidad internacional reconoce que los afrodescendientes representan un grupo específico cuyos derechos humanos deben promoverse y protegerse. Alrededor de 200 millones de personas que se identifican a sí mismos como descendientes de africanos viven en las Américas. Muchos millones más viven en otras partes del mundo\, fuera del continente africano. \nEn este debate de ideas\, se contará con la participación de 3 invitados\, Gloria Rowe Arnold (escritora)\, Carlos Agudelo (sociólogo)\, Alfonso Arrivillaga (antropólogo) y una moderadora\, Claudine Chamoreau (directora del Centro francés de estudios mexicanos y centroamericanos). \n\n  \nAlgunas palabras sobre el tema “Afrodescendientes en Guatemala. Orígenes e identidades”\nEl objetivo general de este debate de ideas es poner de manifiesto la diversidad de los orígenes y de las identidades de las personas que se denominan afrodescendientes en Guatemala o afroguatemaltecos. \nDe manera específica\, el objetivo es doble\, por una parte\, a nivel histórico trazar la llegada e instalación de cada grupo\, ya sea la población esclavizada afrodescendiente que empezó a llegar a mediados del siglo XVI\, los garífunas a principios del siglo XIX\, o los provenientes de las Antillas\, en particular de Jamaica a principio del siglo XX. \nTambién será importante mostrar las razones de su llegada a Guatemala como sus contextos y condiciones de instalación. Por otra parte\, nos podremos interrogar sobre la diversidad\, las identidades y los estatus actuales de esa población. Los resultados del último censo de 2018 en materia de ‘Población por pueblos’ registra en cuanto a la población garífuna 19529 personas\, y afrodescendiente y creole 27647 personas. \nNos podemos preguntar si estas cifras reflejan la realidad de la diversidad de la población afrodescendiente\, y cómo ella misma se autopresenta.  Finalmente\, entrará también en debate\, el reconocimiento del Estado de Guatemala hacia la diversidad de la población afrodescendiente en Guatemala. \n  \nLos invitados\nSra. Gloria Rowe Arnold \nGloria Rowe Arnold es autora\, maestra\, lectora\, diseñadora de talleres\, resaltando como facilitadora. Nacida en Puerto Barrios\, Izabal\, Rowe paso la mayor parte de su vida adulta en Harlem\, Nueva York.  Su libro más reciente es «GUIOU Los Otros Negros\, La Presencia Afrojamaiquina en Guatemala». \n \nSr. Carlos Agudelo \nCarlos Agudelo tiene un doctorado en Sociología. Es especialista en Identidades y formas de acción política de poblaciones de origen africano en América Latina y multiculturalismo. Ha trabajado los últimos diez años sobre el pueblo Garífuna. Es un Investigador y docente asociado a varias instituciones en América latina y Francia. Miembro del Laboratorio Mixto Internacional – Movilidades\, Gobernanza y Recursos en la cuenca mesoamericana y del Centro de Estudios Afrodescendientes – CEA de Colombia \n \nSr. Alfonso Arrivillaga \nAlfonso Arrivillaga Cortes\, antropologo y etnomusicologo\, es un investigador titular de la Dirección General de Investigación\, DIGI de la Universidad de San Carlos de Guatemala. Es editor de la Revista Ciencias Sociales y Humanidades de esa misma dependencia. Autor de varios títulos sobre los garínagu. \n  \nLa moderadora\nSra. Claudine Chamoreau \nDirectora del Centro francés de estudios mexicanos y centroamericanos\, doctora en Ciencias del Lenguaje por la Universidad de la Sorbona en Paris. Directora de investigación en el Centro Nacional de la Investigación francés (CNRS). Especialista en la gramática de idiomas originarios hablados en México y Centroamérica y en el estudio sociolingüístico de la transmisión de las lenguas a tradición oral. Ha publicado numerosos artículos y libros sobre estos temas. \n\nJueves 25 de marzo\n16:00hrs\nPágina Facebook de la Alianza Francesa y la de los otros organizadores\n 
URL:https://alianzafrancesa.org.gt/evento/mesa-redonda-afrodescendientes-en-guatemala-origenes-e-identidades/
CATEGORIES:Agenda,Conferencia
ATTACH;FMTTYPE=:
END:VEVENT
END:VCALENDAR