BEGIN:VCALENDAR
VERSION:2.0
PRODID:-//Alianza Francesa Guatemala - ECPv6.15.20//NONSGML v1.0//EN
CALSCALE:GREGORIAN
METHOD:PUBLISH
X-WR-CALNAME:Alianza Francesa Guatemala
X-ORIGINAL-URL:https://alianzafrancesa.org.gt
X-WR-CALDESC:Eventos para Alianza Francesa Guatemala
REFRESH-INTERVAL;VALUE=DURATION:PT1H
X-Robots-Tag:noindex
X-PUBLISHED-TTL:PT1H
BEGIN:VTIMEZONE
TZID:America/Chicago
BEGIN:DAYLIGHT
TZOFFSETFROM:-0600
TZOFFSETTO:-0500
TZNAME:CDT
DTSTART:20200308T080000
END:DAYLIGHT
BEGIN:STANDARD
TZOFFSETFROM:-0500
TZOFFSETTO:-0600
TZNAME:CST
DTSTART:20201101T070000
END:STANDARD
BEGIN:DAYLIGHT
TZOFFSETFROM:-0600
TZOFFSETTO:-0500
TZNAME:CDT
DTSTART:20210314T080000
END:DAYLIGHT
BEGIN:STANDARD
TZOFFSETFROM:-0500
TZOFFSETTO:-0600
TZNAME:CST
DTSTART:20211107T070000
END:STANDARD
BEGIN:DAYLIGHT
TZOFFSETFROM:-0600
TZOFFSETTO:-0500
TZNAME:CDT
DTSTART:20220313T080000
END:DAYLIGHT
BEGIN:STANDARD
TZOFFSETFROM:-0500
TZOFFSETTO:-0600
TZNAME:CST
DTSTART:20221106T070000
END:STANDARD
END:VTIMEZONE
BEGIN:VEVENT
DTSTART;TZID=America/Chicago:20210805T183000
DTEND;TZID=America/Chicago:20210805T193000
DTSTAMP:20260421T224451
CREATED:20210726T191012Z
LAST-MODIFIED:20210726T191012Z
UID:6653-1628188200-1628191800@alianzafrancesa.org.gt
SUMMARY:Proyecto Historieta y Arqueología. "Cultura maya: divulgación científica para todos" 
DESCRIPTION:Proyecto Historieta y Arqueología «Los mayas: arqueología\, divulgación e Ixtz’unun”. \nMesa redonda: «Cultura maya: divulgación científica para todos» \nEl jueves 5 de agosto\, la Alianza Francesa de Guatemala\, el Centro de Estudios Mexicanos y Centroamericanos (CEMCA) y SOPHOS les invitan a la mesa redonda «Cultura maya: divulgación científica para todos” en el marco del proyecto «Los mayas: arqueología\, divulgación e Ixtz’unun”. \nEn este primer evento\, participarán Bárbara Arroyo\, Liwy Grazioso\, Mélanie Forné  y el moderador Daniel Aquino. \n  \n\n  \n«Cultura maya: divulgación científica para todos» \nUn desafío de cada sociedad es permitir el acceso al conocimiento a un amplio público sobre su patrimonio\, en este caso\, los antiguos mayas. La divulgación de los resultados científicos en la sociedad con fines educativos representa un compromiso necesario y un importante reto para los investigadores\, el de establecer vínculos con la población ya sea en espacios dedicados\, como los museos o a través de medios escritos como las historietas. Esta noche\, los arqueólogos invitados discutirán diferentes estrategias y propuestas para dar a conocer de manera lúdica y agradable\, conocimientos complejos. \n\nLos invitados\nLiwy Grazioso  \nActualmente es directora y curadora de Museo Miraflores en la Ciudad Guatemala y Catedrática titular de Arqueología Maya e Iconografía en la Universidad de San Carlos de Guatemala. Licenciada en Arqueología por la Escuela Nacional de Antropología e Historia de México\, cursó la Maestría en Estudios Mesoamericanos en la Universidad Nacional Autónoma de México. Ha realizado investigaciones de campo en diversos sitios de Mesoamérica por más de 30 años. Dirige el Proyecto Arqueológico del Bajo Azúcar y el Programa de Intervención de las Tumbas de Río Azul en Guatemala. \n  \nMélanie Forné \nEs una ilustradora francesa. Pero esta solo es su segunda vida… En la primera\, fue arqueóloga en Guatemala durante 14 años\, participando en múltiples proyectos de investigación en varios sitios mayas. Como investigadora\, percibe con preocupación la separación entre el mundo académico y el gran público. Así fue como empezó su segunda vida: autora de historietas e ilustradora\, Mélanie considera que la imagen y las historias tienen un enorme potencial para la comunicación y la educación. Sus publicaciones más destacadas han sido: “Las historias de Ixtz’unun” (en Prensa Libre\, 2011 a 2013)\, el Popol Wuj (Prensa Libre\, 2015) y varias historietas para niños sobre sitios arqueológicos guatemaltecos como Kaminaljuyu y Raxruhá Viejo. También ha colaborado con el Museo Nacional de Arqueología y Etnología\, el Museo Quai Branly (Paris\, Francia) y sus dibujos han sido expuestos en Guatemala\, Francia\, El Salvador\, y Estados Unidos. Encuentre más de su obra en su portafolio online: https://melanieforne.com/» \n  \nBárbara Arroyo \nBárbara Arroyo recibió su licenciatura en la Universidad de San Carlos de Guatemala en 1987 y obtuvo su doctorado en Antropología en la Universidad de Vanderbilt en 1994.  Realizó un postdoctorado con Héctor Neff en la Universidad de Missouri\, Columbia entre 1997 y 1999.  Es la directora del Proyecto Arqueológico Kaminaljuyu en la ciudad de Guatemala y coordinadora del evento y coeditora de las memorias del Simposio de Investigaciones Arqueológicas en Guatemala\, una publicación anual de la reunión que se organiza todos los años en el Museo de Arqueología y Etnología en Julio en este país\, así como coordinadora de la comisión organizadora de la misma.  Ha publicado varios libros y artículos científicos en revistas reconocidas.  Sus intereses de investigación son los orígenes de la cerámica\, escultura monumental y la complejidad social. \n  \nEl moderador\nDaniel Aquino \nMáster en Gestión del Patrimonio Cultural por la Universidad de Barcelona y Licenciado en Arqueología por la Universidad de San Carlos de Guatemala. Ha participado en varios proyectos de investigación arqueológica en la RBM\, en sitios como La Joyanca\, Naranjo\, Yaxha\, Nakum\, Tikal y Topoxte. Desde 2012 ha conducido el Museo Nacional de Arqueología y Etnología de Guatemala\, generando una agenda de exposiciones temporales\, así como promoviendo la participación de Guatemala en exposiciones internacionales en Finlandia\, Corea\, Chile\, México\, Estados Unidos\, Francia\, Holanda\, Alemania\, España\, Canadá y Austria. Desde 2017 forma parte del Comité de Patrimonio Mundial de UNESCO\, como miembro de la Delegación de Guatemala en calidad de Experto en Patrimonio Cultural\, con mandato hasta noviembre de 2021. \n\nJueves 5 de agosto\n18:30hrs\nPágina Facebook de la Alianza Francesa
URL:https://alianzafrancesa.org.gt/evento/proyecto-historieta-y-arqueologia-los-mayas-arqueologia-divulgacion-e-ixtzunun-mesa-redonda-cultura-maya-divulgacion-cientifica-para-todos/
CATEGORIES:Agenda,Conferencia
ATTACH;FMTTYPE=:
END:VEVENT
BEGIN:VEVENT
DTSTART;TZID=America/Chicago:20210812T183000
DTEND;TZID=America/Chicago:20210812T193000
DTSTAMP:20260421T224451
CREATED:20210728T201733Z
LAST-MODIFIED:20210728T201733Z
UID:6658-1628793000-1628796600@alianzafrancesa.org.gt
SUMMARY:Proyecto Historieta y Arqueología. Mesa redonda: “Historietas y divulgación”
DESCRIPTION:Proyecto Historieta y Arqueología «Los mayas: arqueología\, divulgación e Ixtz’unun”. \nMesa redonda: “Historietas y divulgación”\nEl jueves 12 de agosto\, la Alianza Francesa de Guatemala\, el Centro de Estudios Mexicanos y Centroamericanos (CEMCA) y SOPHOS les presentan un proyecto de historietas sobre el tema de»Los mayas: arqueología\, divulgación e Ixtz’unun. \nEl evento “Historietas y divulgación” contará con la participación de Mélanie Forné\, Erick Valdés y Oscar Méndez como moderador. \n  \n“Historietas y divulgación”\nUn desafío de cada sociedad es permitir el acceso al conocimiento a un amplio público sobre su patrimonio\, en este caso\, los antiguos mayas. La divulgación de los resultados científicos en la sociedad con fines educativos representa un compromiso necesario y un importante reto para los investigadores\, el de establecer vínculos con la población ya sea en espacios dedicados\, como los museos o a través de medios escritos como las historietas. \nEsta mesa redonda abordará el tema de la difusión de conocimientos arqueológicos sobre los mayas especialmente por medio de la historieta.  Los invitados discutirán diferentes métodos y propuestas para reconstituir y animar la vida de los mayas a través del noveno arte. También cuestionarán la pertinencia de ese medio gráfico en el proceso de divulgación educativa\, informativa y lúdica de conocimientos científicos. \n  \nLos invitados\nMélanie Forné \nEs una ilustradora francesa. Pero esta solo es su segunda vida… En la primera\, fue arqueóloga en Guatemala durante 14 años\, participando en múltiples proyectos de investigación en varios sitios mayas. Como investigadora\, percibe con preocupación la separación entre el mundo académico y el gran público. Así fue como empezó su segunda vida: autora de historietas e ilustradora\, Mélanie considera que la imagen y las historias tienen un enorme potencial para la comunicación y la educación. Sus publicaciones más destacadas han sido: “Las historias de Ixtz’unun” (en Prensa Libre\, 2011 a 2013)\, el Popol Wuj (Prensa Libre\, 2015) y varias historietas para niños sobre sitios arqueológicos guatemaltecos como Kaminaljuyu y Raxruhá Viejo. También ha colaborado con el Museo Nacional de Arqueología y Etnología\, el Museo Quai Branly (Paris\, Francia) y sus dibujos han sido expuestos en Guatemala\, Francia\, El Salvador\, y Estados Unidos. Encuentre más de su obra en su portafolio online: https://melanieforne.com/» \nErick Valdés \nEs dibujante diseñador autodidacta con más de 30 años de experiencia en el campo de ilustración y mediación pedagógica de documentos educativos e informativos para instituciones de desarrollo\, ONG´s\, cooperativas y secretarias de Estado con mas de 100 publicaciones en mi haber profesional. Ilustrador del comic maya KAVEK publicado en el año 2000 bajo el guion de su hermano Julio Valdés. Es el creador guionista y dibujante del comic maya “Mayakán”. Y también ganador de varios concursos de diseño entre ellos: \n-2do lugar en diseño para moneda conmemorativa al 5to centenario del descubrimiento de América organizado por el Banco de Guatemala en el año 1991. \n-2do lugar en el concurso juegos florales de la independencia organizado por la empresa BIC\, en el año 2014 \n-2do lugar en el concurso afiche “amistad Corea-Guatemala” organizado por la embajada de Corea en Guatemala en el año 2018. \n  \nEl moderador\nOscar Méndez \nOscar Méndez es Publicista Profesional y Licenciado en Ciencias de la Comunicación por la Universidad de San Carlos de Guatemala y Máster en Gestión Cultural por la Universidad Internacional de Cataluña en Barcelona. Actualmente es Director General de CAPIUSA S. A.\, una empresa con 15 años de experiencia en el ámbito editorial y la organización de todo tipo de eventos y experiencias artístico-culturales. \n  \nJueves 12 de agosto\n18:30hrs\nPágina Facebook de la Alianza Francesa
URL:https://alianzafrancesa.org.gt/evento/proyecto-historieta-y-arqueologia-mesa-redonda-historietas-y-divulgacion/
CATEGORIES:Agenda,Conferencia
ATTACH;FMTTYPE=:
END:VEVENT
BEGIN:VEVENT
DTSTART;TZID=America/Chicago:20210814T110000
DTEND;TZID=America/Chicago:20210814T120000
DTSTAMP:20260421T224451
CREATED:20210726T193321Z
LAST-MODIFIED:20210726T193321Z
UID:6659-1628938800-1628942400@alianzafrancesa.org.gt
SUMMARY:Proyecto Historieta y Arqueología. Presentación de libro: “Reinaldito entrevista a Mélanie Forné\, la creadora de Ixtz'unun\, la traviesa chica maya”
DESCRIPTION:Proyecto Historieta y Arqueología «Los mayas: arqueología\, divulgación e Ixtz’unun”. \nPresentación de libro: “Reinaldito entrevista a Mélanie Forné\, la creadora de Ixtz’unun\, la traviesa chica maya”\nEl sábado 14 de agosto\, \, la Alianza Francesa de Guatemala\, el Centro de Estudios Mexicanos y Centroamericanos (CEMCA) y SOPHOS les invitan a la presentación de libro “Reinaldito entrevista a Mélanie Forné\, la creadora de Ixtz’unun\, la traviesa chica maya”. Será la última actividad del proyecto «Los mayas: arqueología\, divulgación e Ixtz’unun”. \n  \n\n  \nPresentación de libro de la autora Mélanie Forné\nReinaldito\, el monstruo curioso\, se muere de la curiosidad por conocer a Mélanie Forné\, la arqueóloga e ilustradora que creó el personaje de Ixtz’unun\, con quien podemos viajar en el tiempo para saber cómo vivían los mayas hace 13 siglos. Un evento único\, que podrás ver en directo desde las redes de SOPHOS y de Alianza Francesa. \n  \nLa invitada\nMélanie Forné \nEs una ilustradora francesa. Pero esta solo es su segunda vida… En la primera\, fue arqueóloga en Guatemala durante 14 años\, participando en múltiples proyectos de investigación en varios sitios mayas. Como investigadora\, percibe con preocupación la separación entre el mundo académico y el gran público. Así fue como empezó su segunda vida: autora de historietas e ilustradora\, Mélanie considera que la imagen y las historias tienen un enorme potencial para la comunicación y la educación. Sus publicaciones más destacadas han sido: “Las historias de Ixtz’unun” (en Prensa Libre\, 2011 a 2013)\, el Popol Wuj (Prensa Libre\, 2015) y varias historietas para niños sobre sitios arqueológicos guatemaltecos como Kaminaljuyu y Raxruhá Viejo. También ha colaborado con el Museo Nacional de Arqueología y Etnología\, el Museo Quai Branly (Paris\, Francia) y sus dibujos han sido expuestos en Guatemala\, Francia\, El Salvador\, y Estados Unidos. Encuentre más de su obra en su portafolio online: https://melanieforne.com/» \nSábado 14 de agosto\n11:00hrs\nPágina Facebook de la Alianza Francesa
URL:https://alianzafrancesa.org.gt/evento/proyecto-historieta-y-arqueologia-los-mayas-arqueologia-divulgacion-e-ixtzunun-presentacion-de-libro-reinaldito-entrevista-a-melanie-forne-la-creadora-de-ixtzu/
CATEGORIES:Agenda,Conferencia,Literatura
ATTACH;FMTTYPE=:
END:VEVENT
END:VCALENDAR