BEGIN:VCALENDAR
VERSION:2.0
PRODID:-//Alianza Francesa Guatemala - ECPv6.15.20//NONSGML v1.0//EN
CALSCALE:GREGORIAN
METHOD:PUBLISH
X-ORIGINAL-URL:https://alianzafrancesa.org.gt
X-WR-CALDESC:Eventos para Alianza Francesa Guatemala
REFRESH-INTERVAL;VALUE=DURATION:PT1H
X-Robots-Tag:noindex
X-PUBLISHED-TTL:PT1H
BEGIN:VTIMEZONE
TZID:America/Chicago
BEGIN:DAYLIGHT
TZOFFSETFROM:-0600
TZOFFSETTO:-0500
TZNAME:CDT
DTSTART:20200308T080000
END:DAYLIGHT
BEGIN:STANDARD
TZOFFSETFROM:-0500
TZOFFSETTO:-0600
TZNAME:CST
DTSTART:20201101T070000
END:STANDARD
BEGIN:DAYLIGHT
TZOFFSETFROM:-0600
TZOFFSETTO:-0500
TZNAME:CDT
DTSTART:20210314T080000
END:DAYLIGHT
BEGIN:STANDARD
TZOFFSETFROM:-0500
TZOFFSETTO:-0600
TZNAME:CST
DTSTART:20211107T070000
END:STANDARD
BEGIN:DAYLIGHT
TZOFFSETFROM:-0600
TZOFFSETTO:-0500
TZNAME:CDT
DTSTART:20220313T080000
END:DAYLIGHT
BEGIN:STANDARD
TZOFFSETFROM:-0500
TZOFFSETTO:-0600
TZNAME:CST
DTSTART:20221106T070000
END:STANDARD
END:VTIMEZONE
BEGIN:VEVENT
DTSTART;TZID=America/Chicago:20210422T170000
DTEND;TZID=America/Chicago:20210422T183000
DTSTAMP:20260422T062114
CREATED:20210415T160227Z
LAST-MODIFIED:20210415T160227Z
UID:6470-1619110800-1619116200@alianzafrancesa.org.gt
SUMMARY:Mesa-redonda | “Arqueología francesa en Guatemala en la Baja Verapaz y más allá"
DESCRIPTION:Mesa-redonda | «Arqueología francesa en Guatemala en la Baja Verapaz y más allá»\nEl jueves 22 de abril\, la Alianza Francesa de Guatemala\, la Embajada de Francia en Guatemala y el Centro de Estudios Mexicanos y Centroamericanos (CEMCA) les invitan a la mesa-redonda “Arqueología francesa en Guatemala en la Baja Verapaz y más allá”. \nEn este debate de ideas\, se contará con la participación de 3 invitados\, Bárbara Arroyo\, Dominique Michelet\, Claudia Wolley y una moderadora\, Anaite Galeotti. \n\n  \n¿De qué se tratará esta mesa redonda?\nDesde los años 70\, la Mission Française au Guatemala que se llamará después Misión científica franco-guatemalteca\, ha tenido una participación activa en la investigación arqueológica. \nEn sus inicios\, intervino en el sitio de la Lagunita en Quiché. De 1977 a 1982\, Alain Ichon llevó a cabo su trabajo de investigación y de salvamento de un área de unos 40 kilómetros\, a lo largo de la cuenca media del Río Chixoy\, así como de unos de sus afluentes. \nEl legado de Alain Ichon es innegable ya que su equipo\, fue el único en haber estudiado y hecho rescate en esta región\, previo a la construcción de la hidroeléctrica. \n  \nLos invitados\nAnaite Galeotti\nLicenciada en Arqueología por la Escuela de Historia de la USAC. Ha investigado desde 1970 diversos aspectos sociales\, culturales y políticos de los pueblos indígenas de Guatemala. Ha sido docente Universitaria de 2003 a 2014 en la Facultad de Humanidades y en la Escuela de Historia de la USAC. Fue Directora General de la Dirección General del Patrimonio Cultural / IDAEH del Ministerio de Cultura. Colaboró durante quince años en el Centro de Estudios Mexicanos y Centroamericanos CEMCA\, extensión Guatemala como Asistente de Dirección. \n\nDominique Michelet\nDirector de investigación honorario en el CNRS de Francia\, miembro asociado del laboratorio “Archéologie des Amériques”. Ha dirigido o codirigido varios proyectos en la zona maya (en Xculoc\, Xcalumkín\, Balamkú y Río Bec)\, así como varios otros programas de investigación en el Centro-Occidente de Mesoamérica y en la frontera noreste de la misma área. Miembro del Proyecto Naachtun (Petén Noreste). Ex-profesor en las universidades de París Panthéon-Sorbonne y de Montréal. Invitado en la universidad San Carlos de Guatemala (Cátedra Juan Pedro Laporte\, 2013). Exdirector del CEMCA de México (1983-1987). \n  \nClaudia Wolley\nEs licenciada en Arqueología por la Universidad de San Carlos de Guatemala con estudios de Doctorado en Antropología por la Escuela de Artes y Ciencias de la Universidad de Vanderbilt\, Estados Unidos.  Ha trabajado como coordinadora técnica y arqueóloga del Parque Nacional Tikal\, Petén\, ha desarrollado diversos proyectos de investigación como coordinadora e investigadora para la Dirección General de Investigación –DIGI- de la Universidad de San Carlos y ha sido catedrática de la Universidad del Valle de Guatemala. A partir del 2003 es docente en las carreras de Arqueología y Antropología de la Escuela de Historia de la Guatemala. Universidad San Carlos de Guatemala\, y desde el 2012 es Jefe de la Unidad de Investigaciones Históricas\, Arqueológicas y Estudios de Apoyo del Consejo Nacional para la Protección de La Antigua. \n\nLa moderadora\nBárbara Arroyo\nBárbara Arroyo recibió su licenciatura en la Universidad de San Carlos de Guatemala en 1987 y obtuvo su doctorado en Antropología en la Universidad de Vanderbilt en 1994.  Realizó un postdoctorado con Héctor Neff en la Universidad de Missouri\, Columbia entre 1997 y 1999. \nEs la directora del Proyecto Arqueológico Kaminaljuyu en la ciudad de Guatemala y coordinadora del evento y coeditora de las memorias del Simposio de Investigaciones Arqueológicas en Guatemala\, una publicación anual de la reunión que se organiza todos los años en el Museo de Arqueología y Etnología en Julio en este país\, así como coordinadora de la comisión organizadora de la misma.  Ha publicado varios libros y artículos científicos en revistas reconocidas.  Sus intereses de investigación son los orígenes de la cerámica\, escultura monumental y la complejidad social. \n\nJueves 22 de abril\n17:00hrs\nPágina Facebook de la Alianza Francesa
URL:https://alianzafrancesa.org.gt/evento/mesa-redonda-arqueologia-francesa-en-guatemala-en-la-baja-verapaz-y-mas-alla/
CATEGORIES:Agenda,Conferencia
ATTACH;FMTTYPE=:
END:VEVENT
END:VCALENDAR