BEGIN:VCALENDAR
VERSION:2.0
PRODID:-//Alianza Francesa Guatemala - ECPv6.15.20//NONSGML v1.0//EN
CALSCALE:GREGORIAN
METHOD:PUBLISH
X-WR-CALNAME:Alianza Francesa Guatemala
X-ORIGINAL-URL:https://alianzafrancesa.org.gt
X-WR-CALDESC:Eventos para Alianza Francesa Guatemala
REFRESH-INTERVAL;VALUE=DURATION:PT1H
X-Robots-Tag:noindex
X-PUBLISHED-TTL:PT1H
BEGIN:VTIMEZONE
TZID:America/Chicago
BEGIN:DAYLIGHT
TZOFFSETFROM:-0600
TZOFFSETTO:-0500
TZNAME:CDT
DTSTART:20200308T080000
END:DAYLIGHT
BEGIN:STANDARD
TZOFFSETFROM:-0500
TZOFFSETTO:-0600
TZNAME:CST
DTSTART:20201101T070000
END:STANDARD
BEGIN:DAYLIGHT
TZOFFSETFROM:-0600
TZOFFSETTO:-0500
TZNAME:CDT
DTSTART:20210314T080000
END:DAYLIGHT
BEGIN:STANDARD
TZOFFSETFROM:-0500
TZOFFSETTO:-0600
TZNAME:CST
DTSTART:20211107T070000
END:STANDARD
BEGIN:DAYLIGHT
TZOFFSETFROM:-0600
TZOFFSETTO:-0500
TZNAME:CDT
DTSTART:20220313T080000
END:DAYLIGHT
BEGIN:STANDARD
TZOFFSETFROM:-0500
TZOFFSETTO:-0600
TZNAME:CST
DTSTART:20221106T070000
END:STANDARD
END:VTIMEZONE
BEGIN:VEVENT
DTSTART;TZID=America/Chicago:20210814T110000
DTEND;TZID=America/Chicago:20210814T120000
DTSTAMP:20260422T003003
CREATED:20210726T193321Z
LAST-MODIFIED:20210726T193321Z
UID:6659-1628938800-1628942400@alianzafrancesa.org.gt
SUMMARY:Proyecto Historieta y Arqueología. Presentación de libro: “Reinaldito entrevista a Mélanie Forné\, la creadora de Ixtz'unun\, la traviesa chica maya”
DESCRIPTION:Proyecto Historieta y Arqueología «Los mayas: arqueología\, divulgación e Ixtz’unun”. \nPresentación de libro: “Reinaldito entrevista a Mélanie Forné\, la creadora de Ixtz’unun\, la traviesa chica maya”\nEl sábado 14 de agosto\, \, la Alianza Francesa de Guatemala\, el Centro de Estudios Mexicanos y Centroamericanos (CEMCA) y SOPHOS les invitan a la presentación de libro “Reinaldito entrevista a Mélanie Forné\, la creadora de Ixtz’unun\, la traviesa chica maya”. Será la última actividad del proyecto «Los mayas: arqueología\, divulgación e Ixtz’unun”. \n  \n\n  \nPresentación de libro de la autora Mélanie Forné\nReinaldito\, el monstruo curioso\, se muere de la curiosidad por conocer a Mélanie Forné\, la arqueóloga e ilustradora que creó el personaje de Ixtz’unun\, con quien podemos viajar en el tiempo para saber cómo vivían los mayas hace 13 siglos. Un evento único\, que podrás ver en directo desde las redes de SOPHOS y de Alianza Francesa. \n  \nLa invitada\nMélanie Forné \nEs una ilustradora francesa. Pero esta solo es su segunda vida… En la primera\, fue arqueóloga en Guatemala durante 14 años\, participando en múltiples proyectos de investigación en varios sitios mayas. Como investigadora\, percibe con preocupación la separación entre el mundo académico y el gran público. Así fue como empezó su segunda vida: autora de historietas e ilustradora\, Mélanie considera que la imagen y las historias tienen un enorme potencial para la comunicación y la educación. Sus publicaciones más destacadas han sido: “Las historias de Ixtz’unun” (en Prensa Libre\, 2011 a 2013)\, el Popol Wuj (Prensa Libre\, 2015) y varias historietas para niños sobre sitios arqueológicos guatemaltecos como Kaminaljuyu y Raxruhá Viejo. También ha colaborado con el Museo Nacional de Arqueología y Etnología\, el Museo Quai Branly (Paris\, Francia) y sus dibujos han sido expuestos en Guatemala\, Francia\, El Salvador\, y Estados Unidos. Encuentre más de su obra en su portafolio online: https://melanieforne.com/» \nSábado 14 de agosto\n11:00hrs\nPágina Facebook de la Alianza Francesa
URL:https://alianzafrancesa.org.gt/evento/proyecto-historieta-y-arqueologia-los-mayas-arqueologia-divulgacion-e-ixtzunun-presentacion-de-libro-reinaldito-entrevista-a-melanie-forne-la-creadora-de-ixtzu/
CATEGORIES:Agenda,Conferencia,Literatura
ATTACH;FMTTYPE=:
END:VEVENT
END:VCALENDAR