BEGIN:VCALENDAR
VERSION:2.0
PRODID:-//Alianza Francesa Guatemala - ECPv6.15.20//NONSGML v1.0//EN
CALSCALE:GREGORIAN
METHOD:PUBLISH
X-ORIGINAL-URL:https://alianzafrancesa.org.gt
X-WR-CALDESC:Eventos para Alianza Francesa Guatemala
REFRESH-INTERVAL;VALUE=DURATION:PT1H
X-Robots-Tag:noindex
X-PUBLISHED-TTL:PT1H
BEGIN:VTIMEZONE
TZID:America/Guatemala
BEGIN:STANDARD
TZOFFSETFROM:-0600
TZOFFSETTO:-0600
TZNAME:CST
DTSTART:20220101T000000
END:STANDARD
END:VTIMEZONE
BEGIN:VEVENT
DTSTART;TZID=America/Guatemala:20230531T190000
DTEND;TZID=America/Guatemala:20230601T170000
DTSTAMP:20260422T132853
CREATED:20230524T224250Z
LAST-MODIFIED:20230524T224410Z
UID:8494-1685559600-1685638800@alianzafrancesa.org.gt
SUMMARY:No abrir
DESCRIPTION:Una coreografía de Sabrina Castillo Gallusser \n  \nCompañía Momentum de Danza Contemporánea \nEsta agrupación fue fundada en 1988 y se caracterizada por crear obras que son el resultado de procesos creativos que combinan el azar\, la experimentación y el descubrimiento de coincidencias. Desde 2002\, Momentum es la compañía en residencia del Centro de Danza e Investigación del Movimiento de Artes Landívar de la Universidad Rafael Landívar\, institución que facilita su continuidad.  \nLa Compañía Momentum de Danza contemporánea ha presentado más de sesenta producciones escénicas en Guatemala\, Centro América\, México\, Estados Unidos\, Francia e Inglaterra bajo la dirección de su fundadora y coreógrafa Sabrina Castillo Gallusser. La acompañan: Jeffrey Ortega\, asistente creativo\, Andrea Pérez\, Emily Górriz\, María José Almírez y Tania Ché\, bailarinas. \nNo abrir  \nUna coreografía que se aventura alrededor de los movimientos corporales relacionados a las emociones. Se inspira en las pequeñas luchas que todos tenemos al sentirlas\, al compartirlas\, al vivirlas… Para esto se investigó\, entre otros\, el lenguaje de la lucha libre. Inspirada también por el filósofo Gilles Deleuze\, la estructura de la obra está basada en ramificaciones\, flujos acuáticos\, caminos de hormigas que se borran\, que vuelven a surgir\, que recomienzan\, se dispersan\, se atropellan\, se precipitan\, coexisten…  \nCoreografía: Sabrina Castillo Gallusser.  \nBailarines: Andrea Pérez\, Emily Gorriz\, Jeffrey Ortega\, María José Almírez\, Tania Ché.  \nMúsica: Jeisson León\, Waldemar García\, Lenin Franco.  \nVestuario: Dante Rivas.  \nIluminación: José Alejandro Gutiérrez.  \n  \nEsta obra fue creada gracias al apoyo de Artes Landívar\, de la Universidad Rafael Landívar. \n  \nFecha: 31/05 y 1/06/2023\nHora: 19:00\nLugar: jardín de la AFGT\nEntrada: gratuita
URL:https://alianzafrancesa.org.gt/evento/no-abrir-2/
LOCATION:Alianza Francesa de Guatemala\, 5ta calle 10-55 Finca La Aurora zona 13\, Guatemala\, Guatemala\, 01013\, Guatemala
CATEGORIES:Agenda,Autres,Danse,Danza
ATTACH;FMTTYPE=image/jpeg:https://alianzafrancesa.org.gt/wp-content/uploads/2023/05/banner-min41.jpg
ORGANIZER;CN="Alianza Francesa de Guatemala":MAILTO:info@alianzafrancesa.org.gt
END:VEVENT
END:VCALENDAR