BEGIN:VCALENDAR
VERSION:2.0
PRODID:-//Alianza Francesa Guatemala - ECPv6.15.20//NONSGML v1.0//EN
CALSCALE:GREGORIAN
METHOD:PUBLISH
X-WR-CALNAME:Alianza Francesa Guatemala
X-ORIGINAL-URL:https://alianzafrancesa.org.gt
X-WR-CALDESC:Eventos para Alianza Francesa Guatemala
REFRESH-INTERVAL;VALUE=DURATION:PT1H
X-Robots-Tag:noindex
X-PUBLISHED-TTL:PT1H
BEGIN:VTIMEZONE
TZID:America/Guatemala
BEGIN:STANDARD
TZOFFSETFROM:-0600
TZOFFSETTO:-0600
TZNAME:CST
DTSTART:20210101T000000
END:STANDARD
END:VTIMEZONE
BEGIN:VEVENT
DTSTART;TZID=America/Guatemala:20221110T190000
DTEND;TZID=America/Guatemala:20221110T210000
DTSTAMP:20260422T204206
CREATED:20221108T230829Z
LAST-MODIFIED:20221108T230829Z
UID:7822-1668106800-1668114000@alianzafrancesa.org.gt
SUMMARY:Pluridimensional de Dagoberto Vásquez Castañeda
DESCRIPTION:65 AÑOS DESPUÉS EL MAESTRO VUELVE A EXHIBIR EN LA ALIANZA FRANCESA DE GUATEMALA\n \n  \nAlianza Francesa de Guatemala y Fundación Paiz inaugurarán el próximo jueves 10 de noviembre a las 19 horas la muestra “Pluridimensional” del maestro Dagoberto Vásquez en la galería de la Alianza de Guatemala en 5a calle 10-55 zona 13. La exposición explora las distintas facetas del artista que desarrolló gracias a su versatilidad y maestría. \n  \nA finales de 1956 el maestro Vásquez participó en una protesta estudiantil en la que al dirigirse a la Casa Presidencial y subir la sexta avenida hasta el frente del cine Lux\, el grupo fue amenazado por un cerco policial que durante treinta minutos disparó contra los manifestantes. Le quedó grabada la impresión de verse capturado y en los días siguientes estuvo angustiado por las consecuencias que podría tener su apresamiento. \n  \nLogró su libertad junto a un grupo de diez manifestantes y saliendo por la frontera con Honduras se asiló en Costa Rica. Permaneció en San José durante un año trabajando como docente y como dibujante en una oficina de arquitectos. Realizó una exposición personal en la Alianza Francesa de Costa Rica con algunas esculturas\, dibujos y pinturas. Después de esta experiencia transitoria retornó a Guatemala a finales de 1957. Sesenta y cinco años después se celebra el centenario de su nacimiento con una exposición retrospectiva en la Alianza Francesa de Guatemala. \nluc \n  \nDAGOBERTO VÁSQUEZ CASTAÑEDA  \n  \nDagoberto Vásquez nació en la ciudad de Guatemala el 2 de octubre de 1922\, este año se conmemora el centenario de su nacimiento. Esta exposición celebra el genio creativo del maestro. \n  \nSin duda alguna\, Vásquez es uno de los más grandes artistas de la plástica guatemalteca del siglo XX. Como escultor\, pintor\, dibujante\, grabador\, investigador\, crítico y maestro\, el aporte que realizó en el campo de las artes es indispensable para narrar el desarrollo de la historia del arte guatemalteco. \n  \nEntre sus grandes aportes en el campo de la obra pública destacan los murales del Banco de Guatemala y la Municipalidad. \n  \nFue uno de los más destacados y polifacéticos artistas de la llamada Generación de 1940\, su estilo derrochó una gran capacidad de síntesis formal y compositiva en obras que se caracterizaron por su sobriedad\, plasticidad y elegancia.  Sus principales piezas escultóricas fueron realizadas en talla directa en mármol y piedra\, fundición en bronce\, concreto y metal soldado. Sobre papel y lienzo trabajó fundamentalmente con el óleo y la caseína. Sus grabados fueron realizados en xilografía y linóleo. \n  \nSu formación artística inició en 1937 en la Academia Nacional de Bellas Artes\, donde en 1944 concluyó sus estudios de pintura y escultura. Fue discípulo del vitralista Julio Urruela Vásquez\, con quien colaboró en la realización de los vitrales del Palacio Nacional de 1940 a 1944. Viajó por América Latina y Europa y con ello aumentó sus ya pulidos conocimientos de arte. Tras ser becado\, entre 1945 y 1949 marchó a Santiago de Chile para estudiar escultura en la Escuela de Bellas Artes y Fundición en Bronce en la Escuela de Artes Aplicadas\, ambas instituciones de la Universidad de Chile. \n  \nPosteriormente a su regreso se integró como catedrático de la Escuela de Artes Plásticas\, la Escuela Normal de Maestros de Educación Musical y la Facultad de Arquitectura de la Universidad de San Carlos de Guatemala. \n  \nAlgunas de sus piezas escultóricas monumentales se pueden encontrar en distintos puntos de la ciudad de Guatemala. Junto a Efraín Recinos\, Roberto González Goyri\, Guillermo Grajeda Mena y Carlos Mérida conformó el grupo de artistas que tuvieron a su cargo realizar las obras plásticas que se incorporaron a la arquitectura del Centro Cívico de la Ciudad de Guatemala. \n  \nEntre 1969 y 1990 dirigió el Departamento de Folklore de la Dirección General de Bellas Artes; su trabajo de investigación de las artes populares fue muy importante para el país y a la fecha se pueden consultar sus documentos sobre danzas folklóricas\, festividades\, música y pintura popular. \n  \nEn su desarrollo artístico incidió notablemente la búsqueda de la síntesis y la representación honesta de los elementos involucrados en su quehacer; desde la idea a trabajar\, tomando en cuenta el material escogido\, la técnica adecuada y la unión de dichos elementos de una forma coherente para dar lugar a un objeto sintético símbolo vital. \n  \nLa exposición se inaugura el martes 10 de noviembre a las 19 horas y permanecerá abierta al público hasta el 14 de diciembre. \n  \n \n????️Fecha: jueves 10/11/2022\n⏲️Hora: 19:00\n????Lugar: Alianza Francesa de Guatemala\nDirección: 5a calle 10-55 zona 13\, frente al Museo de los Niños.\n????ENTRADA Y PARQUEO GRATUITO \n¡LOS ESPERAMOS!
URL:https://alianzafrancesa.org.gt/evento/pluridimensional-de-dagoberto-vasquez-castaneda/
LOCATION:Alianza Francesa de Guatemala\, 5ta calle 10-55 Finca La Aurora zona 13\, Guatemala\, Guatemala\, 01013\, Guatemala
CATEGORIES:Agenda,Exposición,Otros
ATTACH;FMTTYPE=image/jpeg:https://alianzafrancesa.org.gt/wp-content/uploads/2022/11/banner-1.5-1.5-copy@05x-scaled.jpg
ORGANIZER;CN="Alianza Francesa de Guatemala":MAILTO:info@alianzafrancesa.org.gt
END:VEVENT
BEGIN:VEVENT
DTSTART;TZID=America/Guatemala:20221124T193000
DTEND;TZID=America/Guatemala:20221124T233000
DTSTAMP:20260422T204206
CREATED:20221115T225539Z
LAST-MODIFIED:20221123T191028Z
UID:7890-1669318200-1669332600@alianzafrancesa.org.gt
SUMMARY:Ceremonia de clausura 2022
DESCRIPTION:¡La Alianza Francesa de Guatemala cerrará el ciclo cultural 2022 y queremos celebrarlo con todas y todos ustedes! \n????️Fecha: jueves 24/11/2022\n⏲️Hora: 19:30\n????Lugar: Alianza Francesa de Guatemala\nDirección: 5a calle 10-55\, zona 13\, frente al Museo de los Niños.\n????ENTRADA Y PARQUEO GRATUITO \n\nPROGRAMA\nEXPOSICIÓN | Pluridimensional de Dagoberto Vásquez\nPluridimensional de Dagoberto Vásquez Castañeda \n \n\nMÚSICA | Brigadeiros\n \n  \nDavid Chinchilla – Percusión \nPercusionista y productor musical guatemalteco con 15 años de experiencia en su instrumento. \nHa sido músico e ingeniero de sonido para bandas de latin-jazz\, rock\, pop y bossa nova en Guatemala y Los Ángeles\, CA. \nCompletó estudios de Música\, Producción Musical y Audio en Musician’s Institute en Los Angeles\, CA; Universidad Galileo de Guatemala e Instituto Canzion\, Guatemala. Ha sido baterista para: Natú\, Royal Flush\, Fabiola Roudha\, Reyes Vagos; y baterista de sesión para Intergalactic \nSound System Studios\, Outstanding Productions. Actualmente\, es percusionista / baterista para Filoxera\, Stephanie Zelaya\, Todosantos\, Smoothie\, Loon\, Brigadeiros y Kontrabando. \nFue catedrático para Sonido y Producción Musical en la Universidad Galileo\, Guatemala. \n  \nDavid Lemus | Voz / Guitarra \nCompositor e intérprete guatemalteco. Comenzó a tocar la guitarra y componer canciones a los 12 años. Ha participado en proyectos independientes de rock y bossa nova componiendo\, arreglando e interpretando la guitarra rítmica y vocales. También ha jugado el rol de apoyar el desarrollo empresarial y buscar nuevas oportunidades para los músicos. \nEntre estos proyectos destacan:\nWoodser – Banda guatemalteca de rock indie\, con quienes lanzó 3 producciones discográficas\, además de tocar constantemente dentro del territorio nacional entre 2009 y 2012. Se presentaron en Brasil y Costa Rica en 2012 en conjunto con la organización Fora de Eixo. Filoxera – Banda guatemalteca de Pop/Rock. En el 2016 lanzaron su primer disco #JustMakeMusic. Formaron parte de Gira Triciclo y fueron In-House band de Hard Rock Café y La Cantera. \nEn 2016 participó como impulsor y colaborador en la organización de Gira Triciclo junto a Hot Sugar Mama\, Kontrabando. Estudió Música en la Escuela Superior de Arte de la Universidad Galileo\, donde ha participado como catedrático. \n  \nMÚSICA | Angie Polonsky\n \nCantante\, Compositora e instrumentista. Comenzó tocando el piano a los 6 años y recibió clases de canto desde esa edad. A los 10 años comenzó tocando guitarra y componiendo sus propias canciones. Comenzó sus estudios profesionales en la música a los 15 años. Participó en las Olimpiadas Mundiales de las Artes en Hollywood\, este año (2019) ganó 4 medallas y reconocimientos en sus Composiciones. \nActualmente\, se encuentra cantando y tocando sus canciones propias y grabando su primer EP que saldrá en 2023 llamado ‘’La Ventana’’. \n  \nMÚSICA | DJ El Vampiro Sabanero\n \nSus mágicos shows en vivo y vestuario tropical. Acompañado del acordeón sabanero con filtros dub hace que la cumbia resuene con un toque aún más mágico y destaque las ondas sonoras del acordeón y la guacharaca o guira. Mi música recoge influencias de artistas colombianos como Andres Landero\, Celso Pina\, Quantic y los míticos del ritmo\, Aniceto Molina\, La Tropa Vallenata\, Los Mirlos y Dama Gratis. Ha colaborado con DJs locales e internacionales\, lo que lo ha llevado a compartir escenario con Mezz\, Chamuco\, Green Jesus\, Human Suburbio\, Sonido Quilete\, Fla-K.O. y Montserrat de México\, Monterrey. \n  \nEl trabajo del vampiro sabanero en conjunto con su crew cumbiero ha llevado toda la alegría y sabor de las Altas Cumbias a las caderas de los invitados a la fiesta cumbiambera\, un proyecto que nace con la necesidad de crear espacios seguros donde la cumbia sabanera y rebajada hace que los invitados al proyecto disfruten una experiencia única en la ciudad de Guatemala haciendo mover la cadera y los pies al estilo Kolombiaz. \n  \n¡Te esperamos! \n 
URL:https://alianzafrancesa.org.gt/evento/ceremonia-de-clausura-2022/
LOCATION:Alianza Francesa de Guatemala\, 5ta calle 10-55 Finca La Aurora zona 13\, Guatemala\, Guatemala\, 01013\, Guatemala
CATEGORIES:Agenda,Danse,Exposición,Música,Musique
ATTACH;FMTTYPE=image/png:https://alianzafrancesa.org.gt/wp-content/uploads/2022/11/banner_event_V5-1.png
ORGANIZER;CN="Alianza Francesa de Guatemala":MAILTO:info@alianzafrancesa.org.gt
END:VEVENT
END:VCALENDAR