BEGIN:VCALENDAR
VERSION:2.0
PRODID:-//Alianza Francesa Guatemala - ECPv6.15.20//NONSGML v1.0//EN
CALSCALE:GREGORIAN
METHOD:PUBLISH
X-WR-CALNAME:Alianza Francesa Guatemala
X-ORIGINAL-URL:https://alianzafrancesa.org.gt
X-WR-CALDESC:Eventos para Alianza Francesa Guatemala
REFRESH-INTERVAL;VALUE=DURATION:PT1H
X-Robots-Tag:noindex
X-PUBLISHED-TTL:PT1H
BEGIN:VTIMEZONE
TZID:America/Guatemala
BEGIN:STANDARD
TZOFFSETFROM:-0600
TZOFFSETTO:-0600
TZNAME:CST
DTSTART:20230101T000000
END:STANDARD
END:VTIMEZONE
BEGIN:VEVENT
DTSTART;TZID=America/Guatemala:20241010T190000
DTEND;TZID=America/Guatemala:20241010T220000
DTSTAMP:20260421T103446
CREATED:20241008T203751Z
LAST-MODIFIED:20241008T204414Z
UID:9829-1728586800-1728597600@alianzafrancesa.org.gt
SUMMARY:Inauguración "Rostro del arte textil"
DESCRIPTION:#Inauguracion ????????‍???????? «El Rostro del Arte Textil»\, la red Proteje del Museo Ixchel del tejido maya\, realizará el evento de apertura para esta muestra artística\, con la presentación de una variedad de obras elaboradas por artistas tejedoras del “Telar de Cintura». \n✅ Esta exhibición mostrará obras elaboradas con manos\, mente y corazón\, para dar a conocer la riqueza del arte del tejido maya de Guatemala. \n???? Inauguración: 10 octubre \n???? 19:00 horas \n???? Entrada gratuita \n???? Galería\, Alianza Francesa\, 5ta calle 10-55\, z13 \n???? Parqueo gratuito según disponibilidad
URL:https://alianzafrancesa.org.gt/evento/inauguracion-rostro-del-arte-textil/
CATEGORIES:Agenda,Autres,Exposición,Otros
ATTACH;FMTTYPE=image/jpeg:https://alianzafrancesa.org.gt/wp-content/uploads/2024/10/post_expo_inauguracion_11.jpg
END:VEVENT
BEGIN:VEVENT
DTSTART;TZID=America/Guatemala:20241021T183000
DTEND;TZID=America/Guatemala:20241021T210000
DTSTAMP:20260421T103446
CREATED:20241008T205502Z
LAST-MODIFIED:20241009T223653Z
UID:9852-1729535400-1729544400@alianzafrancesa.org.gt
SUMMARY:Expo Conversatorio “Habitar el cuerpo” con Fanny Vaucher
DESCRIPTION:Te invitamos a participar en la exposición de la Quinta Edición del Concurso Centroamericano de Historietas «Habitar el Cuerpo»\, con la participación de los finalistas guatemaltecos Sergio Valencia y Mafer Medrano\, junto a la ilustradora suiza\, Fanny Vaucher. \nAdemás\, puedes apreciar las obras de todos los artistas finalistas en la presentación itinerante dentro de nuestras instalaciones. \n Entrada gratuita \n Lunes 21 \n 18:30 horas \n Mediateca\, Alianza Francesa\, 5ta calle 10-55\, z13 \n Parqueo gratuito según disponibilidad
URL:https://alianzafrancesa.org.gt/evento/expo-conversatorio-habitar-el-cuerpo-con-fanny-voucher/
LOCATION:Alianza Francesa – Ciudad de Guatemala\, 5a. Calle 10-55 Zona 13 - Finca La Aurora\, Ciudad de Guatemala\, Guatemala
CATEGORIES:Agenda,Artes Plásticas,Arts Plastiques,Conferencia,Debate,Exposición,Otros
ATTACH;FMTTYPE=image/jpeg:https://alianzafrancesa.org.gt/wp-content/uploads/2024/10/bd_expo2.jpg
ORGANIZER;CN="Alianza Francesa de Guatemala":MAILTO:info@alianzafrancesa.org.gt
END:VEVENT
BEGIN:VEVENT
DTSTART;TZID=America/Guatemala:20241024T190000
DTEND;TZID=America/Guatemala:20241026T210000
DTSTAMP:20260421T103446
CREATED:20241008T210957Z
LAST-MODIFIED:20241008T211016Z
UID:9863-1729796400-1729976400@alianzafrancesa.org.gt
SUMMARY:Muestra de cine de terror latinoamericano - Festival Xibalbá 2024
DESCRIPTION:Durante 3 días consecutivos podrás descubrir varios largo y cortometrajes o fragmentos del cine más terrorífico de la región en este tenebroso evento. \nTambién contaremos con musicalización en vivo junto con talleres formativos sobre música y efectos especiales para cine de terror. \n24/10  | Cine concierto de terror \n25/10  | Largometraje «Los Turistas» \n25/10  | Cortometrajes centroamericanos \n26/10  | Máster class Música Cine de Terror \n26/10  | Cortometrajes centroamericanos \n Entrada pagada * \n Entrada gratuita * \n 24\, 25 y 26 de octubre \n Horario por evento* \n Alianza Francesa de Guatemala\, 5ta calle 10-55\, z13 \n Parqueo gratuito según disponibilidad \n* Confirma en nuestras redes sociales
URL:https://alianzafrancesa.org.gt/evento/muestra-de-cine-de-terror-latinoamericano-festival-xibalba-2024/
LOCATION:Alianza Francesa – Ciudad de Guatemala\, 5a. Calle 10-55 Zona 13 - Finca La Aurora\, Ciudad de Guatemala\, Guatemala
CATEGORIES:Agenda,Cine,Cinéma,Conferencia,Exposición,Otros
ATTACH;FMTTYPE=image/jpeg:https://alianzafrancesa.org.gt/wp-content/uploads/2024/10/IMG-20241001-WA0041.jpg
END:VEVENT
BEGIN:VEVENT
DTSTART;TZID=America/Guatemala:20241029T090000
DTEND;TZID=America/Guatemala:20241029T170000
DTSTAMP:20260421T103446
CREATED:20241008T203937Z
LAST-MODIFIED:20241008T203937Z
UID:9833-1730192400-1730221200@alianzafrancesa.org.gt
SUMMARY:Exposición de octubre - El rostro del arte textil
DESCRIPTION:Todo el mes de octubre puedes visitar la Exposición “El rostro del arte textil”\, donde podrás apreciar el trabajo realizado por el comité de tejedoras de ProTeje Museo Ixchel\, a tu disposición del 10 al 29 de octubre en el área de Galería. \nEn esta muestra\, podrás encontrar representación de comunidades como San Pedro Sacatepéquez\, Palín\, Tactic\, San Lucas Tolimán y Santa Catarina Ixtahuacán. \nEste espacio es gratuito e ideal para toda la familia\, para descubrir más sobre los tejidos ancestrales en el mundo actual y también para apoyar con su compra. \nExposición: 10 al 29 octubre \nHorario: 9:00 a 17 horas \nEntrada: gratuita \nGalería de Arte\, Alianza Francesa
URL:https://alianzafrancesa.org.gt/evento/exposicion-de-octubre-el-rostro-del-arte-textil/
CATEGORIES:Agenda,Exposición,Otros
ATTACH;FMTTYPE=image/jpeg:https://alianzafrancesa.org.gt/wp-content/uploads/2024/10/post_expo1.jpg
END:VEVENT
END:VCALENDAR