BEGIN:VCALENDAR
VERSION:2.0
PRODID:-//Alianza Francesa Guatemala - ECPv6.15.20//NONSGML v1.0//EN
CALSCALE:GREGORIAN
METHOD:PUBLISH
X-WR-CALNAME:Alianza Francesa Guatemala
X-ORIGINAL-URL:https://alianzafrancesa.org.gt
X-WR-CALDESC:Eventos para Alianza Francesa Guatemala
REFRESH-INTERVAL;VALUE=DURATION:PT1H
X-Robots-Tag:noindex
X-PUBLISHED-TTL:PT1H
BEGIN:VTIMEZONE
TZID:America/Chicago
BEGIN:DAYLIGHT
TZOFFSETFROM:-0600
TZOFFSETTO:-0500
TZNAME:CDT
DTSTART:20170312T080000
END:DAYLIGHT
BEGIN:STANDARD
TZOFFSETFROM:-0500
TZOFFSETTO:-0600
TZNAME:CST
DTSTART:20171105T070000
END:STANDARD
BEGIN:DAYLIGHT
TZOFFSETFROM:-0600
TZOFFSETTO:-0500
TZNAME:CDT
DTSTART:20180311T080000
END:DAYLIGHT
BEGIN:STANDARD
TZOFFSETFROM:-0500
TZOFFSETTO:-0600
TZNAME:CST
DTSTART:20181104T070000
END:STANDARD
BEGIN:DAYLIGHT
TZOFFSETFROM:-0600
TZOFFSETTO:-0500
TZNAME:CDT
DTSTART:20190310T080000
END:DAYLIGHT
BEGIN:STANDARD
TZOFFSETFROM:-0500
TZOFFSETTO:-0600
TZNAME:CST
DTSTART:20191103T070000
END:STANDARD
END:VTIMEZONE
BEGIN:VEVENT
DTSTART;TZID=America/Chicago:20181115T193000
DTEND;TZID=America/Chicago:20181115T220000
DTSTAMP:20260425T053129
CREATED:20181031T010004Z
LAST-MODIFIED:20181031T010004Z
UID:4019-1542310200-1542319200@alianzafrancesa.org.gt
SUMMARY:Noche de cine-conciertos
DESCRIPTION:Noche de cine-conciertos\n  \nCuarta y última edición del año del ciclo especial de cine-conciertos: integración de música en directo sobre corto-metrajes de Charles Chaplin\, Buster Keaton y Harold Lloyd\, etc. Y otras joyas del cine mudo a cargo del trompetista Jacobo Nitsch (Malacates Trebol Shop\, Jazzimba\, etc.)\, del pianista Victor Arriaza (Imaox Jazz\, etc.) y de sus invitados. \n \n \n  \n19:45 horas \nJardín \nAlianza Francesa de Guatemala \nEntrada: Q20.00 preventa / Q30.00 taquilla \n \n \n 
URL:https://alianzafrancesa.org.gt/evento/noche-de-cine-conciertos-2/
LOCATION:Alianza Francesa de Guatemala\, 5ta calle 10-55 Finca La Aurora zona 13\, Guatemala\, Guatemala\, 01013\, Guatemala
CATEGORIES:Agenda,Cine,Música,Otros
ATTACH;FMTTYPE=:
ORGANIZER;CN="Alianza Francesa de Guatemala":MAILTO:info@alianzafrancesa.org.gt
END:VEVENT
BEGIN:VEVENT
DTSTART;TZID=America/Chicago:20181117T150000
DTEND;TZID=America/Chicago:20181117T190000
DTSTAMP:20260425T053129
CREATED:20181031T011346Z
LAST-MODIFIED:20181031T011346Z
UID:4031-1542466800-1542481200@alianzafrancesa.org.gt
SUMMARY:Recital de fin de año del Programa Pedagógico-musical
DESCRIPTION:Recital de fin de año\nPrograma Pedagógico-musical \n  \nRecital del programa pedagógico-musical de Alianza Francesa y la Asociación Cultural Victoria para celebrar el fin del año. Para esa ocasión\, los alumnos brindarán un recital junto con sus maestros.  \n \n \n  \n15:00 horas \nJardín \nAlianza Francesa de Guatemala \n \n \n \n 
URL:https://alianzafrancesa.org.gt/evento/recital-de-fin-de-ano-del-programa-pedagogico-musical/
LOCATION:Alianza Francesa de Guatemala\, 5ta calle 10-55 Finca La Aurora zona 13\, Guatemala\, Guatemala\, 01013\, Guatemala
CATEGORIES:Agenda,Música,Otros
ATTACH;FMTTYPE=:
ORGANIZER;CN="Alianza Francesa de Guatemala":MAILTO:info@alianzafrancesa.org.gt
END:VEVENT
BEGIN:VEVENT
DTSTART;TZID=America/Chicago:20181123T170000
DTEND;TZID=America/Chicago:20181123T233000
DTSTAMP:20260425T053129
CREATED:20181031T014100Z
LAST-MODIFIED:20181031T014100Z
UID:4047-1542992400-1543015800@alianzafrancesa.org.gt
SUMMARY:Festival Barrilete 2018
DESCRIPTION:Festival Barrilete 2018\n  \nFESTIVAL BARRILETE 2018 \nEl barrilete representa el folclore y el color de nuestras raíces\, es un símbolo de contacto con lo trascendental\, lo cual buscamos con la música\, trascender emociones y crear momentos únicos. Es un festival anual cuyo objetivo es crear espacios para amalgamar las mejores propuestas sonoras del año tanto emergentes como consolidadas. \nEste año se llevara a cabo la tercera edición del mismo en la Alianza Francesa y propone un cambio en la puesta en escena\, ahora se mezclara lo mejor del arte local con el internacional\, en un ambiente de solidaridad y armonía. \n \n  \n  \n  \nEL EVENTO \nNo es simplemente un evento musical sino una experiencia que aporte significativamente al movimiento cultural del país. Este evento consistirá en 2 días de mucha música y actividades varias. \nEl evento se llevara a cabo el 23 y 24 de Noviembre del presente año. Empezando el primer día a las 5 pm y el segundo a las 2 pm\, se tendrán espacios para recreación y convivencia entre el público participante y los artistas. Habrá dos escenarios uno en el jardín principal y otro en la galería. \nContaremos con foodtrucks de comida y bebidas\, así como\, mercancía de las bandas y diferentes estaciones de entretenimiento. El festival es una oportunidad única de exposición tanto para los vendedores\, el establecimiento y las bandas\, se pretende que sea un encuentro en donde converjan distintos agentes de la industria. \nEntradas a la venta en: https://f-o-m-o.tv/producto/festival-barrilete-2018/ \n \n  \nUN SHOW AUDIOVISUAL \n Estamos conscientes que la música es algo más que una experiencia auditiva\, es una experiencia sensorial integral y se busca crear una impresión importante en la audiencia para que el evento sea de talla mundial\, se cuenta con el apoyo de HG Productions e Imperio Sound para elevar dicha experiencia al máximo. \nSe contratara a un show de luces sincronizadas para generar un impacto fuerte en el espectador y se trabajara la puesta en escena de cada banda para agilizar los cambios y cumplir con el horario.\n \n\n \nhttps://www.facebook.com/events/281027125845881/?active_tab=discussion\n  \nA partir de las 17:00 horas \nJardín y Galería \nAlianza Francesa de Guatemala \nEntrada: Q100.00 por un día // Q150.00 dos días \n 
URL:https://alianzafrancesa.org.gt/evento/festival-barrilete-2018/
LOCATION:Alianza Francesa de Guatemala\, 5ta calle 10-55 Finca La Aurora zona 13\, Guatemala\, Guatemala\, 01013\, Guatemala
CATEGORIES:Agenda,Artes Plásticas,Diseño,Música,Otros
ATTACH;FMTTYPE=:
ORGANIZER;CN="Alianza Francesa de Guatemala":MAILTO:info@alianzafrancesa.org.gt
END:VEVENT
BEGIN:VEVENT
DTSTART;TZID=America/Chicago:20181124T140000
DTEND;TZID=America/Chicago:20181124T233000
DTSTAMP:20260425T053129
CREATED:20181031T014313Z
LAST-MODIFIED:20181031T014313Z
UID:4053-1543068000-1543102200@alianzafrancesa.org.gt
SUMMARY:Festival Barrilete 2018
DESCRIPTION:Festival Barrilete 2018\n\nFESTIVAL BARRILETE 2018 \nEl barrilete representa el folclore y el color de nuestras raíces\, es un símbolo de contacto con lo trascendental\, lo cual buscamos con la música\, trascender emociones y crear momentos únicos. Es un festival anual cuyo objetivo es crear espacios para amalgamar las mejores propuestas sonoras del año tanto emergentes como consolidadas. \nEste año se llevara a cabo la tercera edición del mismo en la Alianza Francesa y propone un cambio en la puesta en escena\, ahora se mezclara lo mejor del arte local con el internacional\, en un ambiente de solidaridad y armonía. \n \n  \nEL EVENTO \nNo es simplemente un evento musical sino una experiencia que aporte significativamente al movimiento cultural del país. Este evento consistirá en 2 días de mucha música y actividades varias. \nEl evento se llevara a cabo el 23 y 24 de Noviembre del presente año. Empezando el primer día a las 5 pm y el segundo a las 2 pm\, se tendrán espacios para recreación y convivencia entre el público participante y los artistas. Habrá dos escenarios uno en el jardín principal y otro en la galería. \nContaremos con foodtrucks de comida y bebidas\, así como\, mercancía de las bandas y diferentes estaciones de entretenimiento. El festival es una oportunidad única de exposición tanto para los vendedores\, el establecimiento y las bandas\, se pretende que sea un encuentro en donde converjan distintos agentes de la industria. \nEntradas a la venta en: https://f-o-m-o.tv/producto/festival-barrilete-2018/ \n\n\nUN SHOW AUDIOVISUAL \n Estamos conscientes que la música es algo más que una experiencia auditiva\, es una experiencia sensorial integral y se busca crear una impresión importante en la audiencia para que el evento sea de talla mundial\, se cuenta con el apoyo de HG Productions e Imperio Sound para elevar dicha experiencia al máximo. \nSe contratara a un show de luces sincronizadas para generar un impacto fuerte en el espectador y se trabajara la puesta en escena de cada banda para agilizar los cambios y cumplir con el horario.\n \n\n \nhttps://www.facebook.com/events/281027125845881/?active_tab=discussion\n  \nA partir de las 17:00 horas \nJardín y Galería \nAlianza Francesa de Guatemala \nEntrada: Q100.00 por un día // Q150.00 dos días \n 
URL:https://alianzafrancesa.org.gt/evento/festival-barrilete-2018-2/
LOCATION:Alianza Francesa de Guatemala\, 5ta calle 10-55 Finca La Aurora zona 13\, Guatemala\, Guatemala\, 01013\, Guatemala
CATEGORIES:Agenda,Artes Plásticas,Diseño,Música,Otros
ATTACH;FMTTYPE=:
ORGANIZER;CN="Alianza Francesa de Guatemala":MAILTO:info@alianzafrancesa.org.gt
END:VEVENT
BEGIN:VEVENT
DTSTART;TZID=America/Chicago:20181127T193000
DTEND;TZID=America/Chicago:20181127T220000
DTSTAMP:20260425T053129
CREATED:20181031T014955Z
LAST-MODIFIED:20181031T014955Z
UID:4055-1543347000-1543356000@alianzafrancesa.org.gt
SUMMARY:“A la orilla del tiempo” - Obra de danza/circo de Ileana Ortega
DESCRIPTION:“A la orilla del tiempo”\nObra de danza/circo de Ileana Ortega\n  \nA LA ORILLA DEL TIEMPO  \nEs un espectáculo de danza y circo en el que se amalgama el mito\, obra y vida de la poeta guatemalteca Isabel de los Ángeles Ruano\, Premio Nacional de Literatura 2001. \nEs la propuesta de danza/circo contemporánea presentada por la Alianza Francesa de Guatemala\, el martes 27 de noviembre a las 19:30 horas. \n“A la orilla del tiempo\, nos sentamos a observar la poesía que nos pasa de frente\, buscamos las huellas de alguien que que no deja más rastro que historias inconclusas y distancias\, transitamos por su historia y su poesía hasta ascender en la yerma quietud de los silencios.” \n  \n  \nFicha Técnica \nCreación colectiva \nProducción: Centro Cultural de España en Guatemala \nDramaturgia: Ileana Ortega Estrada / Miguel Ángel Jordán \nDirección: Ileana Ortega \nActrices de circo: María Reyes Larín / Georgia Arévalo \nManipulación de Títere: Paola Orellana \nMúsica original y arreglos musicales: Gustavo Fernández \nCreación de títere y asesoría de manipulación: Esvin López (Yuyo) \nVestuario: Ileana Ortega Estrada y Carola Estrada \nFotografía: Carlos Euler Coy \nAsesoría: Roberto Magro \nResidencias: Escuela de Circo Batz / Centro Cultural Sotzil Jay / Centro Cultural de España en Guatemala \n \n  \n19:30 horas \nGalería de arte \nAlianza Francesa de Guatemala \nEntrada: Q 20.00 en preventa / Q 30.00 en taquilla  \n \n \n 
URL:https://alianzafrancesa.org.gt/evento/a-la-orilla-del-tiempo-obra-de-danza-circo-de-ileana-ortega/
LOCATION:Alianza Francesa de Guatemala\, 5ta calle 10-55 Finca La Aurora zona 13\, Guatemala\, Guatemala\, 01013\, Guatemala
CATEGORIES:Agenda,Danza,Música,Otros
ATTACH;FMTTYPE=:
ORGANIZER;CN="Alianza Francesa de Guatemala":MAILTO:info@alianzafrancesa.org.gt
END:VEVENT
BEGIN:VEVENT
DTSTART;TZID=America/Chicago:20181129T200000
DTEND;TZID=America/Chicago:20181129T233000
DTSTAMP:20260425T053129
CREATED:20181031T184723Z
LAST-MODIFIED:20181031T184723Z
UID:4107-1543521600-1543534200@alianzafrancesa.org.gt
SUMMARY:CLAUSURA DE TEMPORADA 2018
DESCRIPTION:CLAUSURA DE TEMPORADA 2018\nHOMENAJE CHARLES AZNAVOUR\n  \nPROGRAMA \n¡Terminamos una rica temporada y queremos celebrarlo y compartirlo con todos ustedes! \nClausura oficial de la temporada 2018 de la Alianza Francesa Guatemala\, el jueves 29 de noviembre a las 20:00hrs con: \n  \nExposiciones\n>> «France eMotion\, el viaje animado» en la galería de arte\n>> «los resultados del concurso de historietas\, crónicas de viaje» en el CUBO \nMúsica\n>> un homenaje a Charles Aznavour\n(Eric Malbrun y Carmen Perez – cantantes\, y Luis Gonzalez – acordeonista)\n>> De la Rut \n>> Gato Tuerto \nFoodrucks\n>>  Don Bistro & Food Truck Cabrito Cabrón\n>> Crêpette \nCervezas \n>> ofrecidas por la Cervecería Centro Americana \nEXPOSICIONES \n\n“France eMotion\, el viaje animado» en la galería de arte\n\n\nCuatro fotógrafos extranjeros de 4 continentes diferentes han sido elegidos para traer una mirada renovada sobre el patrimonio cultural francés. De estos 35 dípticos\, dos creadores franceses aportaron una dimensión digital al proyecto animando estas imágenes gracias a una aplicación original de realidad aumentada\, simple y accesible para todos. \n\n\n«los resultados del concurso de historietas\, crónicas de viaje» en el CUBO\n\n  \n\nEsta segunda edición del Concurso Centroamericano de Historieta es el fruto de una colaboración dinámica e internacional. Con el apoyo de la Red de las Alianzas Francesas en Centroamérica\, la Librería Francesa\, la Nicolas Grivel Agency\, el Centre National du Livre de Francia\, y la participación de un prestigioso artista en el jurado\, Guy Delisle\, esta edición 2018 amplia los horizontes de este premio. \nCreado para valorizar la joven creación centroamericana alrededor de una de las especialidades francesas\, la historieta\, y pensado para ayudar a jóvenes artistas a ser reconocidos por editoriales especializadas\, este concurso 2018 nos ofrece una rica variedad de autores de Costa Rica\, Guatemala y Panamá\, que nos dibujan sus crónicas de viajes con estilos muy diversos. \n  \nMÚSICA \n\nUn homenaje a Charles Aznavour en el jardín de la Alianza Francesa\n\n\nEric Malbrun y Carmen Perez – cantantes \nLuis Gonzalez – acordeonista \n\n\nConcierto de la banda DE LA RUT\, en el jardín de la Alianza Francesa\n\n\nEn el corazón de Guatemala\, cuatro mundos\, cuatro gustos musicales diferentes\, cuatro caminos que se encuentran para darle vida a DE LA RUT\, nombre que viene del Francés “De la route” y significa “Del Camino”.  René Herrera (vocalista)\, Edgar Fuentes (Guitarra 1)\, Ronal Sampuel (Guitarra 2)\, Luis Fuentes (Bajo) desde hace cinco años decidieron recorrer un mismo camino artístico: la música. Su pasión por este arte se hizo presente a temprana edad. Sus estudios universitarios decidieron enfocarlos en diversos géneros\, instrumentos y sonidos que fueron alimentando su vida. En 2013\, emprenden el camino para llevar su música a diferentes lugares\, viajando por el reggae\, soul\, bossanova\, jazz\, pop y el hip hop\, sin perder la identidad de la banda\, misma que se sumerge en sus trabajos discográficos. \n\n\nDJ: El Gato Tuerto del colectivo Analógicos\n\n\nGato Tuerto es un experimento sonoro\, es la búsqueda de la armonía dentro de la capacidad digital y sus diferentes capas\, la idea central es combinar técnicas clásicas de mezcla de audio\, y alterarlas por criterios de otros artes como el montaje cinematográfico\, y que como resultado permita encontrar nuevas atmósferas rítmicas. \n  \n20:00 horas \nAlianza Francesa de Guatemala \nEntrada Libre
URL:https://alianzafrancesa.org.gt/evento/clausura-de-temporada-2018/
LOCATION:horarios_semi-intensivos.svg
CATEGORIES:Agenda,Artes Plásticas,Cine,Diseño,Música,Otros
ATTACH;FMTTYPE=:
ORGANIZER;CN="Alianza Francesa de Guatemala":MAILTO:info@alianzafrancesa.org.gt
END:VEVENT
END:VCALENDAR