BEGIN:VCALENDAR
VERSION:2.0
PRODID:-//Alianza Francesa Guatemala - ECPv6.15.20//NONSGML v1.0//EN
CALSCALE:GREGORIAN
METHOD:PUBLISH
X-WR-CALNAME:Alianza Francesa Guatemala
X-ORIGINAL-URL:https://alianzafrancesa.org.gt
X-WR-CALDESC:Eventos para Alianza Francesa Guatemala
REFRESH-INTERVAL;VALUE=DURATION:PT1H
X-Robots-Tag:noindex
X-PUBLISHED-TTL:PT1H
BEGIN:VTIMEZONE
TZID:America/Chicago
BEGIN:DAYLIGHT
TZOFFSETFROM:-0600
TZOFFSETTO:-0500
TZNAME:CDT
DTSTART:20180311T080000
END:DAYLIGHT
BEGIN:STANDARD
TZOFFSETFROM:-0500
TZOFFSETTO:-0600
TZNAME:CST
DTSTART:20181104T070000
END:STANDARD
BEGIN:DAYLIGHT
TZOFFSETFROM:-0600
TZOFFSETTO:-0500
TZNAME:CDT
DTSTART:20190310T080000
END:DAYLIGHT
BEGIN:STANDARD
TZOFFSETFROM:-0500
TZOFFSETTO:-0600
TZNAME:CST
DTSTART:20191103T070000
END:STANDARD
BEGIN:DAYLIGHT
TZOFFSETFROM:-0600
TZOFFSETTO:-0500
TZNAME:CDT
DTSTART:20200308T080000
END:DAYLIGHT
BEGIN:STANDARD
TZOFFSETFROM:-0500
TZOFFSETTO:-0600
TZNAME:CST
DTSTART:20201101T070000
END:STANDARD
END:VTIMEZONE
BEGIN:VEVENT
DTSTART;TZID=America/Chicago:20190404T193000
DTEND;TZID=America/Chicago:20190404T220000
DTSTAMP:20260424T211102
CREATED:20190311T212820Z
LAST-MODIFIED:20190311T212820Z
UID:4433-1554406200-1554415200@alianzafrancesa.org.gt
SUMMARY:Recital de Jazz
DESCRIPTION:Recital de Jazz\nUniversidad Da Vinci de Guatemala y la Facultad de Música UDV\, como parte de los recitales de graduación de los alumnos del PROA Licenciatura en Ejecución Musical\, presenta el concierto de Victor Arriaza\, Celeste Nova\, Pedro Gonzalez\, Jose Villagran y Rosse Aguilar Barrascout. \n\n \n  \nJueves 4 de abril\n19:30hrs\nEntrada libre\nGalería de arte de la Alianza francesa de Guatemala\n \n \n 
URL:https://alianzafrancesa.org.gt/evento/recital-de-jazz/
LOCATION:Alianza Francesa de Guatemala\, 5ta calle 10-55 Finca La Aurora zona 13\, Guatemala\, Guatemala\, 01013\, Guatemala
CATEGORIES:Agenda,Música
ATTACH;FMTTYPE=:
ORGANIZER;CN="Alianza Francesa de Guatemala":MAILTO:info@alianzafrancesa.org.gt
END:VEVENT
BEGIN:VEVENT
DTSTART;TZID=America/Chicago:20190425T193000
DTEND;TZID=America/Chicago:20190425T220000
DTSTAMP:20260424T211102
CREATED:20190311T225951Z
LAST-MODIFIED:20190311T225951Z
UID:4466-1556220600-1556229600@alianzafrancesa.org.gt
SUMMARY:Concierto Aimin Etwal
DESCRIPTION:Concierto Aimin Etwal\nA partir de abril 2019\, cada mes la Alianza Francesa de Guatemala propondrá al público descubrir o reescuchar a los cantautores más talentosos de Guatemala\, confirmados o emergentes\, en su famosa Galería de arte\, que ofrece un ambiente íntimo y de convivencia.  \nAimin Etwal\, el primer invitado\nAimin Etwal es un cantautor guatemalteco nacido en México DF y criado en Inglaterra y Mozambique. Esta mezcla de culturas se refleja claramente en su música y concepto: el ritmo y sentimiento africano; la pasión y dolor latino; la magia y el cambio de armonía del rock progresivo europeo. \nSu trayectoria como cantautor empieza en el 2016 cuando forma parte de Aves Raras en el CCE de la zona 1. Luego\, en el 2017 funda el Tambour Collective – un conjunto de percusión de una temporada en Sololá\, y cierra el año con un viaje hacia Chile a presentarse junto a cantautores nacionales y chilenos. En el 2018 participa en el 1er Kuxiubal de cantautores junto a artistas consolidados del área y luego logra grabar su primer material discográfico – «Bienvenido a Casa». Ahora está en proceso de grabar su segundo material en el estudio Análogo-Digital. \nLos sonidos de la primera edición \nEste concierto se apetece como una noche particular de música de cantautor\, con gran variedad y profundidad en los conceptos que aborda. Aimin tocará sobre todo un repertorio original\, apoyado por su loopstation \, con el cual creará atmósferas ricas en sonidos y espacio. Por momentos\, nos parecerá que estamos escuchando a una banda entera\, que acompaña a este inolvidable poeta-cantante. \nJueves 25 de abril\n19:30hrs\nQ.20 preventa / Q.30 taquilla\nGalería de arte de la Alianza francesa de Guatemala\n 
URL:https://alianzafrancesa.org.gt/evento/concierto-aimin-etwal/
LOCATION:Alianza Francesa de Guatemala\, 5ta calle 10-55 Finca La Aurora zona 13\, Guatemala\, Guatemala\, 01013\, Guatemala
CATEGORIES:Agenda,Música
ATTACH;FMTTYPE=:
ORGANIZER;CN="Alianza Francesa de Guatemala":MAILTO:info@alianzafrancesa.org.gt
END:VEVENT
END:VCALENDAR