BEGIN:VCALENDAR
VERSION:2.0
PRODID:-//Alianza Francesa Guatemala - ECPv6.15.20//NONSGML v1.0//EN
CALSCALE:GREGORIAN
METHOD:PUBLISH
X-WR-CALNAME:Alianza Francesa Guatemala
X-ORIGINAL-URL:https://alianzafrancesa.org.gt
X-WR-CALDESC:Eventos para Alianza Francesa Guatemala
REFRESH-INTERVAL;VALUE=DURATION:PT1H
X-Robots-Tag:noindex
X-PUBLISHED-TTL:PT1H
BEGIN:VTIMEZONE
TZID:America/Chicago
BEGIN:DAYLIGHT
TZOFFSETFROM:-0600
TZOFFSETTO:-0500
TZNAME:CDT
DTSTART:20180311T080000
END:DAYLIGHT
BEGIN:STANDARD
TZOFFSETFROM:-0500
TZOFFSETTO:-0600
TZNAME:CST
DTSTART:20181104T070000
END:STANDARD
BEGIN:DAYLIGHT
TZOFFSETFROM:-0600
TZOFFSETTO:-0500
TZNAME:CDT
DTSTART:20190310T080000
END:DAYLIGHT
BEGIN:STANDARD
TZOFFSETFROM:-0500
TZOFFSETTO:-0600
TZNAME:CST
DTSTART:20191103T070000
END:STANDARD
BEGIN:DAYLIGHT
TZOFFSETFROM:-0600
TZOFFSETTO:-0500
TZNAME:CDT
DTSTART:20200308T080000
END:DAYLIGHT
BEGIN:STANDARD
TZOFFSETFROM:-0500
TZOFFSETTO:-0600
TZNAME:CST
DTSTART:20201101T070000
END:STANDARD
END:VTIMEZONE
BEGIN:VEVENT
DTSTART;TZID=America/Chicago:20190602T170000
DTEND;TZID=America/Chicago:20190602T233000
DTSTAMP:20260424T175552
CREATED:20190520T193803Z
LAST-MODIFIED:20190520T193803Z
UID:4674-1559494800-1559518200@alianzafrancesa.org.gt
SUMMARY:Lanzamiento del nuevo álbum de Dinosaur 88.
DESCRIPTION:Lanzamiento del nuevo álbum de Dinosaur 88.\nLuis Alonso y Sebastián Méndez forman Dinosaur 88\, un dueto que ofrece música marcada por los sintetizadores\, la batería\, videojuegos\, nostalgia e influencias televisivas que culminan en sonidos distintos y conciertos novedosos. El dúo se presenta en el marco del lanzamiento de su álbum ¨UKIYO¨ con invitados espaciales: Filoxera\, Valerie Rigalt y la banda argentina Las ligas menores. \nDomingo 2 de junio\n17 hrs\nEntrada : Q.110 preventa / Q.150 taquilla\nJardín de la Alianza Francesa de Guatemala
URL:https://alianzafrancesa.org.gt/evento/lanzamiento-del-nuevo-album-de-dinosaur-88/
LOCATION:Alianza Francesa de Guatemala\, 5ta calle 10-55 Finca La Aurora zona 13\, Guatemala\, Guatemala\, 01013\, Guatemala
CATEGORIES:Agenda,Música
ATTACH;FMTTYPE=:
END:VEVENT
BEGIN:VEVENT
DTSTART;TZID=America/Chicago:20190620T193000
DTEND;TZID=America/Chicago:20190620T213000
DTSTAMP:20260424T175552
CREATED:20190521T150130Z
LAST-MODIFIED:20190521T150130Z
UID:4700-1561059000-1561066200@alianzafrancesa.org.gt
SUMMARY:Galería de canciones (ciclo de cantautores) – Raysa Morales
DESCRIPTION:Galería de canciones \n(ciclo de cantautores) – Raysa Morales\nNueva noche del ciclo de cantautores “Canciones en galería” con Raysa Morales\, cantante del grupo Raysa N´ Beans. Su música es tan diversa como su personalidad y no pretende encasillarse en un género. Nos presentará sus últimas composiciones\, himnos a la libertad y fraternidad. \nJueves 20 de Junio\n19:30hrs\nEntrada: Q.30\nGalería de Arte de la Alianza Francesa de Guatemala
URL:https://alianzafrancesa.org.gt/evento/galeria-de-canciones-ciclo-de-cantautores-raysa-morales/
LOCATION:Alianza Francesa de Guatemala\, 5ta calle 10-55 Finca La Aurora zona 13\, Guatemala\, Guatemala\, 01013\, Guatemala
CATEGORIES:Agenda,Música
ATTACH;FMTTYPE=:
ORGANIZER;CN="Alianza Francesa de Guatemala":MAILTO:info@alianzafrancesa.org.gt
END:VEVENT
BEGIN:VEVENT
DTSTART;TZID=America/Chicago:20190621T160000
DTEND;TZID=America/Chicago:20190621T230000
DTSTAMP:20260424T175552
CREATED:20190521T154638Z
LAST-MODIFIED:20190521T154638Z
UID:4704-1561132800-1561158000@alianzafrancesa.org.gt
SUMMARY:Fiesta de la Música Guatemala 2019
DESCRIPTION:Fiesta de la Música Guatemala 2019\nInaugurada en Francia en 1982\, la Fiesta de la Música se ha convertido en una fiesta internacional que está presente hoy en más de 120 países y que se celebra cada 21 de junio para celebrar la música en vivo y valorizar la amplitud y la diversidad de las prácticas y géneros musicales. En esta perspectiva se presentarán varias bandas nacionales de géneros amplios con el fin de presentar la riqueza del paisaje musical guatemalteco. \nViernes 21 de junio\nA partir de las 16hrs\nEntrada libre\n4 grados norte
URL:https://alianzafrancesa.org.gt/evento/fiesta-de-la-musica-guatemala-2019/
LOCATION:4 grados norte\, Vía 4\, 1-00 Zona 4\, Campus Tecnológico Torre 2\,\, Oficina 401. 4° grados Norte. Guatemala\, C.A.\, Guatemala 00104\, Guatemala\, 00104
CATEGORIES:Agenda,Música
ATTACH;FMTTYPE=:
ORGANIZER;CN="Alianza Francesa de Guatemala":MAILTO:info@alianzafrancesa.org.gt
END:VEVENT
END:VCALENDAR