BEGIN:VCALENDAR
VERSION:2.0
PRODID:-//Alianza Francesa Guatemala - ECPv6.15.20//NONSGML v1.0//EN
CALSCALE:GREGORIAN
METHOD:PUBLISH
X-WR-CALNAME:Alianza Francesa Guatemala
X-ORIGINAL-URL:https://alianzafrancesa.org.gt
X-WR-CALDESC:Eventos para Alianza Francesa Guatemala
REFRESH-INTERVAL;VALUE=DURATION:PT1H
X-Robots-Tag:noindex
X-PUBLISHED-TTL:PT1H
BEGIN:VTIMEZONE
TZID:America/Chicago
BEGIN:DAYLIGHT
TZOFFSETFROM:-0600
TZOFFSETTO:-0500
TZNAME:CDT
DTSTART:20180311T080000
END:DAYLIGHT
BEGIN:STANDARD
TZOFFSETFROM:-0500
TZOFFSETTO:-0600
TZNAME:CST
DTSTART:20181104T070000
END:STANDARD
BEGIN:DAYLIGHT
TZOFFSETFROM:-0600
TZOFFSETTO:-0500
TZNAME:CDT
DTSTART:20190310T080000
END:DAYLIGHT
BEGIN:STANDARD
TZOFFSETFROM:-0500
TZOFFSETTO:-0600
TZNAME:CST
DTSTART:20191103T070000
END:STANDARD
BEGIN:DAYLIGHT
TZOFFSETFROM:-0600
TZOFFSETTO:-0500
TZNAME:CDT
DTSTART:20200308T080000
END:DAYLIGHT
BEGIN:STANDARD
TZOFFSETFROM:-0500
TZOFFSETTO:-0600
TZNAME:CST
DTSTART:20201101T070000
END:STANDARD
END:VTIMEZONE
BEGIN:VEVENT
DTSTART;TZID=America/Chicago:20190910T193000
DTEND;TZID=America/Chicago:20190910T210000
DTSTAMP:20260424T131315
CREATED:20190819T165837Z
LAST-MODIFIED:20190819T165837Z
UID:5019-1568143800-1568149200@alianzafrancesa.org.gt
SUMMARY:Ciclo Música Instrumental "Sin Palabras" - El Cuarteto del Alba
DESCRIPTION:Ciclo de Música Instrumental \n«Sin Palabras»\n El Cuarteto del Alba\nSegunda velada del nuevo ciclo de música instrumental «Sin Palabras» con el concierto del Cuarteto del Alba que interpretará por la ocasión un repertorio especial con obras de música antigua\, música clásica y música popular de Francia y Guatemala. Una rica y estimulante mezcla que hará viajar el publico a través las épocas y los continentes. \n¿Quién es este grupo?\n\nEl Cuarteto está conformado por: \nDaniel Zuleta – Flautista y arreglista \nMaría Eugenia Amato – Flautista \nPaolo Villagrán – Clarinetista \nStyvens Barrios – Cellista \nLa agrupación se formó en 2018 y desde entonces le apuesta a la innovación. Según explican sus integrantes\, busca “explorar nuevas sonoridades\, matices y experimentar dentro del mundo de la música de cámara y las muchas posibilidades que esta ofrece”. La música que intenta proyectar va desde el repertorio de cámara hasta ejemplos guatemaltecos. \nLa armonía la domina bien el Cuarteto del Alba. Los integrantes se conocen desde hace casi una década y confiesan\, al unísono\, que su amistad fue la principal razón por la que se decidieron a armar este proyecto. Más allá de esa unión\, el grupo destaca por su inédita combinación. Otra de las intenciones de este conjunto es devolver a los amantes de la música la emoción de ver y sentir un espectáculo en vivo. \n  \nMartes 10 de septiembre\n19:30hrs\nEntrada: Q30 en taquilla\nGalería de Arte de la Alianza Francesa de Guatemala
URL:https://alianzafrancesa.org.gt/evento/ciclo-musica-instrumental-sin-palabras-el-cuarteto-del-alba/
LOCATION:Alianza Francesa de Guatemala\, 5ta calle 10-55 Finca La Aurora zona 13\, Guatemala\, Guatemala\, 01013\, Guatemala
CATEGORIES:Agenda,Música
ATTACH;FMTTYPE=:
END:VEVENT
BEGIN:VEVENT
DTSTART;TZID=America/Chicago:20190919T193000
DTEND;TZID=America/Chicago:20190919T210000
DTSTAMP:20260424T131315
CREATED:20190819T182812Z
LAST-MODIFIED:20190819T182812Z
UID:5042-1568921400-1568926800@alianzafrancesa.org.gt
SUMMARY:Galería de canciones (Ciclo de cantautores) - Jorge Guzmán
DESCRIPTION:Galería de canciones \n(Ciclo de cantautores)\nJorge Guzmán\nJorge Guzmán es un músico\, ávido explorador de diversas formas musicales\, quien cree firmemente que la música une a las personas. Habitualmente solista\, con su guitarra propone una música que fusiona el rock\, la soul\, la folk\, el reggae o la bossa nova . Sus letras buscan llamar al pensamiento y a la reflexión para transformar nuestra realidad. \n\nDe oficio musical desde chico\, Jorge Guzmán comenzó a escribir sus propias canciones desde hace solo un par de años. Verdadera revelación musical de la Fiesta de la Música Guatemala 2019\, nos presentará las canciones de su primer álbum que estará próximamente disponible. \n  \nJueves 19 de septiembre\n19:30hrs\nEntrada : Q.30\nGalería de arte de la Alianza Francesa de Guatemala
URL:https://alianzafrancesa.org.gt/evento/galeria-de-canciones-ciclo-de-cantautores-jorge-guzman/
LOCATION:horarios_semi-intensivos.svg
CATEGORIES:Agenda,Música
ATTACH;FMTTYPE=:
END:VEVENT
BEGIN:VEVENT
DTSTART;TZID=America/Chicago:20190921T190000
DTEND;TZID=America/Chicago:20190921T210000
DTSTAMP:20260424T131315
CREATED:20190820T175211Z
LAST-MODIFIED:20190820T175211Z
UID:5055-1569092400-1569099600@alianzafrancesa.org.gt
SUMMARY:Concierto de Little Jesús (México) + Magpie Jay (Costa-Rica) / Easy Easy / Casa de kello
DESCRIPTION:Concierto de Little Jesús (México) / Magpie Jay (Costa-Rica) / Easy Easy / Casa de Kello\nLa banda mexicana Little Jesús se presentará por primera vez en Guatemala\, en el marco de la Gira del Disco de Oro. Agrupación nacida en el antiguo DF\, su incursión en la música pop-rock ha revolucionado la escena underground de la capital mexicana. Acompañados por Magpie Jay desde Costa Rica\, Easy Easy y Casa de Kello de Guatemala. \nLittle Jesús\n \nLittle Jesus es una banda originaria del sur de la Ciudad de México formada por Santiago Casillas\, Truco Sánchez Rucobo\, Fernando Bueno\, Arturo Vázquez-Vela y Carlos Medina. Empezó a llamar la atención de los blogs gracias a una serie de ritmos bailables y una original melodía. Sonido que ellos mismos definen como “tropipop”. \nFue considerada una de las bandas más importantes del 2014\, con sus sencillos ‘Azul’ y ‘Berlín’\, con los que obtuvieron el Premios IMAS en la categoría “Mejor Artista Nuevo”. La banda lanzó en tiendas digitales su álbum debut\, Norte\, lanzando previamente cuatro canciones durante todo ese año. \nMagpie Jay\n \nMagpie Jay es una banda que nació en el 2008\, cuando dos jóvenes de octavo año de colegio se decidieron en formar la típica banda de garage con la que todos soñamos tener en algún momento. \nDespués de varios conciertos tributo y muchos covers\, esta agrupación decidió emprender oficialmente su proyecto musical y dar vida a Magpie Jay en 2013. Tras varios meses de trabajo\, la banda costarricense lanza este año su álbum debut titulado Monte Claro. \nEasy Easy \n \nEasy Easy se formó en 2012. Esta agrupación es una mezcla de Rock y con letras en inglés que por momentos nos recuerdan a TV on the Radio Poco a poco va ganando terreno dentro de la industria musical en varios países latinoamericanos. Integrada por Jesse (Voz)\, Chofo (Guitarra)\, Paco (Guitarra)\, Luis Pedro (Bajo) y Gerry (Batería). \nCon el anuncio de su nueva identidad\, el quinteto compartió el primer sencillo de su LP debut. Desde el nombre del track («Mint Condition«)\, sabemos que están más frescos y renovados que nunca. \nCasa de Kello\n \nCasa de Kello es una banda guatemalteca de indie-rock-pop que nació en los pasillos universitarios en el año 2002. Casa de Kello es una banda guatemalteca de indie-rock-pop que nació en los pasillos universitarios en el año 2002. En 2017 sacaron su primer EP de estudio denominado “Tercera Guerra Mundial” con temas como Infinito\, Ave Pasajera y El Tren. \nSábado 21 de septiembre\n19 hrs\nEntrada : Q.250\nJardín de la Alianza Francesa de Guatemala
URL:https://alianzafrancesa.org.gt/evento/concierto-de-little-jesus-mexico-magpie-jay-costa-rica-easy-easy-casa-de-kello/
LOCATION:horarios_semi-intensivos.svg
CATEGORIES:Agenda,Música
ATTACH;FMTTYPE=:
END:VEVENT
BEGIN:VEVENT
DTSTART;TZID=America/Chicago:20190926T193000
DTEND;TZID=America/Chicago:20190926T210000
DTSTAMP:20260424T131315
CREATED:20190820T212055Z
LAST-MODIFIED:20190820T212055Z
UID:5076-1569526200-1569531600@alianzafrancesa.org.gt
SUMMARY:Noche Synth-pop con Charlotte Fever (Francia)\, Nina Índigo\, Dinosaur 88 y DJ Lujan
DESCRIPTION:Noche Synth-pop con Charlotte Fever (Francia)\, Nina Indigo\, Dinosaur 88 y DJ Lujan\nEl dúo francés Charlotte Fever acompañado de  Nina Índigo\, Dinosaur 88 y Pablo Lujan estarán presentes en la Alianza Francesa para una noche synth-pop franco-guatemalteca muy cálida. \nCharlotte Fever\n \nCharlotte Fever es un dúo de synth-pop canicular francés que se formó al final del verano 2017. Propone una música terriblemente eficaz y locamente danzante. La voz suave irradia en los riffs juguetones para dar forma a una música cómplice. Lanza este año un primer LP compuesto de 5 canciones francófonas. \nNina Índigo\n \nInfluenciados por el pop y rock de las décadas de 1970 y 1980\, los músicos nacionales decidieron crear un concepto distinto al que están acostumbrados en sus distintos proyectos. Nina Índigo  surge de forma natural y su intención es dejar huella en la industria musical internacional. Tan lejos es el primer tema que presenta Nina Índigo\, con el cual exponen  armonías y fusión de instrumentos con sintetizadores. La banda tiene previsto lanzar un EP con 5 canciones en los próximos meses y el videoclip de  Tan lejos.  \nDinosaur 88\n \nLuis Alonso y Sebastián Méndez forman Dinosaur 88\, un dueto que ofrece música marcada por los sintetizadores\, la batería\, videojuegos\, nostalgia e influencias televisivas que culminan en sonidos distintos y conciertos novedosos. \nDJ Lujan\n\nEl DJ Pablo Lujan destaca por pinchar solamente con vinilos.\n  \nJueves 26 de septiembre\n19:30 hrs\nEntrada libre\nJardín de la Alianza Francesa de Guatemala
URL:https://alianzafrancesa.org.gt/evento/noche-synth-pop-con-charlotte-fever-francia-nina-indigo-dinosaur-88-y-dj-luian/
LOCATION:horarios_semi-intensivos.svg
CATEGORIES:Agenda,Música
ATTACH;FMTTYPE=:
END:VEVENT
END:VCALENDAR