BEGIN:VCALENDAR
VERSION:2.0
PRODID:-//Alianza Francesa Guatemala - ECPv6.15.20//NONSGML v1.0//EN
CALSCALE:GREGORIAN
METHOD:PUBLISH
X-ORIGINAL-URL:https://alianzafrancesa.org.gt
X-WR-CALDESC:Eventos para Alianza Francesa Guatemala
REFRESH-INTERVAL;VALUE=DURATION:PT1H
X-Robots-Tag:noindex
X-PUBLISHED-TTL:PT1H
BEGIN:VTIMEZONE
TZID:America/Chicago
BEGIN:DAYLIGHT
TZOFFSETFROM:-0600
TZOFFSETTO:-0500
TZNAME:CDT
DTSTART:20180311T080000
END:DAYLIGHT
BEGIN:STANDARD
TZOFFSETFROM:-0500
TZOFFSETTO:-0600
TZNAME:CST
DTSTART:20181104T070000
END:STANDARD
BEGIN:DAYLIGHT
TZOFFSETFROM:-0600
TZOFFSETTO:-0500
TZNAME:CDT
DTSTART:20190310T080000
END:DAYLIGHT
BEGIN:STANDARD
TZOFFSETFROM:-0500
TZOFFSETTO:-0600
TZNAME:CST
DTSTART:20191103T070000
END:STANDARD
BEGIN:DAYLIGHT
TZOFFSETFROM:-0600
TZOFFSETTO:-0500
TZNAME:CDT
DTSTART:20200308T080000
END:DAYLIGHT
BEGIN:STANDARD
TZOFFSETFROM:-0500
TZOFFSETTO:-0600
TZNAME:CST
DTSTART:20201101T070000
END:STANDARD
END:VTIMEZONE
BEGIN:VEVENT
DTSTART;TZID=America/Chicago:20191015T193000
DTEND;TZID=America/Chicago:20191015T210000
DTSTAMP:20260424T113907
CREATED:20190927T164809Z
LAST-MODIFIED:20190927T164809Z
UID:5232-1571167800-1571173200@alianzafrancesa.org.gt
SUMMARY:Ciclo Música Instrumental "Sin Palabras" - Natú
DESCRIPTION:Ciclo de Música Instrumental \n«Sin Palabras»\n Natú\nTercera velada del nuevo ciclo de música instrumental “Sin palabras” con el concierto de Natú una banda de jazz conformada por jóvenes músicos profesionales. Sus creaciones son frescas y sus conciertos son intensos. En sus composiciones\, se integran elementos del fusion\, jazz\, flamenco\, música latinoamericana\, entre otras influencias y perciben la improvisación como un eje central de la música. \nConocer al grupo Natú\n\nNatú es una banda de Jazz conformada por Julio Valle (guitarrista)\, David Batz (baterista)\, Luis Valle (bajista) y Sergio Zepeda (guitarista).\nAl pronunciar Natú se evoca el sonido de los bongós\, uno después del otro… Es una palabra que\, en si misma hace música\, sin tener un significado lingüístico\, tal como la música instrumental adquiere el significado que el receptor imagine. \nDesde el 2012\, Natú ha estado en los escenarios más importantes y exclusivos de la escena del Jazz de Guatemala\, Antigua Guatemala\, Quetzaltenango y El Salvador (Grupo de cierre de Festival de Jazz de El Salvador\, donde participaron músicos de la talla de Gilad Hekselman; Cierre del Festival de Jazz y Gastronomía “Jazztronomy” de Plaza Fontabella\, 2013 y 2014; Festival Internacional de Jazz de Guatemala 2015 y 2017\, Festival AMO Antigua 2015\, Rock Fest 2017 y muchos otros). \nEntre 2016 y 2017\, Natú grabó su primer EP “Natú”\, con cuatro canciones instrumentales originales. \nMartes 15 de octubre\n19:30hrs\nEntrada: Q30\nGalería de Arte de la Alianza Francesa de Guatemala
URL:https://alianzafrancesa.org.gt/evento/ciclo-musica-instrumental-sin-palabras-natu/
LOCATION:horarios_semi-intensivos.svg
CATEGORIES:Agenda,Música
ATTACH;FMTTYPE=:
END:VEVENT
BEGIN:VEVENT
DTSTART;TZID=America/Chicago:20191017T193000
DTEND;TZID=America/Chicago:20191017T213000
DTSTAMP:20260424T113907
CREATED:20190927T165943Z
LAST-MODIFIED:20190927T165943Z
UID:5242-1571340600-1571347800@alianzafrancesa.org.gt
SUMMARY:Galería de canciones (Ciclo de cantautores) - Gabriel Fuentes
DESCRIPTION:Galería de canciones \n(Ciclo de cantautores)\nGabriel Fuentes\nGabriel Fuentes es un cancionista y músico multiinstrumentista guatemalteco. Sus canciones\, influidas por un amplio abanico de géneros musicales contienen un fuerte elemento literario y poético. Gabriel Fuentes prepara una noche íntima en la que el cancionista presentará por primera vez\, y en formato acústico\, las canciones de su próximo disco «La Estrategia del Perdedor»\, además de versiones de las canciones incluidas en su primer EP de estudio\, «Del Caos al Cosmos». \n \nDe 20 años de edad\, se vinculó con la música desde muy pequeño y a los nueve ya tocaba la batería. Continuó con el aprendizaje y se dedicó a estudiar el piano\, el bajo\, el ukelele\, la armónica\, la marimba y el canto. En la actualidad promociona sus temas que él mismo define como música de autor. \n“Nunca he querido entender cómo surge. Tengo la sensación de que cuando escribo canciones no estoy plenamente consciente. Sin darme cuenta tomo la guitarra\, un lápiz y cualquier hoja de papel que esté a la vista. Ocho horas después en el papel hay una canción y yo reboto de la felicidad en mi habitación. Esa parte del proceso es instintiva. La racionalidad entra cuando se editan y se producen”\, afirma Fuentes\, quién es fanático de las producciones audiovisuales\, y durante agosto y septiembre de este año\, publicó en su canal de YouTube tres videoclips grabados durante una sesión en formato acústico. \n“Las canciones pasan por un largo proceso. Primero se gestan en mi mente y dos años después ya están maduras conceptualmente. He descubierto que estas melodías exploran mis heridas emocionales más profundas”\, señala. Para Fuentes es importante concentrarse en los proyectos personales y con su reciente producción\, está convencido que expondrá varias experiencias propias. \nJueves 17 de octubre\n19:30hrs\nEntrada : Q.30\nGalería de arte de la Alianza Francesa de Guatemala
URL:https://alianzafrancesa.org.gt/evento/galeria-de-canciones-ciclo-de-cantautores-gabriel-fuentes/
LOCATION:horarios_semi-intensivos.svg
CATEGORIES:Agenda,Música
ATTACH;FMTTYPE=:
END:VEVENT
BEGIN:VEVENT
DTSTART;TZID=America/Chicago:20191025T190000
DTEND;TZID=America/Chicago:20191025T230000
DTSTAMP:20260424T113907
CREATED:20190927T215633Z
LAST-MODIFIED:20190927T215633Z
UID:5279-1572030000-1572044400@alianzafrancesa.org.gt
SUMMARY:Fiesta de la música Vol.2
DESCRIPTION:Fiesta de la música Vol.2\nEn la ocasión de la Fiesta de la Música Guatemala 2019\, más de 20 agrupaciones guatemaltecas de varios tipos de música se produjeron en las 4 escenas en 4 Grados Norte. Sin embargo\, la lluvia se invitó a la fiesta y algunos grupos no pudieron presentar sus canciones al público. Esta noche esos grupos aceptan de nuevo la invitación para enarbolar la antorcha de la música en Guatemala y sus valores de integración. \n\n \nViernes 25 de octubre\n19:00 hrs\nEntrada libre\nJardín de la Alianza Francesa de Guatemala
URL:https://alianzafrancesa.org.gt/evento/fiesta-de-la-musica-vol-2/
LOCATION:horarios_semi-intensivos.svg
CATEGORIES:Agenda,Música
ATTACH;FMTTYPE=:
END:VEVENT
END:VCALENDAR