BEGIN:VCALENDAR
VERSION:2.0
PRODID:-//Alianza Francesa Guatemala - ECPv6.15.20//NONSGML v1.0//EN
CALSCALE:GREGORIAN
METHOD:PUBLISH
X-WR-CALNAME:Alianza Francesa Guatemala
X-ORIGINAL-URL:https://alianzafrancesa.org.gt
X-WR-CALDESC:Eventos para Alianza Francesa Guatemala
REFRESH-INTERVAL;VALUE=DURATION:PT1H
X-Robots-Tag:noindex
X-PUBLISHED-TTL:PT1H
BEGIN:VTIMEZONE
TZID:America/Chicago
BEGIN:DAYLIGHT
TZOFFSETFROM:-0600
TZOFFSETTO:-0500
TZNAME:CDT
DTSTART:20200308T080000
END:DAYLIGHT
BEGIN:STANDARD
TZOFFSETFROM:-0500
TZOFFSETTO:-0600
TZNAME:CST
DTSTART:20201101T070000
END:STANDARD
BEGIN:DAYLIGHT
TZOFFSETFROM:-0600
TZOFFSETTO:-0500
TZNAME:CDT
DTSTART:20210314T080000
END:DAYLIGHT
BEGIN:STANDARD
TZOFFSETFROM:-0500
TZOFFSETTO:-0600
TZNAME:CST
DTSTART:20211107T070000
END:STANDARD
BEGIN:DAYLIGHT
TZOFFSETFROM:-0600
TZOFFSETTO:-0500
TZNAME:CDT
DTSTART:20220313T080000
END:DAYLIGHT
BEGIN:STANDARD
TZOFFSETFROM:-0500
TZOFFSETTO:-0600
TZNAME:CST
DTSTART:20221106T070000
END:STANDARD
END:VTIMEZONE
BEGIN:VEVENT
DTSTART;TZID=America/Chicago:20210210T193000
DTEND;TZID=America/Chicago:20210210T203000
DTSTAMP:20260423T083352
CREATED:20210202T133538Z
LAST-MODIFIED:20210202T133538Z
UID:6223-1612985400-1612989000@alianzafrancesa.org.gt
SUMMARY:Casa de Canciones (Fbk Live) | Tita Moreno
DESCRIPTION:Casa de Canciones (Facebook Live)\n Tita Moreno\n\n\n\n\nEl miércoles 3 de febrero\, la Alianza Francesa de Guatemala les invita a su ciclo musical titulado «Casa de canciones»\, una edición especial #quedateencasa para darle continuidad a nuestro ciclo de cantautores «Galería de canciones». \nLa música Tita Moreno nos hará el honor de abrir nuestro ciclo musical “casa de canciones” este año. Podrán asistir a un concierto en el que la música es ecléctica\, rompe barreras de género\, está influenciada por el pop\, el indie rock y musicalmente explora sonidos de hip-hop y electrónica. \n\n\n\n\n\nMariana Moreno\, mejor conocida como Tita\, es una cantante de indie pop nacida en Guatemala en 1991. Comenzó en el mundo de la música desde temprana edad. Cuando tenía 14 años\, aprendió a tocar guitarra y armó su primer proyecto musical. \nLas melodías están inspiradas en artistas como Natalia Lafourcade\, The Beatles\, Mac DeMarco\, Clairo\, Cuco\, entre otros. \nMiércoles 10 de febrero\n19:30hrs\nPágina Facebook de la Alianza Francesa/Youtube Live AF Guatemala
URL:https://alianzafrancesa.org.gt/evento/casa-de-canciones-fbk-live-tita-moreno/
CATEGORIES:Agenda,Música
ATTACH;FMTTYPE=:
END:VEVENT
BEGIN:VEVENT
DTSTART;TZID=America/Chicago:20210217T193000
DTEND;TZID=America/Chicago:20210217T203000
DTSTAMP:20260423T083352
CREATED:20210208T160252Z
LAST-MODIFIED:20210208T160252Z
UID:6236-1613590200-1613593800@alianzafrancesa.org.gt
SUMMARY:Sin Palabras... en casa - Chirmolito Trio
DESCRIPTION:Sin Palabras… en casa – Chirmolito Trio\nEl miércoles 17 de febrero\, la Alianza Francesa de Guatemala les invita a su ciclo musical «Sin Palabras… en casa» en una edición especial #quedateencasa para darle continuidad a nuestro ciclo “Sin Palabras”. \nPara reanudar este ciclo\, el Chirmolito Trio les deleitará con un concierto de jazz donde las mezclas de sonidos más creativas les sorprenderán. Compuesto de saxofón\, guitarra y batería\, este trio musical fusiona diferentes influencias para darle un toque fresco a la música. \nEl Chirmolito Trio\, una experiencia de jazz que no se puede perder\n\nChirmolito Trio nace de un proyecto jazz arriesgado: unir a un baterista rockero\, un guitarrista enamorado del jazz fusión y un saxofonista con una obsesión por el funk. Lo que nos llevó al nombre: Chirmolito Trio. \nEl formato trio siempre permite la búsqueda de sonidos y mezclas más creativas\, como músicos siempre deseamos conectar con el público nuevas emociones donde sea: un restaurante\, un bar\, un escenario. \n  \nMiércoles 17 de febrero\n19:30hrs\nPágina Facebook Live de la Alianza Francesa de Guatemala
URL:https://alianzafrancesa.org.gt/evento/sin-palabras-en-casa-chirmolito-trio/
CATEGORIES:Agenda,Música
END:VEVENT
BEGIN:VEVENT
DTSTART;TZID=America/Chicago:20210224T193000
DTEND;TZID=America/Chicago:20210224T210000
DTSTAMP:20260423T083352
CREATED:20210215T131203Z
LAST-MODIFIED:20210215T131203Z
UID:6248-1614195000-1614200400@alianzafrancesa.org.gt
SUMMARY:Noche de cineconciertos en casa - Primera edición del año 2021
DESCRIPTION:Noche de cineconciertos en casa – Primera edición del año 2021\nEl miércoles 24 de febrero\, la Alianza Francesa de Guatemala les invita a la primera edición del año de su ciclo de cineconciertos en casa. Podrán disfrutar de 5 cortometrajes con integración de música en vivo a cargo del pianista Victor Arriaza y con la participación de Maru Amato (flauta)\, Paolo Villagrán (clarinete)\, Jose Villagrán (trombón)\, Daniel Gómez (teclado)\, Rosse Aguilar (saxofón tenor) y Esly Maldonado (teclado)\, desde nuestra página Facebook. \n\n  \nLos cortos-metrajes que proyectaremos en esta edición especial en casa son: \n  \nThe Cartoon Factory\n\nAÑO: 1924 \nPAÍS: Estados-Unidos \nDURACIÓN: 8 min \nDIRECCIÓN: Dave & Max Fleischer \nSINOPSIS: En 1919\, Ko-Ko el payaso fue el primero de los personajes que salió del tintero de su creador\, Max Fleischer. Combinando la acción real con animación\, esta imaginativa serie de 130 películas inspiró películas como Alice in Wonderland\, de Walt Disney\, entre otros. \n  \nThe house that Dinky built\n\nAÑO: 1925 \nPAÍS: Estados-Unidos \nDURACIÓN: 9 min \nDIRECCIÓN: Walter Lantz. \nSINOPSIS: Dinky Doodle se casa con una lechera bonita y la trae de vuelta a la casa que Jack construyó. \n  \nA shrapnel duel\n \nSINOPSIS: Un agradable paseo a los Alpes se echa a perder cuando dos amigos terminan disputándose el corazón de su amada. Los galanes cambian el mosquete por un obús atado a la espalda… y el resto es historia. \n  \nLe songe d’un garçon de café\n\nAÑO: 1910 \nPAÍS: Francia \nDURACIÓN: 6 min \nDIRECCIÓN: Emile Cohl \nSINOPSIS: Cuatro clientes están jugando a las cartas en un café tranquilo. La atmósfera trae pesado\, el camarero se queda dormido y tiene un hermoso sueño en el que dos ángeles vienen y le tocan en violines\, con tal encanto que es transportado al séptimo cielo. El sueño cambia\, y lo vemos pasando por muchas escenas divertidas y fantásticas. Finalmente\, los clientes molestos por sus ronquidos\, lo despiertan vertiendo agua sobre él. \n  \nEl Melómano\n\nAÑO: 1903 \nPAÍS: Francia \nDURACIÓN: 2 min \nDIRECCIÓN: Georges Méliès \nSINOPSIS: Un maestro de música lleva a su banda a un campo donde cinco líneas de telégrafo están enganchadas en postes de electricidad. Alzando una clave de sol gigante\, convierte el conjunto de líneas en un pentagrama gigante. Luego\, usa copias de su propia cabeza para deletrear la melodía de God Save the King\, y su banda se une. \n  \nUnas palabras sobre Victor Arriaza\, el director y pianista\nPianista guatemalteco de jazz\, compositor\, productor\, arreglista y educador. Es fundador y pianista del cuarteto Imox Jazz\, con el que se ha desarrollado principalmente en el escenario del jazz centroamericano. \nEs un pianista versátil y de amplio conocimiento en armonía\, arreglo y estilos del jazz. También se ha involucrado en proyectos de diversos géneros como el reggae\, rock\, piano clásico y teatro musical. Como educador y promotor del jazz ha estado involucrado en la organización de festivales educativos impartiendo clases y talleres sobre improvisación\, historia del jazz y armonía jazz en diversos lugares de Guatemala. \n\nCon su cuarteto Imox Jazz\, ha publicado tres producciones discográficas en las que se incluyen algunos temas de su autoría así como arreglos originales realizados por él. \nComo director musical ha estado a cargo de varias producciones de teatro musical\, entre las que destacan Annie el Musical (2012-2014)\, Chicago (2015\, 2017)\, etc; así como director de diversas agrupaciones y ensambles musicales en diversos géneros. \n  \nMiércoles 24 de febrero\n19:30hrs\nPágina Facebook Live de la Alianza Francesa de Guatemala
URL:https://alianzafrancesa.org.gt/evento/noche-de-cineconciertos-en-casa-primera-edicion-del-ano-2021/
CATEGORIES:Agenda,Cine,Música
ATTACH;FMTTYPE=:
END:VEVENT
END:VCALENDAR