BEGIN:VCALENDAR
VERSION:2.0
PRODID:-//Alianza Francesa Guatemala - ECPv6.15.20//NONSGML v1.0//EN
CALSCALE:GREGORIAN
METHOD:PUBLISH
X-ORIGINAL-URL:https://alianzafrancesa.org.gt
X-WR-CALDESC:Eventos para Alianza Francesa Guatemala
REFRESH-INTERVAL;VALUE=DURATION:PT1H
X-Robots-Tag:noindex
X-PUBLISHED-TTL:PT1H
BEGIN:VTIMEZONE
TZID:America/Chicago
BEGIN:DAYLIGHT
TZOFFSETFROM:-0600
TZOFFSETTO:-0500
TZNAME:CDT
DTSTART:20200308T080000
END:DAYLIGHT
BEGIN:STANDARD
TZOFFSETFROM:-0500
TZOFFSETTO:-0600
TZNAME:CST
DTSTART:20201101T070000
END:STANDARD
BEGIN:DAYLIGHT
TZOFFSETFROM:-0600
TZOFFSETTO:-0500
TZNAME:CDT
DTSTART:20210314T080000
END:DAYLIGHT
BEGIN:STANDARD
TZOFFSETFROM:-0500
TZOFFSETTO:-0600
TZNAME:CST
DTSTART:20211107T070000
END:STANDARD
BEGIN:DAYLIGHT
TZOFFSETFROM:-0600
TZOFFSETTO:-0500
TZNAME:CDT
DTSTART:20220313T080000
END:DAYLIGHT
BEGIN:STANDARD
TZOFFSETFROM:-0500
TZOFFSETTO:-0600
TZNAME:CST
DTSTART:20221106T070000
END:STANDARD
END:VTIMEZONE
BEGIN:VEVENT
DTSTART;TZID=America/Chicago:20210407T193000
DTEND;TZID=America/Chicago:20210407T203000
DTSTAMP:20260423T054744
CREATED:20210324T152146Z
LAST-MODIFIED:20210324T152146Z
UID:6409-1617823800-1617827400@alianzafrancesa.org.gt
SUMMARY:Casa de canciones | Nachi Cae
DESCRIPTION:Casa de canciones | Nachi Cae\nEl miércoles 7 de abril\, la Alianza Francesa de Guatemala les invita a su ciclo musical titulado «Casa de canciones»\, una edición especial #quedateencasa para darle continuidad a nuestro ciclo de cantautores «Galería de canciones». \nEste mes\, nuestro invitado será Nachi Cae\, cantante de dream pop y folk latinoamericano\, que dice hacer música para encontrarse con él mismo una y otra vez\, sin reservas. Sus temas suelen capturar sentimientos intensos y emociones profundas\, que evolucionan en melodías de fácil identificación. \nNachi Cae\, una propuesta musical creativa\n\nIgnacio Galindo (conocido como Nachi Cae) es un creativo multidisciplinario que reside en Ciudad de Guatemala. Como cantante y compositor\, es reconocido por sus letras sinceras y su versión efímera del dream pop y folk latino. \nEstudió Artes Liberales en la Universidad Francisco Marroquín donde ahora es mentor en el Michael Polanyi College. Trabaja medio tiempo como diseñador de producto digital y en su práctica artística\, que incluye música y escritura. \nEsta práctica se centra en temas como la pertenencia sociocultural\, la variabilidad de la identidad y estudios de estética contemporánea. Actualmente se encuentra trabajando en su segundo álbum de estudio y su primera colección de poemas. \n  \nMiércoles 7 de abril\n19:30hrs\nPágina Facebook de la Alianza Francesa\n 
URL:https://alianzafrancesa.org.gt/evento/casa-de-canciones-nachi-cae/
CATEGORIES:Agenda,Música
ATTACH;FMTTYPE=:
END:VEVENT
BEGIN:VEVENT
DTSTART;TZID=America/Chicago:20210414T193000
DTEND;TZID=America/Chicago:20210414T203000
DTSTAMP:20260423T054744
CREATED:20210406T154655Z
LAST-MODIFIED:20210406T154655Z
UID:6419-1618428600-1618432200@alianzafrancesa.org.gt
SUMMARY:Concierto de música | Grupo Sotz’il (música Maya)
DESCRIPTION:Concierto de música | Grupo Sotz’il (música Maya)\nEl miércoles 14 de abril\, la Alianza Francesa de Guatemala les invita al concierto del Grupo Sotz’il donde se podrán dejar llevar por la música maya. \nEs una amplia propuesta melódica basada en creaciones propias a partir de una profunda investigación en instrumentos prehispánicos y tradicionales construidos por el propio Grupo en cerámica\, caña\, madera\, caparazones de tortuga\, caracoles\, etc. Instrumentos de viento y percusión en su mayoría. \n  \nEl Grupo Sotz’il\, una transmisión de la música tradicional Maya\n\nSotz’il es un termino Maya Kaqchikel que significa murciélago\, energía o esencia del murciélago. \nEl Grupo Sotz’il maya kaqchikel es originario de la Aldea\, el Tablón\, Sololá\, del altiplano del país de Guatemala. Surge en el año 2000\, su línea de trabajo es la investigación\, creación y fomento de la música\, danza y arte escénico Maya. \nEn la actualidad\, ante una historia difuminada por los abusos permanentes contra los pueblos originarios\, surge la necesidad de buscar y retomar los conocimientos artísticos ancestrales. \nEsta búsqueda es mediante la consulta con abuelos y abuelas artistas\, con las sagradas energías del universo y retomando la esencia del arte desde una vivencia holística (integrando lo espiritual\, social y científico). Para el Grupo Sotz’il\, la espiritualidad y en consecuencia los ciclos ceremoniales\, son los ejes transversales sobre los que se sustentan sus procesos creativos. \nLa selección de la temática y el fundamento de sus obras\, se deducen de un proceso de investigación social a partir de la transmisión oral\, bibliográfica\, iconográfica\, museológica\, científica\, etc. \nCon el acompañamiento y validación por parte de abuelos y abuelas artistas mayas. \nSobre el album AJPOSOTZ’IL\nAJPOSOTZ’IL es un término en idioma maya kaqchikel que hace referencia a la parcialidad del pueblo kaqchikel y sus gobernantes a lo largo del tiempo y la historia. \nAjpopi’\, gobernantes de gran sabiduría y fortaleza espiritual\, guiadores de los pueblos. La música del grupo Sotz’il es un homenaje y agradecimiento a ellos por su legado a las presentes y futuras generaciones\, por su lucha ante las dificultades políticas y sociales acaecidas a lo largo de su historia como pueblos\, y por haber ofrendado su sudor\, sus lágrimas\, tristezas\, alegrías y sus vidas por sus pueblos y nietos de hoy. \n  \nMiércoles 14 de abril\n19:30hrs\nPágina Facebook de la Alianza Francesa
URL:https://alianzafrancesa.org.gt/evento/concierto-de-musica-grupo-sotzil-musica-maya/
CATEGORIES:Agenda,Música
ATTACH;FMTTYPE=:
END:VEVENT
BEGIN:VEVENT
DTSTART;TZID=America/Chicago:20210421T193000
DTEND;TZID=America/Chicago:20210421T203000
DTSTAMP:20260423T054744
CREATED:20210412T203129Z
LAST-MODIFIED:20210412T203129Z
UID:6429-1619033400-1619037000@alianzafrancesa.org.gt
SUMMARY:Sin Palabras... en casa - Gin and Tonic
DESCRIPTION:Sin Palabras… en casa – Gin and Tonic\nEl miércoles 21 de abril\, la Alianza Francesa de Guatemala les invita a su ciclo musical «Sin Palabras… en casa» en una edición especial #quedateencasa para darle continuidad a nuestro ciclo “Sin Palabras”. \nEl dúo Gin & Tonic conformado por Christian Escobar\, miembro de la Orquesta Sinfónica Nacional de Guatemala\, en el Corno Francés\, y Pablo Elías\, en la Guitarra y la Voz\, les regalará un concierto con inspiración en Blues y Jazz. \n  \nGin & Tonic \, una mezcla original de guitarra eléctrica y corno francés\n\nEn 2015 nace GIN AND TONIC buscando explorar el espacio entre el jazz y el blues con un ensamble inusual de guitarra eléctrica y corno francés. \n  \n¿Quiénes son los integrantes?\nChristian Escobar Palacios (1987)\n\nInicia sus estudios musicales en la Escuela Militar de Música «Maestro Rafael Álvarez Ovalle». Ha recibido clases magistrales con Profesores de Costa Rica\, México\, Venezuela y España. \nHa participado con la Orquesta Jesús Castillo\, Orquesta Sinfónica del Norte de Centroamérica\, Joven Orquesta y Coro de Centroamérica\, Orquesta Juvenil de Centroamérica y actualmente ocupa el puesto de Cuarto Corno de la Orquesta Sinfónica Nacional de Guatemala\, con la que también se presentó como solista. \n  \nPablo Elías Batres (1989)\n\nComienza a tocar guitarra a los 11 años\, ha estudiado piano clásico y también cursos de guitarra en la Escuela de Música de Buenos Aires\, Staccato Music Academy y actualmente estudia en la Escuela Superior de Arte de la Universidad Galileo. \nDesde 2010 se dedica a tocar en bandas de distintos géneros: Pop\, Rock\, Blues y Jazz. \n  \nMiércoles 21 de abril\n19:30hrs\nPágina Facebook Live de la Alianza Francesa de Guatemala
URL:https://alianzafrancesa.org.gt/evento/sin-palabras-en-casa-gin-and-tonic/
CATEGORIES:Agenda,Música
ATTACH;FMTTYPE=:
END:VEVENT
BEGIN:VEVENT
DTSTART;TZID=America/Chicago:20210425T190000
DTEND;TZID=America/Chicago:20210425T200000
DTSTAMP:20260423T054744
CREATED:20210419T161841Z
LAST-MODIFIED:20210419T161841Z
UID:6436-1619377200-1619380800@alianzafrancesa.org.gt
SUMMARY:El Show - Alliances Sonores | Franc Castillejos
DESCRIPTION:El Show – Alliances Sonores\nEl domingo 25 de abril\, la Alianza Francesa de Guatemala les invita a “ Le Show”\, un programa iniciado por Alliances Sonores. La primera difusión de Le Show se llevó a cabo el domingo 14 de marzo con la participación de las Alianzas Francesas de San Salvador\, Querétaro y Santo Domingo. \nEn esta segunda edición\, las Alianzas Francesas de Ciudad de Guatemala\, Arequipa (Perú) y Tegucigalpa (Honduras) presentarán a 3 bandas. El talentoso músico y productor Franc Castillejos representará nuestra Alianza Francesa tocando canciones con estilo indie y rock y agregando notas de folk. \n\n\n  \n¿Qué es Le Show?\nLe Show es un programa presentado por Alliances Sonores\, el laboratorio de innovación artística de la red cultural francesa de Latinoamérica y el Caribe\, conocidas como “Alliances Sonores”. \nLe Show busca dar visibilidad internacional a artistas de nuestros territorios.\n¿Cómo funciona?\n1 programa mensual por Facebook Live\n3 Alianzas Francesas diferentes cada mes\n3 bandas o artistas de Latinoamérica y el Caribe \nLe show será difundido por las páginas de Facebook de casi 20 Alianzas Francesas de Latinoamérica y el Caribe. \n  \nFranc Castillejos\, nuestro invitado del Show\nFranc Castillejos es uno de los jóvenes cantautores más respetados e interesantes de la escena musical actual. \n\nCon dos discos de estudio como solista\, uno más bajo el proyecto de Mountain Sounds\, y el productor de otros grandes talentos como el Ishto Juevez y These City Lights\, no es de sorprenderse la legión de fanáticos que siguen cada toque de Castillejos. \nLos dos EP’s de Franc\, My Scared Boy y Lo que nace y no se ve\, contienen algunas de las canciones más queridas del solista. Algunas de las canciones importantes son La Mariposa y El Sol\, Volumes and Shelves\, Sahara Be Kind y Nos Extraño. Franc canta en inglés como en español. \nEl sonido de Franc es fuertemente influenciado por el folk estadounidense\, indie y brit pop. Su voz es un suspiro cálido\, muy a lo Wilco\, Owen\, Iron & Wine o Oscar Isaac. Franc toca guitarra\, bajo\, batería y piano. \n  \nDomingo 25 de abril\n19:00hrs\nPágina Facebook de la Alianza Francesa
URL:https://alianzafrancesa.org.gt/evento/el-show-alliances-sonores-franc-castillejos/
CATEGORIES:Agenda,Música
ATTACH;FMTTYPE=:
END:VEVENT
BEGIN:VEVENT
DTSTART;TZID=America/Chicago:20210428T193000
DTEND;TZID=America/Chicago:20210428T203000
DTSTAMP:20260423T054744
CREATED:20210420T173308Z
LAST-MODIFIED:20210420T173308Z
UID:6491-1619638200-1619641800@alianzafrancesa.org.gt
SUMMARY:Noche de cineconciertos en casa - Segunda edición del año 2021
DESCRIPTION:Noche de cineconciertos en casa – Segunda edición del año 2021\nEl miércoles 28 de abril\, la Alianza Francesa de Guatemala les invita a la segunda edición del año de su ciclo de cineconciertos en casa. Podrán disfrutar de 7 cortometrajes con integración de música en vivo a cargo del pianista Víctor Arriaza y con la participación de Otto Cano (trompeta)\, Kevin Escobar (batería)\, Jasmin Ochaita (bajo) y Rosse Aguilar (saxofón tenor) desde nuestra página Facebook. \n\n  \nLos cortos-metrajes que proyectaremos en esta edición especial en casa son: \n  \nLa Carrera Hacia el Mono\n\nAÑO: 1909 \nPAÍS: Italia \nDURACIÓN: 4 min \nDIRECCIÓN: Renger \nSINOPSIS: Un mono se escapa de su jaula; así empieza una insólita y cómica carrera. \n  \nOnésime ama las bestias\n\nAÑO: 1913 \nPAÍS: Francia \nDURACIÓN: 6 min \nDIRECCIÓN: Jean Durand \nSINOPSIS: Cuidando la casa de sus tíos cuando no están\, el amante de los animales Onésime la convierte en un hospital para animales enfermos. \n  \nSeñora Babylas ama los animales\n \nAÑO: 1911 \nPAÍS: Belga \nDURACIÓN: 9 min \nDIRECCIÓN: Alfred Machin \nSINOPSIS: Una mujer a la que le gustan mucho los animales no puede impedir llevárselos a su casa. \n  \nPesadilla de carnicero\n\nAÑO: 1907 \nPAÍS: Francia \nDURACIÓN: 3 min \nDIRECCIÓN: Anónimo \nSINOPSIS: Dormido en su tienda\, en medio de sus salchichones y jamones\, un carnicero está soñando. En su pesadilla\, lo secuestran hombres-cerdos que lo arrastran hasta el infierno. \n  \nEl hombre que se comió un toro\n\nAÑO: 1909 \nPAÍS: Francia \nDURACIÓN: 7 min \nDIRECCIÓN: Eugène Deslaw \nSINOPSIS: Al final de una comida\, un hombre afirma que se comió un toro y comienza a rozar a todos. Toma un par de cuernos de la pared\, se lo pone en la cabeza y comienza una corrida frenética. Invitados afines a los amigos llaman urgentemente a España para exigir un matador. \n  \nEl Cerdo Bailarín\n\nAÑO: 1907 \nPAÍS: Francia \nDURACIÓN: 3 min \nDIRECCIÓN: Anónimo \nSINOPSIS: Un cerdo gigante antropomórfico despliega su talento artístico junto a una mujer. Ambos bailan y realizan un show\, pero más tarde\, la mujer lo avergüenza cuando le quita la ropa y lo deja desnudo. \n  \nLa langosta fresca\n\nAÑO: 1928 \nPAÍS: Estados Unidos \nDURACIÓN: 7 min \nDIRECCIÓN: Anónimo \nSINOPSIS: Un hombre come una langosta y sueña que esta lo persigue. \n  \nUnas palabras sobre Victor Arriaza\, el director y pianista\nPianista guatemalteco de jazz\, compositor\, productor\, arreglista y educador. Es fundador y pianista del cuarteto Imox Jazz\, con el que se ha desarrollado principalmente en el escenario del jazz centroamericano. \nEs un pianista versátil y de amplio conocimiento en armonía\, arreglo y estilos del jazz. También se ha involucrado en proyectos de diversos géneros como el reggae\, rock\, piano clásico y teatro musical. Como educador y promotor del jazz ha estado involucrado en la organización de festivales educativos impartiendo clases y talleres sobre improvisación\, historia del jazz y armonía jazz en diversos lugares de Guatemala. \n\nCon su cuarteto Imox Jazz\, ha publicado tres producciones discográficas en las que se incluyen algunos temas de su autoría así como arreglos originales realizados por él. \nComo director musical ha estado a cargo de varias producciones de teatro musical\, entre las que destacan Annie el Musical (2012-2014)\, Chicago (2015\, 2017)\, etc; así como director de diversas agrupaciones y ensambles musicales en diversos géneros. \n  \nMiércoles 28 de abril\n19:30hrs\nPágina Facebook Live de la Alianza Francesa de Guatemala
URL:https://alianzafrancesa.org.gt/evento/noche-de-cineconciertos-en-casa-segunda-edicion-del-ano-2021/
CATEGORIES:Agenda,Cine,Música
ATTACH;FMTTYPE=:
END:VEVENT
END:VCALENDAR