BEGIN:VCALENDAR
VERSION:2.0
PRODID:-//Alianza Francesa Guatemala - ECPv6.15.20//NONSGML v1.0//EN
CALSCALE:GREGORIAN
METHOD:PUBLISH
X-WR-CALNAME:Alianza Francesa Guatemala
X-ORIGINAL-URL:https://alianzafrancesa.org.gt
X-WR-CALDESC:Eventos para Alianza Francesa Guatemala
REFRESH-INTERVAL;VALUE=DURATION:PT1H
X-Robots-Tag:noindex
X-PUBLISHED-TTL:PT1H
BEGIN:VTIMEZONE
TZID:America/Chicago
BEGIN:DAYLIGHT
TZOFFSETFROM:-0600
TZOFFSETTO:-0500
TZNAME:CDT
DTSTART:20200308T080000
END:DAYLIGHT
BEGIN:STANDARD
TZOFFSETFROM:-0500
TZOFFSETTO:-0600
TZNAME:CST
DTSTART:20201101T070000
END:STANDARD
BEGIN:DAYLIGHT
TZOFFSETFROM:-0600
TZOFFSETTO:-0500
TZNAME:CDT
DTSTART:20210314T080000
END:DAYLIGHT
BEGIN:STANDARD
TZOFFSETFROM:-0500
TZOFFSETTO:-0600
TZNAME:CST
DTSTART:20211107T070000
END:STANDARD
BEGIN:DAYLIGHT
TZOFFSETFROM:-0600
TZOFFSETTO:-0500
TZNAME:CDT
DTSTART:20220313T080000
END:DAYLIGHT
BEGIN:STANDARD
TZOFFSETFROM:-0500
TZOFFSETTO:-0600
TZNAME:CST
DTSTART:20221106T070000
END:STANDARD
END:VTIMEZONE
BEGIN:VEVENT
DTSTART;TZID=America/Chicago:20210609T193000
DTEND;TZID=America/Chicago:20210609T203000
DTSTAMP:20260423T030813
CREATED:20210601T153250Z
LAST-MODIFIED:20210601T153250Z
UID:6569-1623267000-1623270600@alianzafrancesa.org.gt
SUMMARY:Casa de canciones | Domi Hunziker
DESCRIPTION:Casa de canciones | Domi Hunziker\nEl miércoles 9 de junio\, la Alianza Francesa de Guatemala les invita a su ciclo musical titulado «Casa de canciones»\, una edición especial #quedateencasa para darle continuidad a nuestro ciclo de cantautores «Galería de canciones». \nEsta noche\, en el marco de la Semana de América Latina y el Caribe en Francia\, tendremos el placer de tener a Dominique Hunziker. Con una voz potente y delicada\, cantando en varios idiomas\, esta cantautora ofrece una estética musical muy particular que le permite explorar temas filosóficos en sus letras. \n  \n\n  \nDominique Hunziker\, una talentosa artista multicultural\nDespués de presentar sus canciones en escenarios callejeros y teatros importantes en Guatemala\, y con un primer EP producido por la ganadora del Latin Grammy\, Gaby Moreno\, Dominique se muda a Suiza para estudiar música en la Escuela Superior de Música de Lausana. \nActualmente la acompañan Vincent Andreae en la batería\, Dante Laricchia en el bajo\, Agustín del Pozo en la guitarra y Mathieu Nuzzo en el teclado. Conservando la sobriedad característica de sus composiciones\, Dominique viaja con ellos a través de colores alegres y festivos\, que evocan sus raíces latinoamericanas. Desde su llegada a Europa\, ha presentado su obra en festivales universitarios\, teatros\, entrevistas en la radio y centros culturales en ciudades como Lausana\, Ginebra. \nRecientemente colaboró con El Búho y Alex Hentze\, en el disco Ramas\, creando la melodía y la letra para el tema Amanuences del Espíritu. \n\nSobre la Semana de América Latina y el Caribe en Francia\nDel 27 de mayo al 12 de junio\, Francia vuelve a ensalzar a Latinoamérica y el Caribe. \nCon más de 300 eventos culturales\, científicos\, políticos\, económicos y festivos organizados en especial de forma virtual\, la octava edición de la Semana de América Latina y el Caribe (#SALC2021) permite dar a conocer la diversidad de las relaciones\, las del pasado y las actuales\, que América Latina\, el Caribe y Francia han ido tejiendo. \nEl programa de 2021 se ha elaborado a partir de iniciativas de las embajadas de los países de Latinoamérica y el Caribe en Francia\, de asociaciones\, centros educativos y de investigación\, museos y galerías de arte. \nSe han organizado más de 300 eventos por casi tantos socios: proyección de películas\, coloquios\, conciertos\, espectáculos de danza\, artesanía\, catas\, exposiciones\, encuentros literarios\, etc. \nLa edición de 2021 también irá marcada por encuentros políticos y económicos de alto nivel\, dirigidos a pensar en la relación entre Latinoamérica\, el Caribe y Francia\, valorizar sus alianzas y aunar energías ante los desafíos mundiales actuales. \n  \nMiércoles 9 de junio\n19:30hrs\nPágina Facebook de la Alianza Francesa
URL:https://alianzafrancesa.org.gt/evento/casa-de-canciones-domi-hunziker/
CATEGORIES:Agenda,Música
ATTACH;FMTTYPE=:
END:VEVENT
END:VCALENDAR