BEGIN:VCALENDAR
VERSION:2.0
PRODID:-//Alianza Francesa Guatemala - ECPv6.15.20//NONSGML v1.0//EN
CALSCALE:GREGORIAN
METHOD:PUBLISH
X-WR-CALNAME:Alianza Francesa Guatemala
X-ORIGINAL-URL:https://alianzafrancesa.org.gt
X-WR-CALDESC:Eventos para Alianza Francesa Guatemala
REFRESH-INTERVAL;VALUE=DURATION:PT1H
X-Robots-Tag:noindex
X-PUBLISHED-TTL:PT1H
BEGIN:VTIMEZONE
TZID:America/Chicago
BEGIN:DAYLIGHT
TZOFFSETFROM:-0600
TZOFFSETTO:-0500
TZNAME:CDT
DTSTART:20200308T080000
END:DAYLIGHT
BEGIN:STANDARD
TZOFFSETFROM:-0500
TZOFFSETTO:-0600
TZNAME:CST
DTSTART:20201101T070000
END:STANDARD
BEGIN:DAYLIGHT
TZOFFSETFROM:-0600
TZOFFSETTO:-0500
TZNAME:CDT
DTSTART:20210314T080000
END:DAYLIGHT
BEGIN:STANDARD
TZOFFSETFROM:-0500
TZOFFSETTO:-0600
TZNAME:CST
DTSTART:20211107T070000
END:STANDARD
BEGIN:DAYLIGHT
TZOFFSETFROM:-0600
TZOFFSETTO:-0500
TZNAME:CDT
DTSTART:20220313T080000
END:DAYLIGHT
BEGIN:STANDARD
TZOFFSETFROM:-0500
TZOFFSETTO:-0600
TZNAME:CST
DTSTART:20221106T070000
END:STANDARD
END:VTIMEZONE
BEGIN:VEVENT
DTSTART;TZID=America/Chicago:20210901T193000
DTEND;TZID=America/Chicago:20210901T203000
DTSTAMP:20260422T221337
CREATED:20210823T225801Z
LAST-MODIFIED:20210823T225801Z
UID:6729-1630524600-1630528200@alianzafrancesa.org.gt
SUMMARY:Casa de canciones - Alejandro Arriaza
DESCRIPTION:Casa de canciones – Alejandro Arriaza\nEl miércoles 1 de septiembre\, la Alianza Francesa de Guatemala les invita a su ciclo musical titulado «Casa de canciones»\, una edición especial #quedateencasa para darle continuidad a nuestro ciclo de cantautores «Galería de canciones». \nEn esta noche\, Alejandro Arriaza hará un recorrido por su carrera musical\, ofreciendo temas de sus tres discos\, además de otros inéditos\, en un ambiente íntimo\, acompañado de una percusión y un piano\, reflejando la esencia del género que cultiva\, el cual cataloga como folk latino\, o\, un poco a manera de broma\, post-trova. Con letras profundas y ritmos diversos\, Arriaza abordará cuestiones existenciales\, urbanas y sociales. \n  \n\n  \nCanta la historia con sus ritmos latinoamericanos\nAlejandro Arriaza nació en la ciudad de Guatemala el 1 de febrero de 1975. Aunque la música siempre fue parte de su vida y ya desde niño cantaba\, no fue sino hasta 1992 que aprendió a tocar la guitarra. \nEn 1995 empezó a componer sus propias canciones y un año después\, a presentarlas públicamente en distintos escenarios. En 2002\, publicó su primer CD\, “Tranquila tu mente”. \nParticipó en diversas actividades culturales y festivales de la Universidad de San Carlos de Guatemala\, proponiendo temas de canción protesta latinoamericana y de la nueva trova cubana. Escribe sobre la ciudad\, la condición humana\, la búsqueda del propio camino y propio ser sin dejar de lado el amor\, el desamor y los amordiscos de la vida. \nHoy en día\, sigue participando en conciertos\, festivales y actividades culturales en todo el territorio de la república de Guatemala. También ofreció conciertos en las ciudades españolas de La Coruña\, Valencia y Granada y en la ciudad estadounidense de Minneapolis. \n\nMiércoles 1 de septiembre\n19:30hrs\nPágina Facebook de la Alianza Francesa
URL:https://alianzafrancesa.org.gt/evento/casa-de-canciones-alejandro-arriaza/
CATEGORIES:Agenda,Música
ATTACH;FMTTYPE=:
END:VEVENT
BEGIN:VEVENT
DTSTART;TZID=America/Chicago:20210908T193000
DTEND;TZID=America/Chicago:20210908T203000
DTSTAMP:20260422T221337
CREATED:20210823T231113Z
LAST-MODIFIED:20210823T231113Z
UID:6738-1631129400-1631133000@alianzafrancesa.org.gt
SUMMARY:Carta Blanca a Querido Arte
DESCRIPTION:Carta Blanca a Querido Arte\nEl miércoles 8 de septiembre\, la Alianza Francesa de Guatemala les presentará “Carta Blanca a Querido Arte”. En septiembre pasado\, lanzamos nuestras noches “Carta Blanca”\, en las que un artista o una compañía presenta sus diferentes obras o contenidos artísticos a lo largo de la misma noche. \nQuerido Arte es una compañía de ópera joven y fresca con un único objetivo en mente: hacer de Guatemala un referente en Latinoamérica y el mundo a través de producciones de alta calidad\, proyectos integrales de desarrollo para artistas\, presentaciones que rescaten la tradición y belleza de la ópera y eventos que impacten de forma positiva a la cultura y la sociedad\, transformando vidas a través de la música. La obra presentada será “Serenata de la Asunción 2021”\, concierto de Arias Sacras dedicadas a la patrona de la Ciudad de Guatemala\, la Virgen de La Asunción. \n  \n\nCambiando Guatemala\, una ópera a la vez\nQuerido Arte: Compañía de Ópera de Guatemala nace como una iniciativa de los cantantes guatemaltecos\, el Tenor Mario Chang y la Soprano Maria José Morales. \nA lo largo de los años\, han desarrollado diferentes programas y proyectos para el desarrollo y difusión de la ópera. Desde el más pequeño recital\, hasta producciones originales de óperas completas\, galas sinfónicas\, conciertos masivos\, de voluntariado y musicoterapia: creen que la música puede tocar vidas y que cada guatemalteco debe de tener la oportunidad de disfrutar del hermoso poder transformador de la música. \nActualmente están haciendo las producciones de ópera más grandes y de más alta calidad del país. Ha unido el mejor talento guatemalteco para poder hacer arte juntos como una manera de crear identidad nacional y de mejorar el nivel artístico de cada participante individualmente y grupalmente. \n\nMiércoles 8 de septiembre\n19:30hrs\nPágina Facebook de la Alianza Francesa
URL:https://alianzafrancesa.org.gt/evento/carta-blanca-a-querido-arte/
CATEGORIES:Agenda,Música
ATTACH;FMTTYPE=:
END:VEVENT
BEGIN:VEVENT
DTSTART;TZID=America/Chicago:20210922T193000
DTEND;TZID=America/Chicago:20210922T203000
DTSTAMP:20260422T221337
CREATED:20210823T230734Z
LAST-MODIFIED:20210823T230734Z
UID:6735-1632339000-1632342600@alianzafrancesa.org.gt
SUMMARY:Sin Palabras en casa - Mabe Fratti
DESCRIPTION:Sin Palabras en casa – Mabe Fratti\nEl miércoles 22 de septiembre\, la Alianza Francesa de Guatemala les invita a su ciclo musical «Sin Palabras… en casa» en una edición especial #quedateencasa para darle continuidad a nuestro ciclo “Sin Palabras”. \nLa cantante\, multiinstrumentista y compositora guatemalteca\, Mabe Fratti\, nos regalará un concierto de cello donde se disfrutará de la experimentación con el sonido\, con las sensaciones y con la existencia misma. La música de Mabe desarma por todos los flancos\, transformándonos en sensibles cajas de resonancia: mediante una ejecución hipnótica y cautivadora. \n  \n\n\nMabe Fratti\, una propuesta de música versátil\nLa sensibilidad de Mabe Fratti es el triunfo de la experimentación por sobre el dominio técnico de un instrumento. \nEsto ha llevado a Mabe y su chelo de Guatemala a Ciudad de México\, de la academia al noise; de la colaboración en ensambles y dúos\, al profundo viaje personal que se refleja en sus presentaciones solistas; de la creación de canciones pop a la impro libre y de escenarios como NRMAL al CENART. \nMabe va hilando elementos contemporáneos como el shoegaze y el dreampop con influencias ancestrales que van del canto gregoriano a la música sefardí\, transformándolos en ingredientes de un potente ritual sonoro de profundo impacto emocional. \nMoot Point (2018)\, Aprendiendo a Hablar (2018) y Pies sobre la tierra (2019) son los testimonios en estudio de las inmensas constelaciones sonoras que Mabe Fratti es capaz de crear\, ya sea en solitario o acompañada de colaboradores como Roberto Tercero\, Concepción Huerta\, Eviltapes o Mito del Desierto. \n  \nMiércoles 22 de septiembre\n19:30hrs\nPágina Facebook de la Alianza Francesa
URL:https://alianzafrancesa.org.gt/evento/sin-palabras-en-casa-mabe-fratti/
CATEGORIES:Agenda,Música
ATTACH;FMTTYPE=:
END:VEVENT
BEGIN:VEVENT
DTSTART;TZID=America/Chicago:20210929T193000
DTEND;TZID=America/Chicago:20210929T203000
DTSTAMP:20260422T221337
CREATED:20210823T231536Z
LAST-MODIFIED:20210823T231536Z
UID:6744-1632943800-1632947400@alianzafrancesa.org.gt
SUMMARY:Noche de cineconciertos en casa - Tercera edición del año 2021
DESCRIPTION:Noche de cineconciertos en casa – Tercera edición del año 2021\nEl miércoles 29 de septiembre\, la Alianza Francesa de Guatemala les invita a la tercera edición del año de su ciclo de cineconciertos en casa. Podrán disfrutar de 6 cortometrajes con integración de música en vivo a cargo del pianista Víctor Arriaza y con la participación de Dani Toralla (voz)\, Luis López (guitarra)\, Hugo García (batería) y Edson Aroche (teclados) desde nuestra página Facebook. \n  \nLos 6 cortos mudos de está edición en casa\n\nLa gallina de los huevos de oro\n\nAÑO: 1905 \nPAÍS: Francia \nDURACIÓN: 14 min \nDIRECCIÓN: Gaston Velle \nSINOPSIS: El profesor Barbenfouillis y otros seis científicos organizan una expedición a la luna. \n  \nLa boda de Tom Pouce\n\nAÑO: 1925 \nPAÍS: Estados Unidos \nDURACIÓN: 9 min \nDIRECCIÓN: Walter Lantz \nSINOPSIS: Dinky Doodle se casa con una lechera bonita y la trae de vuelta a la casa que Jack construyó. \n\nOnésime se marie\n\nAÑO: 1913 \nPAÍS: Francia \nDURACIÓN: 7:31 min \nDIRECCIÓN:   Jean Durand \nSINOPSIS: Onésime y Calino se casan el mismo día\, a la misma hora y en el mismo lugar. Incluso el banquete es compartido\, lo que creará una serie de encontronazos entre ambos. \n  \nLes femmes députés\n\nAÑO: 1906 \nPAÍS: Francia \nDURACIÓN: 8 min \nDIRECCIÓN: Anónimo \nSINOPSIS: Película en la que se presentó a mujeres diputadas en Francia\, al principio del siglo veinte\, mientras los hombres están cuidando la casa y a los niños. \n\nPremier Prix de violoncelle\n\nAÑO: 1907 \nPAÍS: Francia \nDURACIÓN: 2:42 min \nDIRECCIÓN: Anónimo \nSINOPSIS: El artista se sienta en una silla en medio de la calle y comienza a tocar. Pronto\, le llueven ventanas\, proyectiles de todo tipo de cosas… pero esto no corta la inspiración del músico… \n  \nLes Joyeux Microbes\n\nAÑO: 1909 \nPAÍS: Francia \nDURACIÓN: 5 min \nDIRECCIÓN: Émile Cohl \nSINOPSIS: Un científico ha adquirido un microscopio y se lo está mostrando a su amigo. Toma varias muestras corporales (cabello\, flemas\, etc.) y las pone bajo el microscopio. Los “microbios” se fusionan y forman diferentes formas\, creando caricaturas de varias personas\, como suegras y borrachos. \n  \nUnas palabras sobre Victor Arriaza\, el director y pianista\nPianista guatemalteco de jazz\, compositor\, productor\, arreglista y educador. Es fundador y pianista del cuarteto Imox Jazz\, con el que se ha desarrollado principalmente en el escenario del jazz centroamericano. \nEs un pianista versátil y de amplio conocimiento en armonía\, arreglo y estilos del jazz. También se ha involucrado en proyectos de diversos géneros como el reggae\, rock\, piano clásico y teatro musical. Como educador y promotor del jazz ha estado involucrado en la organización de festivales educativos impartiendo clases y talleres sobre improvisación\, historia del jazz y armonía jazz en diversos lugares de Guatemala. \n\nCon su cuarteto Imox Jazz\, ha publicado tres producciones discográficas en las que se incluyen algunos temas de su autoría así como arreglos originales realizados por él. \nComo director musical ha estado a cargo de varias producciones de teatro musical\, entre las que destacan Annie el Musical (2012-2014)\, Chicago (2015\, 2017)\, etc; así como director de diversas agrupaciones y ensambles musicales en diversos géneros. \n  \nMiércoles 29 de septiembre\n19:30hrs\nPágina Facebook Live de la Alianza Francesa de Guatemala
URL:https://alianzafrancesa.org.gt/evento/noche-de-cineconciertos-en-casa-tercera-edicion-del-ano-2021/
CATEGORIES:Agenda,Cine,Música
ATTACH;FMTTYPE=:
END:VEVENT
END:VCALENDAR