BEGIN:VCALENDAR
VERSION:2.0
PRODID:-//Alianza Francesa Guatemala - ECPv6.15.20//NONSGML v1.0//EN
CALSCALE:GREGORIAN
METHOD:PUBLISH
X-ORIGINAL-URL:https://alianzafrancesa.org.gt
X-WR-CALDESC:Eventos para Alianza Francesa Guatemala
REFRESH-INTERVAL;VALUE=DURATION:PT1H
X-Robots-Tag:noindex
X-PUBLISHED-TTL:PT1H
BEGIN:VTIMEZONE
TZID:America/Chicago
BEGIN:DAYLIGHT
TZOFFSETFROM:-0600
TZOFFSETTO:-0500
TZNAME:CDT
DTSTART:20200308T080000
END:DAYLIGHT
BEGIN:STANDARD
TZOFFSETFROM:-0500
TZOFFSETTO:-0600
TZNAME:CST
DTSTART:20201101T070000
END:STANDARD
BEGIN:DAYLIGHT
TZOFFSETFROM:-0600
TZOFFSETTO:-0500
TZNAME:CDT
DTSTART:20210314T080000
END:DAYLIGHT
BEGIN:STANDARD
TZOFFSETFROM:-0500
TZOFFSETTO:-0600
TZNAME:CST
DTSTART:20211107T070000
END:STANDARD
BEGIN:DAYLIGHT
TZOFFSETFROM:-0600
TZOFFSETTO:-0500
TZNAME:CDT
DTSTART:20220313T080000
END:DAYLIGHT
BEGIN:STANDARD
TZOFFSETFROM:-0500
TZOFFSETTO:-0600
TZNAME:CST
DTSTART:20221106T070000
END:STANDARD
END:VTIMEZONE
BEGIN:VEVENT
DTSTART;TZID=America/Chicago:20211110T193000
DTEND;TZID=America/Chicago:20211110T203000
DTSTAMP:20260422T192103
CREATED:20211026T214418Z
LAST-MODIFIED:20211026T214418Z
UID:6851-1636572600-1636576200@alianzafrancesa.org.gt
SUMMARY:Sin Palabras... en casa - Marimba Contemporánea de Guatemala
DESCRIPTION:Sin Palabras… en casa – Marimba Contemporánea de Guatemala\nEl miércoles 10 de noviembre\, la Alianza Francesa de Guatemala les invita a su ciclo musical «Sin Palabras… en casa» en una edición especial #quedateencasa para darle continuidad a nuestro ciclo “Sin Palabras”. \nEn está última edición del año\, invitamos a Marimba Contemporánea de Guatemala. Es una agrupación referente y alternativa guatemalteca\, que tiene como principal instrumento marimbas\, acompañado de otros instrumentos que hacen\, una variedad precisa de sonidos\, ritmos y colores. \n  \nUna variedad de estilos en una propuesta innovador\n\n  \nMarimba Contemporánea se funda en 2015 como una propuesta innovadora. Ha lanzado dos a?lbumes de estudio\, los cuales demuestran el concepto distintivo de la agrupacio?n\, lo que los hace atractivos e innovadores en la escena guatemalteca. \nSu estilo mu?sical es Influenciado por el Rock\,  Jazz\, Folk y Mu?sica Sinfónica\, lo cual le da una riqueza\, distinción y originalidad a su mu?sica\,  que se define como world music experimental con diversas fusiones. \nHasta la fecha han lanzado dos sencillos de su tercer trabajo discográfico\, el cual marca una nueva etapa para la agrupación con un sonido fuerte\, con diversos timbres\, adema?s de la amalgama de sonido orgánico y electrónico. \n\nMiércoles 10 de noviembre\n19:30hrs\nPágina Facebook de la Alianza Francesa
URL:https://alianzafrancesa.org.gt/evento/sin-palabras-en-casa-marimba-contemporanea-de-guatemala/
CATEGORIES:Agenda,Música
ATTACH;FMTTYPE=:
END:VEVENT
BEGIN:VEVENT
DTSTART;TZID=America/Chicago:20211117T193000
DTEND;TZID=America/Chicago:20211117T203000
DTSTAMP:20260422T192103
CREATED:20211028T222226Z
LAST-MODIFIED:20211028T222226Z
UID:6857-1637177400-1637181000@alianzafrancesa.org.gt
SUMMARY:Casa de canciones - Junio Jocol
DESCRIPTION:Casa de canciones – Junio Jocol\nEl miércoles 17 de noviembre\, la Alianza Francesa de Guatemala les invita a su ciclo musical titulado «Casa de canciones»\, una edición especial #quedateencasa para darle continuidad a nuestro ciclo de cantautores «Galería de canciones». \nEl cantautor guatemalteco Junio Jocol cerrará el ciclo de “Casa de canciones” este año. Desde el inicio de su carrera musical en 2002\, se ha caracterizado por sus canciones con temas sociales y sarca?sticos\, pero reflexivas sobre la problema?tica de los pai?ses. Ha realizado conciertos en Centroame?rica\, Me?xico\, Repu?blica Dominicana\, Colombia y otros. \n\n  \nUna música que busca reflexionar los problemas sociales\nEn el año 2001\, Junio Jocol forma la banda “El Quijote” un grupo de rock pop con el cual tuvo la suerte de recorrer toda Guatemala y El Salvador en importantes festivales y acompañando a los grupos más reconocidos de esos países. \nDespués de 5 años de estar con la banda se separó de la música por un par de años y retomó la guitarreada hasta el 2009 cuando viajando por toda toda Centroamérica decide regresar a Guatemala a grabar su primer disco en solitario «Las aventuras del tío pelos\, Pijasso y Sho» que nació a finales de 2011. Este disco recopila 11 canciones divertidas sobre viajes y experiencias personales. \nParalelamente a la grabación se presentó en la sexta avenida\, en ciudad de Guatemala a cantar en las calles a guitarra limpia. Cada vez más personas llegan a conocerle y a conocer sus canciones\, es ante ellos que presentó tanto el primer disco como el segundo en 2014 «Bienvenidos a Jocoltenango”. \nEn enero de 2016 gestionó y formó parte del primer concierto de un ciclo de Cantautores en Guatemala\, «Las Canciones Errantes»\, que es un colectivo de cantautores presentándose en Trovajazz en conciertos cada mes. \n  \nMiércoles 17 de noviembre\n19:30hrs\nPágina Facebook de la Alianza Francesa
URL:https://alianzafrancesa.org.gt/evento/casa-de-canciones-junio-jocol/
CATEGORIES:Agenda,Música
ATTACH;FMTTYPE=:
END:VEVENT
BEGIN:VEVENT
DTSTART;TZID=America/Chicago:20211125T193000
DTEND;TZID=America/Chicago:20211125T203000
DTSTAMP:20260422T192103
CREATED:20211028T223029Z
LAST-MODIFIED:20211028T223029Z
UID:6861-1637868600-1637872200@alianzafrancesa.org.gt
SUMMARY:Noche de cineconciertos en casa - Última edición del año 2021
DESCRIPTION:Noche de cineconciertos en casa – Última edición del año 2021\nCuarta y última edición del año del ciclo especial de cine-conciertos: integración de música en vivo sobre cortometrajes de Charles Chaplin\, Buster Keaton y Harold Lloyd\, etc. y otras joyas del cine mudo a cargo del del pianista Víctor Arriaza (Imox Jazz\, etc.) y de sus invitados. \n\nLos 8 cortos mudos de está edición en casa\nPremier Prix de violoncelle\n\nAÑO: 1907 \nPAÍS: Francia \nDURACIÓN: 2:42 min \nDIRECCIÓN: Anónimo \nSINOPSIS: El artista se sienta en una silla en medio de la calle y comienza a tocar. Pronto\, le llueven ventanas\, proyectiles de todo tipo de cosas… pero esto no corta la inspiración del músico… \n  \nThe Cartoon Factory\n\nAÑO: 1924 \nPAÍS: Estados-Unidos \nDURACIÓN: 8 min \nDIRECCIÓN: Dave & Max Fleischer \nSINOPSIS: En 1919\, Ko-Ko el payaso fue el primero de los personajes que salió del tintero de su creador\, Max Fleischer. Combinando la acción real con animación\, esta imaginativa serie de 130 películas inspiró películas como Alice in Wonderland\, de Walt Disney\, entre otros. \n  \nSueño de un mesero\n\nAÑO: 1910 \nPAÍS: Francia \nDURACIÓN: 6 minutos \nDIRECCIÓN: Emile Colh \nSINOPSIS:  Cuatro clientes están jugando a las cartas en un café tranquilo. La atmósfera trae pesado\, el camarero se queda dormido y tiene un hermoso sueño en el que dos ángeles vienen y le tocan en violines\, con tal encanto que es transportado al séptimo cielo. El sueño cambia\, y lo vemos pasando por muchas escenas divertidas y fantásticas. Finalmente\, los clientes molestos por sus ronquidos\, lo despiertan vertiendo agua sobre él. \n  \nLa langosta fresca\n\nAÑO: 1928 \nPAÍS: Estados-Unidos \nDURACIÓN: 7 min \nDIRECCIÓN: Anónimo \nSINOPSIS: Un hombre come una langosta y sueña que esta lo persigue. \n  \nOnésime ama las bestias  \n\nAÑO: 1913 \nPAÍS: Francia \nDURACIÓN: 6 min \nDIRECCIÓN: Jean Durand \nSINOPSIS: Cuidando la casa de sus tíos cuando no están\, el amante de los animales Onésime la convierte en un hospital para animales enfermos. \n  \nPesadilla de carnicero\n\nAÑO: 1907 \nPAÍS: Francia \nDURACIÓN: 3 min \nDIRECCIÓN: Anónimo \nSINOPSIS: Dormido en su tienda\, en medio de sus salchichones y jamones\, un carnicero está soñando. En su pesadilla\, lo secuestran hombres-cerdos que lo arrastran hasta el infierno. \n  \nEl Cerdo Bailarín\n\nAÑO: 1907 \nPAÍS: Francia \nDURACIÓN: 3 min \nDIRECCIÓN: Anónimo \nSINOPSIS: Un cerdo gigante antropomórfico despliega su talento artístico junto a una mujer. Ambos bailan y realizan un show\, pero más tarde\, la mujer lo avergüenza cuando le quita la ropa y lo deja desnudo. \n  \nUnas palabras sobre Victor Arriaza\, el director y pianista\nPianista guatemalteco de jazz\, compositor\, productor\, arreglista y educador. Es fundador y pianista del cuarteto Imox Jazz\, con el que se ha desarrollado principalmente en el escenario del jazz centroamericano. \nEs un pianista versátil y de amplio conocimiento en armonía\, arreglo y estilos del jazz. También se ha involucrado en proyectos de diversos géneros como el reggae\, rock\, piano clásico y teatro musical. Como educador y promotor del jazz ha estado involucrado en la organización de festivales educativos impartiendo clases y talleres sobre improvisación\, historia del jazz y armonía jazz en diversos lugares de Guatemala. \n\nCon su cuarteto Imox Jazz\, ha publicado tres producciones discográficas en las que se incluyen algunos temas de su autoría así como arreglos originales realizados por él. \nComo director musical ha estado a cargo de varias producciones de teatro musical\, entre las que destacan Annie el Musical (2012-2014)\, Chicago (2015\, 2017)\, etc; así como director de diversas agrupaciones y ensambles musicales en diversos géneros. \n  \nJueves 25 de noviembre\n19:30hrs\nPágina Facebook Live de la Alianza Francesa de Guatemala
URL:https://alianzafrancesa.org.gt/evento/noche-de-cineconciertos-en-casa-ultima-edicion-del-ano-2021-2/
CATEGORIES:Agenda,Cine,Música
ATTACH;FMTTYPE=:
END:VEVENT
END:VCALENDAR