BEGIN:VCALENDAR
VERSION:2.0
PRODID:-//Alianza Francesa Guatemala - ECPv6.15.20//NONSGML v1.0//EN
CALSCALE:GREGORIAN
METHOD:PUBLISH
X-WR-CALNAME:Alianza Francesa Guatemala
X-ORIGINAL-URL:https://alianzafrancesa.org.gt
X-WR-CALDESC:Eventos para Alianza Francesa Guatemala
REFRESH-INTERVAL;VALUE=DURATION:PT1H
X-Robots-Tag:noindex
X-PUBLISHED-TTL:PT1H
BEGIN:VTIMEZONE
TZID:America/Guatemala
BEGIN:STANDARD
TZOFFSETFROM:-0600
TZOFFSETTO:-0600
TZNAME:CST
DTSTART:20210101T000000
END:STANDARD
END:VTIMEZONE
BEGIN:VEVENT
DTSTART;TZID=America/Guatemala:20220510T193000
DTEND;TZID=America/Guatemala:20220510T203000
DTSTAMP:20260422T103527
CREATED:20220502T210922Z
LAST-MODIFIED:20220502T210922Z
UID:7124-1652211000-1652214600@alianzafrancesa.org.gt
SUMMARY:Sin Palabras - Chirmolito Trio
DESCRIPTION:Sin Palabras – Chirmolito Trio\nEl martes 10 de mayo\, la Alianza Francesa de Guatemala les invita a su ciclo de música instrumental «Sin Palabras”. \nPara reanudar este ciclo en presencial\, el Chirmolito Trio les deleitará con un concierto de jazz donde las mezclas de sonidos más creativas les sorprenderán. Compuesto de saxofón\, guitarra y batería\, este trio musical fusiona diferentes influencias para darle un toque fresco a la música. \n  \n \n\nEl Chirmolito Trio\, una linda propuesta de jazz\nChirmolito Trio nace de un proyecto jazz arriesgado: unir a un baterista rockero\, un guitarrista enamorado del jazz fusión y un saxofonista con una obsesión por el funk. Lo que les llevó al nombre: Chirmolito Trio. \nEl formato trio siempre permite la búsqueda de sonidos y mezclas más creativas\, como músicos siempre desean conectar con el público nuevas emociones donde sea: un restaurante\, un bar\, un escenario. \n\nMartes 10 de mayo\n19:30hrs\nQ30 en taquilla\nGalería de la Alianza Francesa de  Guatemala 
URL:https://alianzafrancesa.org.gt/evento/sin-palabras-chirmolito-trio/
CATEGORIES:Agenda,Música,Musique
ATTACH;FMTTYPE=image/png:https://alianzafrancesa.org.gt/wp-content/uploads/2022/05/banner-2-min-scaled.png
END:VEVENT
BEGIN:VEVENT
DTSTART;TZID=America/Guatemala:20220519T193000
DTEND;TZID=America/Guatemala:20220519T203000
DTSTAMP:20260422T103527
CREATED:20220502T212516Z
LAST-MODIFIED:20220502T212516Z
UID:7139-1652988600-1652992200@alianzafrancesa.org.gt
SUMMARY:Galería de canciones - Marcelo\, Marcelo
DESCRIPTION:Galería de canciones – Marcelo\, Marcelo\nEl jueves 19 de mayo\, la Alianza Francesa de Guatemala les invita a su ciclo “Galería de canciones”. Después de 2 años\, ya era tiempo de dejar el “Casa de canciones” para volver al “Galería de canciones. \nNuestro primer invitado en presencial de este ciclo será Marcelo\, Marcelo\, cantautor guatemalteco con una propuesta que mezcla la canción tradicional latinoamericana con elementos de la música contemporánea como el folk y el indie. A través de melodías dulces y letras inocentes\, nos embarca en un viaje íntimo\, hacia la nostalgia y la melancolía. \n  \n \n  \nMarcelo\, Marcelo\, el músico de la noche\nEn 2017 Marcelo\, Marcelo presentó su primer proyecto como solista con el lanzamiento del EP ‘Sal’\, un conjunto de 5 canciones grabado en el estudio Análogo Digital y producido por David Suárez y Franc Castillejos. \nEl primer sencillo ‘Azares’ reunió más de 5.000 reproducciones en el primer semestre tras su publicación\, sonando en diversas radios y llegando a más de 30 países a través de plataformas de streaming como Spotify\, iTunes y Amazon Prime Music. El siguiente año\, grabó un sencillo a doble cara con conceptos cósmicos en el que la influencia del folk latinoamericano es más notoria. El lado A ‘Eclipse Lunar’ fue el primer videoclip del artista y alcanzó más de 20 mil reproducciones en YouTube. \nEn un concierto de Marcelo X2\, podemos esperar historias\, silencios cálidos y pausas sutiles que sumergen a la audiencia en un ambiente relajado y le predispone para el acompañamiento de la guitarra acústica y el realismo mágico de la poesía del cantautor guatemalteco. Interpretando un repertorio de música original es sin duda\, una experiencia que festeja la diversidad de la escena independiente. \n  \nJueves 19 de mayo\n19:30hrs\nQ30\nGalería de la Alianza Francesa de  Guatemala 
URL:https://alianzafrancesa.org.gt/evento/galeria-de-canciones-marcelo-marcelo/
CATEGORIES:Agenda,Música,Musique
ATTACH;FMTTYPE=image/png:https://alianzafrancesa.org.gt/wp-content/uploads/2022/05/banner-2-min-2-1.png
END:VEVENT
BEGIN:VEVENT
DTSTART;TZID=America/Guatemala:20220528T193000
DTEND;TZID=America/Guatemala:20220528T203000
DTSTAMP:20260422T103527
CREATED:20220524T191720Z
LAST-MODIFIED:20220524T191720Z
UID:7233-1653766200-1653769800@alianzafrancesa.org.gt
SUMMARY:Sin Palabras Alianzas Sonoras - Clarinet4
DESCRIPTION:Sin Palabras Alianzas Sonoras – Clarinet4\n\n\n\n\nEl sábado 28 de mayo\, en el marco de la Fiesta de la música Alianzas Sonoras\, la Alianza Francesa de Guatemala les invita a su ciclo instrumental “Sin Palabras”. \nTendremos el honor de recibir a la banda Clarinet4\, compuesta de Paolo Villagrán\, Kevinne Urias\, Levi Girón y Axel Sánchez. Este ensamble nació en diciembre del año 2019 con el fin de llevar música de todos los estilos a través de 4 clarinetes y percusión \nSe grabará esta edición especial para el gran concierto de la “Fiesta de la música Alianzas Sonoras” el 26 de junio. \n  \n \n\n\n\n\n\n\nUn ensamble que te hará descubrir el clarinete bajo todas sus formas\n\n\n\n\nDesde sus inicios ClariNet4 se ha podido presentar en distintos espacios como: Proyecto Poporopo\, IRTRA Mundo Petapa\, La Discoteca Café\, AVON\, Orquesta Sinfónica Nacional\, 14 Grados (Cervecería 14)\, también en una pedida de mano\, misa de navidad y en Alianza Francesa de la ciudad capital. \nSus integrantes son guatemaltecos\, donde cabe mencionar que aparte del clarinete\, algunos de ellos practican la docencia\, el arte del barismo\, composición y hasta la fotografía. \nClariNet4 es un ensamble «cool» que trabaja en un repertorio ameno y dinámico para que todo aquel que los escuche\, salga con una sonrisa y los lleve siempre en sus recuerdos. \n  \nSábado 28 de mayo\n19:30hrs\nEntrada libre\nJardín de la Alianza Francesa de  Guatemala 
URL:https://alianzafrancesa.org.gt/evento/sin-palabras-alianzas-sonoras-clarinet4/
CATEGORIES:Agenda,Música,Musique
ATTACH;FMTTYPE=image/jpeg:https://alianzafrancesa.org.gt/wp-content/uploads/2022/05/clarinete4_fete_de_la_musique_22.jpg
END:VEVENT
END:VCALENDAR