BEGIN:VCALENDAR
VERSION:2.0
PRODID:-//Alianza Francesa Guatemala - ECPv6.15.20//NONSGML v1.0//EN
CALSCALE:GREGORIAN
METHOD:PUBLISH
X-WR-CALNAME:Alianza Francesa Guatemala
X-ORIGINAL-URL:https://alianzafrancesa.org.gt
X-WR-CALDESC:Eventos para Alianza Francesa Guatemala
REFRESH-INTERVAL;VALUE=DURATION:PT1H
X-Robots-Tag:noindex
X-PUBLISHED-TTL:PT1H
BEGIN:VTIMEZONE
TZID:America/Guatemala
BEGIN:STANDARD
TZOFFSETFROM:-0600
TZOFFSETTO:-0600
TZNAME:CST
DTSTART:20210101T000000
END:STANDARD
END:VTIMEZONE
BEGIN:VEVENT
DTSTART;TZID=America/Guatemala:20220910T160000
DTEND;TZID=America/Guatemala:20220910T173000
DTSTAMP:20260422T045233
CREATED:20220905T203406Z
LAST-MODIFIED:20220905T210915Z
UID:7543-1662825600-1662831000@alianzafrancesa.org.gt
SUMMARY:Recital
DESCRIPTION:El Programa Pedagógico Musical nace por el interés de algunos integrantes de la Orquesta Sinfónica Nacional de Guatemala y Alianza Francesa de Guatemala\, en formar a las nuevas generaciones de músicos sinfónicos de nuestro país\, competitivos a nivel mundial. Además de contribuir al desarrollo cultural y artístico de la niñez y juventud Guatemalteca. \nEl Recital de Independencia tendrá lugar el día 10 de septiembre y estará dedicado a las fiestas patrias de Guatemala. Este día podremos escuchar a estudiantes de violín\, cello\, contrabajo\, guitarra\, piano y Oboe interpretando obras que demostrarán las destrezas técnicas e interpretativas adquiridas en el proceso de aprendizaje en el Programa Pedagógico Musical. \nINFORMACIÓN GENERAL\nFecha: 10/09/2022\nHora: 16:00\nLugar: Jardín de la AFGT\nEntrada gratuita \nEvento Facebook https://fb.me/e/25a5jmswg
URL:https://alianzafrancesa.org.gt/evento/recital/
LOCATION:Alianza Francesa de Guatemala\, 5ta calle 10-55 Finca La Aurora zona 13\, Guatemala\, Guatemala\, 01013\, Guatemala
CATEGORIES:Agenda,Música,Musique
ATTACH;FMTTYPE=image/jpeg:https://alianzafrancesa.org.gt/wp-content/uploads/2022/09/banner_principal_expo-2-scaled.jpg
ORGANIZER;CN="Alianza Francesa de Guatemala":MAILTO:info@alianzafrancesa.org.gt
END:VEVENT
BEGIN:VEVENT
DTSTART;TZID=America/Guatemala:20220914T080000
DTEND;TZID=America/Guatemala:20221031T233000
DTSTAMP:20260422T045233
CREATED:20220914T200856Z
LAST-MODIFIED:20220927T203122Z
UID:7608-1663142400-1667259000@alianzafrancesa.org.gt
SUMMARY:Convocatoria Cultural 2023
DESCRIPTION:ARTES VISUALES | MÚSICA | CIRCO | TEATRO | LITERATURA | CINE | DISEÑO | MODA | DANZA | DEBATE DE IDEAS\nRECEPCIÓN DE PROPUESTAS HASTA EL 31 DE OCTUBRE DE 2022.\nLa Alianza Francesa de Guatemala\, en el marco de su programación artística y deseando brindar espacios para el desarrollo cultural de Guatemala en las áreas escénica y visual\, abre la siguiente convocatoria a los artistas guatemaltecos con el fin de presentar sus propuestas para la Temporada Cultural 2023. \nLos objetivos\n\nParticipar al desarrollo cultural del ámbito artístico guatemalteco.\nDescubrir nuevas propuestas artísticas guatemaltecas y extranjeras.\nBrindar espacios de exposición\, tanto visuales como de artes escénicas.\nPresentar al público una oferta cultural novedosa.\nGenerar espacios de discusión\, diálogo y conversación alrededor del arte y de la cultura\n\n  \nLas disciplinas\n\nARTE VISUAL: pintura\, escultura\, modelismo\, fotografía\, ilustración\, arquitectura\, y técnicas mixtas.\nMÚSICA: clásica\, jazz\, rock\, pop\, folk\, hip-hop\, funk\, reggae\, electro\, contemporánea\, etc.\nTEATRO: obras contemporáneas\, monólogos\, teatro experimental\, teatro de objeto (títeres\, marionetas\, etc)\,\ncirco contemporáneo.\nLITERATURA: novela\, poesía\, cuentos\, etc.\nCINE: largometrajes\, cortometrajes\, documentales\, animados\, etc.\nDISEÑO Y MODA: diseño gráfico\, diseño industrial\, diseño de moda.\nDANZA: clásica\, contemporánea\, moderna. Danzas populares\, autóctonas\, folclóricas o regionales.\nDEBATE DE IDEAS: conferencias\, debates\, mesas redondas\, etc. alrededor de temas sociales y de derechos humanos.\n\n  \nRequisitos\n\nCURRÍCULUM: Presentación de su trayectoria artística (formaciones\, talleres\, eventos\, etc.).\nPROPUESTA ESCRITA: Texto de presentación de lo que se quiere proponer a la Alianza Francesa de Guatemala en el marco de su programación.\nMATERIAL AUDIOVISUAL:\n\n\nPortafolio (Arte Visual / Diseño y Moda).\nFotos\, audio y videos de espectáculos (Música\, Teatro\, Danza).\nFotos\, trailers\, extractos de videos (Cine).\n\nINGRESA AL FORMULARIO PARA APLICAR\nhttps://forms.gle/sgnNXFunH81syUdA8\nFECHA LÍMITE DE RECEPCIÓN DE PROPUESTAS: 31 de octubre de 2022.
URL:https://alianzafrancesa.org.gt/evento/convocatoria-cultural-2023/
LOCATION:Alianza Francesa de Guatemala\, 5ta calle 10-55 Finca La Aurora zona 13\, Guatemala\, Guatemala\, 01013\, Guatemala
CATEGORIES:Agenda,Artes Plásticas,Arts Plastiques,Autres,Cine,Cinéma,Conferencia,Danse,Danza,Dessin,Diseño,Exposición,Literatura,Littérature,Mediateca,Música,Musique,Otros,Teatro,Théâtre
ATTACH;FMTTYPE=image/jpeg:https://alianzafrancesa.org.gt/wp-content/uploads/2022/09/IG-1.jpg
END:VEVENT
BEGIN:VEVENT
DTSTART;TZID=America/Guatemala:20220920T193000
DTEND;TZID=America/Guatemala:20220920T210000
DTSTAMP:20260422T045233
CREATED:20220907T201756Z
LAST-MODIFIED:20220919T191018Z
UID:7571-1663702200-1663707600@alianzafrancesa.org.gt
SUMMARY:Ajkeem
DESCRIPTION:Sin palabras \nTejedores de sonidos \nCuarteto de música guatemalteca\, Latinoamérica y del mundo\, integrado con instrumentos poco familiares\, dando así un formato nuevo y original.\nSe fusiona: \nGuitarra (Ricardo Melchor)\,\nClarinete (Sergio Reyes)\,\nCello (Héctor Pirir) y\nMarimba y percusiones (Job Sis). \nNace por la inquietud de hacer música latinoamericana poco interpretada en nuestro país\, a finales del año 2013.\nEmpezando a interpretar obras propias y de grandes compositores guatemaltecos y del mundo como: Alvarado\, Sis\, Melchor\, Pixinguinha\, Benedito Lacerda\, Severino Araujo\, Astor Piazzolla\, Chick Korea\, entre los mas conocidos. \nActualmente ya fue lanzado su nuevo disco Ajkeem \n \nINFORMACIÓN GENERAL\nFecha: 20/10/2022\nHorario: 19:30\nLugar: Jardín de la AFGT\nEntrada: Q30 \nLa taquilla se abrirá a las 19:00 \n  \nEvento Facebook https://fb.me/e/5asajAMtX
URL:https://alianzafrancesa.org.gt/evento/ajkeem/
LOCATION:Alianza Francesa de Guatemala\, 5ta calle 10-55 Finca La Aurora zona 13\, Guatemala\, Guatemala\, 01013\, Guatemala
CATEGORIES:Agenda,Música,Musique
ATTACH;FMTTYPE=image/jpeg:https://alianzafrancesa.org.gt/wp-content/uploads/2022/09/cuadrado-scaled.jpg
ORGANIZER;CN="Alianza Francesa de Guatemala":MAILTO:info@alianzafrancesa.org.gt
END:VEVENT
END:VCALENDAR