BEGIN:VCALENDAR
VERSION:2.0
PRODID:-//Alianza Francesa Guatemala - ECPv6.15.20//NONSGML v1.0//EN
CALSCALE:GREGORIAN
METHOD:PUBLISH
X-ORIGINAL-URL:https://alianzafrancesa.org.gt
X-WR-CALDESC:Eventos para Alianza Francesa Guatemala
REFRESH-INTERVAL;VALUE=DURATION:PT1H
X-Robots-Tag:noindex
X-PUBLISHED-TTL:PT1H
BEGIN:VTIMEZONE
TZID:America/Guatemala
BEGIN:STANDARD
TZOFFSETFROM:-0600
TZOFFSETTO:-0600
TZNAME:CST
DTSTART:20210101T000000
END:STANDARD
END:VTIMEZONE
BEGIN:VEVENT
DTSTART;TZID=America/Guatemala:20221111T190000
DTEND;TZID=America/Guatemala:20221111T233000
DTSTAMP:20260422T020445
CREATED:20221108T235627Z
LAST-MODIFIED:20221112T014942Z
UID:7830-1668193200-1668209400@alianzafrancesa.org.gt
SUMMARY:Manifesto
DESCRIPTION:Un manifiesto es una declaración pública de principios e intenciones\, a menudo de naturaleza política o artística. En otros términos\, el manifiesto consiste en una pieza documental mediante la cual se dan a conocer diversas ideas o problemas de un modo intenso y concluyente. \n  \nMANIFIESTO \n● Cuestiona lo que sabes\, lo que entiendes; y dale una nueva perspectiva a lo desconocido.\n● Bienvenido a tu diversión y diversión es compartir.\n● Vamos a construir en el respeto de encontrarnos\, redefiniendo nuestros límites.\n● Estamos aquí para fortalecernos y dominar.\n● Que el fuego de tu pasión\, ilumine la oscuridad de tus miedos… encontrarás lo que buscas. \nEl evento Manifesto consiste en una amalgama de expresiones\, alrededor de un sentimiento de rebeldía constructiva.\n● El show musical se trata de una progresión sensorial marcada por las vibraciones del bajo\, partiendo de la energía del ska hasta llegar a la intensidad del rock.\nTodo gracias a talento 100% guatemalteco. \n  \nDESARROLLO DEL EVENTO \n18:00 Apertura de la taquilla\n19:00 Apertura al público\n19:30 VLKA (invitado desde Xela)\n20:30 El Mecapal de mi Abuelo\n21:30 Cosmopoli Jet\n22: 30 No te Creo\n00:00 Cierre del evento \nCosmopoli Jet es una banda guatemalteca que nace en 2015 y actualmente se encuentra presentando su último disco “Relatos de la Cura”. \nEn esta oportunidad lo hace en conjunto con la plataforma musical “Manifesto” la cual tiene como objetivo reunir diferentes géneros musicales buscando la cohesión entre distintos sectores sociales\, alrededor del concepto de rebeldía constructiva. \n  \n????️Fecha: 11/11/2022\n⏲️Hora: 19:00\n????Lugar: Alianza Francesa de Guatemala\nDirección: 5a calle 10-55 zona 13\, frente al Museo de los Niños.\n????ENTRADA Q60 \nPARQUEO GRATUITO \n¡LOS ESPERAMOS!
URL:https://alianzafrancesa.org.gt/evento/manifesto/
LOCATION:Alianza Francesa de Guatemala\, 5ta calle 10-55 Finca La Aurora zona 13\, Guatemala\, Guatemala\, 01013\, Guatemala
CATEGORIES:Agenda,Música,Musique
ATTACH;FMTTYPE=image/jpeg:https://alianzafrancesa.org.gt/wp-content/uploads/2022/11/Manifesto-1.jpg
ORGANIZER;CN="Alianza Francesa de Guatemala":MAILTO:info@alianzafrancesa.org.gt
END:VEVENT
BEGIN:VEVENT
DTSTART;TZID=America/Guatemala:20221119T153000
DTEND;TZID=America/Guatemala:20221119T173000
DTSTAMP:20260422T020445
CREATED:20221115T222308Z
LAST-MODIFIED:20221116T200126Z
UID:7881-1668871800-1668879000@alianzafrancesa.org.gt
SUMMARY:Concierto de clausura 2022 del Programa pedagógico musical
DESCRIPTION:El Programa Pedagógico Musical presenta su concierto de clausura del año 2\,022\, un evento muy esperado por los alumnos y padres de familia de los estudiantes\, ya que este día los alumnos se presentan al público y muestran sus habilidades musicales adquiridas durante el presente ciclo. \n \nEl concierto se realiza de forma que los estudiantes participan interpretando su instrumento musical\, cómo solista\, en ensamble con otros estudiantes\, o acompañado de su profesor. \n  \nEste día podremos escuchar a los estudiantes de: Violín\, cello\, contrabajo\, guitarra\, piano\, trompeta y oboe\, quiénes interpretarán obras escritas especialmente para su instrumento y de esta forma demostrarán  el desarrollo técnico e interpretativo aprendido durante el año de estudio. \n  \nLa selección de obras a interpretar esta tarde es variada y comprende  de repertorio de carácter académico y  una serie de villancicos que nos harán sentir la época navideña. \n  \n????️Fecha: sábado 19/11/2022\n⏲️Hora: 15:30\n????Lugar: Jardín de la Alianza Francesa de Guatemala\nDirección: 5a calle 10-55 zona 13\, frente al Museo de los Niños.\n????ENTRADA Y PARQUEO GRATUITO \n¡Te esperamos!
URL:https://alianzafrancesa.org.gt/evento/concierto-de-clausura-2022-del-programa-pedagogico-musical/
LOCATION:Alianza Francesa de Guatemala\, 5ta calle 10-55 Finca La Aurora zona 13\, Guatemala\, Guatemala\, 01013\, Guatemala
CATEGORIES:Agenda,Música,Musique
ATTACH;FMTTYPE=image/jpeg:https://alianzafrancesa.org.gt/wp-content/uploads/2022/11/bannr1.jpg
ORGANIZER;CN="Alianza Francesa de Guatemala":MAILTO:info@alianzafrancesa.org.gt
END:VEVENT
BEGIN:VEVENT
DTSTART;TZID=America/Guatemala:20221120T130000
DTEND;TZID=America/Guatemala:20221120T180000
DTSTAMP:20260422T020445
CREATED:20221115T223100Z
LAST-MODIFIED:20221116T195921Z
UID:7885-1668949200-1668967200@alianzafrancesa.org.gt
SUMMARY:Festival Barrilete
DESCRIPTION:El festival barrilete es un evento anual que se hace por 7.º año consecutivo\, el cual busca exponer lo mejor de la escena emergente del país. \n  \nEste año será el 20 de noviembre y el precio de la entrada en preventa será de Q200 y el día del evento en Q250. \n  \nContaremos con mercadito y diferentes puestos de comida y bebida. \n \n????️Fecha: domingo 20/11/2022.\n⏲️Hora: 13:00.\n????Lugar: Alianza Francesa de Guatemala.\nDirección: 5a calle 10-55 zona 13\, frente al Museo de los Niños.\n????ENTRADA: 200 preventa\, 250 taquilla. \nPARQUEO GRATUITO \n¡Te esperamos!
URL:https://alianzafrancesa.org.gt/evento/festival-barrilete/
LOCATION:Alianza Francesa de Guatemala\, 5ta calle 10-55 Finca La Aurora zona 13\, Guatemala\, Guatemala\, 01013\, Guatemala
CATEGORIES:Agenda,Música,Musique
ATTACH;FMTTYPE=image/png:https://alianzafrancesa.org.gt/wp-content/uploads/2022/11/FesB_Web-banner-1.png
ORGANIZER;CN="Alianza Francesa de Guatemala":MAILTO:info@alianzafrancesa.org.gt
END:VEVENT
BEGIN:VEVENT
DTSTART;TZID=America/Guatemala:20221124T193000
DTEND;TZID=America/Guatemala:20221124T233000
DTSTAMP:20260422T020445
CREATED:20221115T225539Z
LAST-MODIFIED:20221123T191028Z
UID:7890-1669318200-1669332600@alianzafrancesa.org.gt
SUMMARY:Ceremonia de clausura 2022
DESCRIPTION:¡La Alianza Francesa de Guatemala cerrará el ciclo cultural 2022 y queremos celebrarlo con todas y todos ustedes! \n????️Fecha: jueves 24/11/2022\n⏲️Hora: 19:30\n????Lugar: Alianza Francesa de Guatemala\nDirección: 5a calle 10-55\, zona 13\, frente al Museo de los Niños.\n????ENTRADA Y PARQUEO GRATUITO \n\nPROGRAMA\nEXPOSICIÓN | Pluridimensional de Dagoberto Vásquez\nPluridimensional de Dagoberto Vásquez Castañeda \n \n\nMÚSICA | Brigadeiros\n \n  \nDavid Chinchilla – Percusión \nPercusionista y productor musical guatemalteco con 15 años de experiencia en su instrumento. \nHa sido músico e ingeniero de sonido para bandas de latin-jazz\, rock\, pop y bossa nova en Guatemala y Los Ángeles\, CA. \nCompletó estudios de Música\, Producción Musical y Audio en Musician’s Institute en Los Angeles\, CA; Universidad Galileo de Guatemala e Instituto Canzion\, Guatemala. Ha sido baterista para: Natú\, Royal Flush\, Fabiola Roudha\, Reyes Vagos; y baterista de sesión para Intergalactic \nSound System Studios\, Outstanding Productions. Actualmente\, es percusionista / baterista para Filoxera\, Stephanie Zelaya\, Todosantos\, Smoothie\, Loon\, Brigadeiros y Kontrabando. \nFue catedrático para Sonido y Producción Musical en la Universidad Galileo\, Guatemala. \n  \nDavid Lemus | Voz / Guitarra \nCompositor e intérprete guatemalteco. Comenzó a tocar la guitarra y componer canciones a los 12 años. Ha participado en proyectos independientes de rock y bossa nova componiendo\, arreglando e interpretando la guitarra rítmica y vocales. También ha jugado el rol de apoyar el desarrollo empresarial y buscar nuevas oportunidades para los músicos. \nEntre estos proyectos destacan:\nWoodser – Banda guatemalteca de rock indie\, con quienes lanzó 3 producciones discográficas\, además de tocar constantemente dentro del territorio nacional entre 2009 y 2012. Se presentaron en Brasil y Costa Rica en 2012 en conjunto con la organización Fora de Eixo. Filoxera – Banda guatemalteca de Pop/Rock. En el 2016 lanzaron su primer disco #JustMakeMusic. Formaron parte de Gira Triciclo y fueron In-House band de Hard Rock Café y La Cantera. \nEn 2016 participó como impulsor y colaborador en la organización de Gira Triciclo junto a Hot Sugar Mama\, Kontrabando. Estudió Música en la Escuela Superior de Arte de la Universidad Galileo\, donde ha participado como catedrático. \n  \nMÚSICA | Angie Polonsky\n \nCantante\, Compositora e instrumentista. Comenzó tocando el piano a los 6 años y recibió clases de canto desde esa edad. A los 10 años comenzó tocando guitarra y componiendo sus propias canciones. Comenzó sus estudios profesionales en la música a los 15 años. Participó en las Olimpiadas Mundiales de las Artes en Hollywood\, este año (2019) ganó 4 medallas y reconocimientos en sus Composiciones. \nActualmente\, se encuentra cantando y tocando sus canciones propias y grabando su primer EP que saldrá en 2023 llamado ‘’La Ventana’’. \n  \nMÚSICA | DJ El Vampiro Sabanero\n \nSus mágicos shows en vivo y vestuario tropical. Acompañado del acordeón sabanero con filtros dub hace que la cumbia resuene con un toque aún más mágico y destaque las ondas sonoras del acordeón y la guacharaca o guira. Mi música recoge influencias de artistas colombianos como Andres Landero\, Celso Pina\, Quantic y los míticos del ritmo\, Aniceto Molina\, La Tropa Vallenata\, Los Mirlos y Dama Gratis. Ha colaborado con DJs locales e internacionales\, lo que lo ha llevado a compartir escenario con Mezz\, Chamuco\, Green Jesus\, Human Suburbio\, Sonido Quilete\, Fla-K.O. y Montserrat de México\, Monterrey. \n  \nEl trabajo del vampiro sabanero en conjunto con su crew cumbiero ha llevado toda la alegría y sabor de las Altas Cumbias a las caderas de los invitados a la fiesta cumbiambera\, un proyecto que nace con la necesidad de crear espacios seguros donde la cumbia sabanera y rebajada hace que los invitados al proyecto disfruten una experiencia única en la ciudad de Guatemala haciendo mover la cadera y los pies al estilo Kolombiaz. \n  \n¡Te esperamos! \n 
URL:https://alianzafrancesa.org.gt/evento/ceremonia-de-clausura-2022/
LOCATION:Alianza Francesa de Guatemala\, 5ta calle 10-55 Finca La Aurora zona 13\, Guatemala\, Guatemala\, 01013\, Guatemala
CATEGORIES:Agenda,Danse,Exposición,Música,Musique
ATTACH;FMTTYPE=image/png:https://alianzafrancesa.org.gt/wp-content/uploads/2022/11/banner_event_V5-1.png
ORGANIZER;CN="Alianza Francesa de Guatemala":MAILTO:info@alianzafrancesa.org.gt
END:VEVENT
BEGIN:VEVENT
DTSTART;TZID=America/Guatemala:20221126T180000
DTEND;TZID=America/Guatemala:20221126T230000
DTSTAMP:20260422T020445
CREATED:20221115T231704Z
LAST-MODIFIED:20221115T231704Z
UID:7900-1669485600-1669503600@alianzafrancesa.org.gt
SUMMARY:Murales Mundialistas (Round 3)
DESCRIPTION:Light Andrade: Diseñadora\, ilustradora y muralista.\nCon más de 15 años de experiencia\, es uno de los talentos más sobresalientes del país en su ámbito. Su trabajo se basa en la psicodelia de los años 60’s y 70’s mezclada con las tendencias actuales. Ella misma define su estilo como “psychedelic pop with a sweet twist of color punch”.\nSharty One: Artista urbano. Es uno de los exponentes más sobresalientes del graffiti en Guatemala. Su técnica\, estilo y precisión lo convierten en un artista urbano altamente cotizado en Centroamérica. \n  \nEl tercer round de la actividad de los “Murales Mundialistas”\, es un street challenge donde los artistas Light Andrade y Sharty One\, se enfrentarán en un duelo definitivo que consiste en pintar en vivo una temática futbolística sobre unos paneles de gran formato. Además se contará con presentaciones musicales\, food trucks invitados y bebidas. Toda una experiencia para celebrar la pasión del mundial de fútbol. \n \n????️Fecha: sabado 26/11/2022\n⏲️Hora: 18:00\n????Lugar: Alianza Francesa de Guatemala\nDirección: 5a calle 10-55 zona 13\, frente al Museo de los Niños.\n????ENTRADA Y PARQUEO GRATUITO \n¡Te esperamos!
URL:https://alianzafrancesa.org.gt/evento/murales-mundialistas-round-3/
LOCATION:Alianza Francesa de Guatemala\, 5ta calle 10-55 Finca La Aurora zona 13\, Guatemala\, Guatemala\, 01013\, Guatemala
CATEGORIES:Agenda,Artes Plásticas,Arts Plastiques,Autres,Música,Musique,Otros
ATTACH;FMTTYPE=image/jpeg:https://alianzafrancesa.org.gt/wp-content/uploads/2022/11/Foto-de-Cultura-AFG.jpg
ORGANIZER;CN="Alianza Francesa de Guatemala":MAILTO:info@alianzafrancesa.org.gt
END:VEVENT
END:VCALENDAR