BEGIN:VCALENDAR
VERSION:2.0
PRODID:-//Alianza Francesa Guatemala - ECPv6.15.20//NONSGML v1.0//EN
CALSCALE:GREGORIAN
METHOD:PUBLISH
X-WR-CALNAME:Alianza Francesa Guatemala
X-ORIGINAL-URL:https://alianzafrancesa.org.gt
X-WR-CALDESC:Eventos para Alianza Francesa Guatemala
REFRESH-INTERVAL;VALUE=DURATION:PT1H
X-Robots-Tag:noindex
X-PUBLISHED-TTL:PT1H
BEGIN:VTIMEZONE
TZID:America/Guatemala
BEGIN:STANDARD
TZOFFSETFROM:-0600
TZOFFSETTO:-0600
TZNAME:CST
DTSTART:20220101T000000
END:STANDARD
END:VTIMEZONE
BEGIN:VEVENT
DTSTART;TZID=America/Guatemala:20230310T180000
DTEND;TZID=America/Guatemala:20230310T230000
DTSTAMP:20260421T200806
CREATED:20230310T203613Z
LAST-MODIFIED:20230310T203613Z
UID:8282-1678471200-1678489200@alianzafrancesa.org.gt
SUMMARY:Immersive art Loto by Raysa Morales
DESCRIPTION:Solista\, cantautora y actriz multifacética de escenarios\, conciertos\, encuentros culturales\, buses y calles\, siempre en movimiento con su voz y su música\, nació en el municipio de Mixco en la ciudad de Guatemala\, el 2 de octubre de 1990. \nLa menor de 4 hermanos y única mujer; nacida en una familia dedicada al arte en sus distintas formas\, lo cual le permitió a Raysa experimentar desde temprana edad con la música. \nSus inicios fueron cantando y actuando en reuniones familiares\, pero explorando en su caminar se da cuenta de que la música era su verdadera vocación. \nCursaba la universidad cuando comenzó la búsqueda de espacios para poder exponer su voz; en las calles y buses de la ciudad encontró sus primeros escenarios y su más grande escuela\, aprendiendo de todos los músicos urbanos que compartían espacios con ella\, es en ese momento donde empieza a vivir de la música. \nCon la experiencia que la calle le había otorgado y su afán de seguir compartiendo en la búsqueda de su llamado\, decidió irse para el norte\, con menos de un dólar y guitarra al hombre\, cruzó algunas ciudades de México hasta llegar a New York\, donde su arte se hizo escuchar en los trenes de esa ciudad. \nRegresando a sus tierras\, decidió recorrer Centro América\, en el 2015 se presenta en Costa Rica\, pero esta vez lo haría con música propia. \nEs así como empieza a formar parte de festivales puntuales a nivel nacional e internacional. \nRaysa Morales a lo largo de su carrera fue formando varias agrupaciones musicales como Los aguacates\, Raysan´Beans\, Kinich y Violeta Violeta. \n  \nTeniendo la oportunidad de grabar algunos discos con ellos. \n\nTravelig covers 2013\nVitage soud Kinich (covers) 2016\nAzul bonito música original Raysan´Beans 2016\n7 que es colectivo música original Raysan´Beans\n\n\nEn el 2020 se consolida como solista; acompañada de un equipo de profesionales\, quienes con su colaboración han logrado que la producción tanto audiovisual como musical tomara un giro competitivo en la industria de la música a nivel internacional y de esta unión surgen los sencillos “La calma” 2021 que cuenta con un video dirigido por Gonzales y “Jacarandas” 2022\, ambas producidas por Básico 3. \nContando también con una serie de sencillos como lo son: \n\nLuz de madrugada\nI don´t think about you\n\nDesde el 2019\, Raysa ha realizado giras llevando su música a ciudades de México como: Chiapas\, Cuernavaca\, Veracruz\, México D.F. Estados Unidos y Centro América\, con miras a las Europas. \n  \nPara esta producción se visualiza un concepto de artes combinadas por piezas gráficas digitales en movimiento\, creadas por la productora visual Anelisse Gonzales y las melodías de Raysa Morales\, proyectadas en las paredes de la galería\, junto al equipo de sonido\, mezclarán ambas producciones para crear un ambiente donde los asistentes logren tener una experiencia de envoltura visual y auditiva\, una experiencia inmersiva. \n \nFecha: viernes\, 10 de marzo 2023 \nHora: 18:00 / 20:00 \nLugar: galería de la AFGT \nEntrada: Q100 preventa\, Q125 día del evento en taquilla en AFGT \nParqueo gratuito
URL:https://alianzafrancesa.org.gt/evento/immersive-art-loto-by-raysa-morales/
LOCATION:Alianza Francesa de Guatemala\, 5ta calle 10-55 Finca La Aurora zona 13\, Guatemala\, Guatemala\, 01013\, Guatemala
CATEGORIES:Agenda,Autres,Música,Musique,Otros
ATTACH;FMTTYPE=image/jpeg:https://alianzafrancesa.org.gt/wp-content/uploads/2023/03/650x400-HEATHER-.jpg
ORGANIZER;CN="Alianza Francesa de Guatemala":MAILTO:info@alianzafrancesa.org.gt
END:VEVENT
BEGIN:VEVENT
DTSTART;TZID=America/Guatemala:20230313T200000
DTEND;TZID=America/Guatemala:20230313T220000
DTSTAMP:20260421T200806
CREATED:20230310T210102Z
LAST-MODIFIED:20230310T210102Z
UID:8286-1678737600-1678744800@alianzafrancesa.org.gt
SUMMARY:Guatemala Jazz Festival 2023 - Mena Guerrero
DESCRIPTION:En 2023\, el Guatemala Jazz Festival reanuda sus actividades\, luego de que en 2020 su programa fuera interrumpido a la mitad por la pandemia de Covid 19\, y se llevaran a cabo solamente 12 de los 28 conciertos programados. Desde 2001\, el Festival ha presentado al público de la Ciudad de Guatemala\, Antigua y Quetzaltenango cientos de conciertos y decenas de bandas internacionales. Este año se llevarán a cabo 18 conciertos de 11 grupos provenientes de 7 países. \nLa Plaza Cristóbal Colón de la Avenida Las Américas será el escenario de 5 conciertos\, gracias a la alianza entre el Instituto Guatemalteco Americano IGA y la Municipalidad de Guatemala. En el Teatro Dick Smith del IGA se presentarán 9 conciertos; 2 en el Centro de Formación de la Cooperación Española\, en Antigua Guatemala\, y 2 en el Teatro Municipal de Quetzaltenango. \nSe espera la asistencia de más de 5 mil personas al Festival\, organizado por el IGA en estrecha colaboración con una decena de embajadas y centros binacionales acreditados en el país\, instituciones educativas y la Municipalidad de Guatemala. \nEs una artista transdisciplinaria y música guatemalteca radicada en Antigua Guatemala. Estudió canto jazz en el conservatorio de Maastricht\, Países Bajos\, con Susanne Schneider\, Sabine Kühlich y Roderik Povel de 2016 a 2018. La práctica musical de Mena se centra en conjugar su contexto con el jazz tradicional\, la música improvisada\, composiciones personales y la técnica vocal extendida. En 2019 forma el proyecto Ensamble Imaginario junto al guitarrista Cristóbal Pinto\, con quién tocan en el Festival de la Marimba en 2021. Mena fue finalista del Jazz Maastricht Festival 2017 con su proyecto Chaytà Nico\, participó en The We Festival\, Maastricht junto al baterista Joey Schins (2017) y tocó con el Trio Chayito\, en el Christoffer Huiskamer Concerten\, Roermond\, Países Bajos (2017). \n  \nFecha: Lunes\, 13 de marzo 2023 \nHora: 20:00 \nEntrada libre: boletos disponibles en www.jazz.iga.edu \nLugar: Teatro Dick Smith\, Instituto Guatemalteco Americano IGA \nDirección: Ruta 1\, 4-05\, zona 4\, Ciudad de Guatemala
URL:https://alianzafrancesa.org.gt/evento/guatemala-jazz-festival-2023-mena-guerrero/
LOCATION:Teatro Dick Smith del IGA\, Ruta 1 4-05 Zona 4\, Guatemala\, Guatemala
CATEGORIES:Agenda,Música,Musique,Otros
ATTACH;FMTTYPE=image/jpeg:https://alianzafrancesa.org.gt/wp-content/uploads/2023/03/WhatsApp-Image-2023-03-06-at-3.04.11-PM-1.jpeg
END:VEVENT
BEGIN:VEVENT
DTSTART;TZID=America/Guatemala:20230316T190000
DTEND;TZID=America/Guatemala:20230316T220000
DTSTAMP:20260421T200806
CREATED:20230310T210331Z
LAST-MODIFIED:20230310T210331Z
UID:8299-1678993200-1679004000@alianzafrancesa.org.gt
SUMMARY:Guitarra para TODOS
DESCRIPTION:Gerber del Cid\, es un joven guitarrista guatemalteco que destaca por su técnica moderna\, sensibilidad y musicalidad al interpretar obras del repertorio clásico y moderno de la guitarra. Actualmente\, es Guitar Instructor en Colegio Interamericano\, Guatemala\, profesor de educación musical en Colegio Suizo Americano\, Acatan y Profesor de Guitarra en Conservatorio Nacional de Música «Germán Alcántara». \n\nLos recitales de Guitarra para TODOS son actividades culturales en las que los asistentes pueden conocer a nuevos guitarristas guatemaltecos\, siempre acompañados por los guitarristas que forman parte del staff permanente del programa. \n  \nFecha: jueves\, 16 de marzo \nHora: 19:00 \nLugar: Alianza Francesa de Guatemala \nEntrada gratuita \nParqueo gratuito
URL:https://alianzafrancesa.org.gt/evento/guitarra-para-todos-3/
LOCATION:Alianza Francesa de Guatemala\, 5ta calle 10-55 Finca La Aurora zona 13\, Guatemala\, Guatemala\, 01013\, Guatemala
CATEGORIES:Agenda,Música,Musique,Otros
ATTACH;FMTTYPE=image/jpeg:https://alianzafrancesa.org.gt/wp-content/uploads/2023/03/banner_fb_evento-min.jpg
ORGANIZER;CN="Alianza Francesa de Guatemala":MAILTO:info@alianzafrancesa.org.gt
END:VEVENT
END:VCALENDAR