BEGIN:VCALENDAR
VERSION:2.0
PRODID:-//Alianza Francesa Guatemala - ECPv6.15.20//NONSGML v1.0//EN
CALSCALE:GREGORIAN
METHOD:PUBLISH
X-ORIGINAL-URL:https://alianzafrancesa.org.gt
X-WR-CALDESC:Eventos para Alianza Francesa Guatemala
REFRESH-INTERVAL;VALUE=DURATION:PT1H
X-Robots-Tag:noindex
X-PUBLISHED-TTL:PT1H
BEGIN:VTIMEZONE
TZID:America/Guatemala
BEGIN:STANDARD
TZOFFSETFROM:-0600
TZOFFSETTO:-0600
TZNAME:CST
DTSTART:20230101T000000
END:STANDARD
END:VTIMEZONE
BEGIN:VEVENT
DTSTART;TZID=America/Guatemala:20240209T190000
DTEND;TZID=America/Guatemala:20240209T220000
DTSTAMP:20260421T033430
CREATED:20240130T204029Z
LAST-MODIFIED:20240202T203806Z
UID:9170-1707505200-1707516000@alianzafrancesa.org.gt
SUMMARY:Concierto de las Rosas
DESCRIPTION:El Maestro Barítono Gabriel Carballo presenta EL PORTENTOSO CONCIERTO DE LAS ROSAS\, Con valses famosos\, valses lírico\, canciones y más… El Maestro Gabriel Carballo como Willy Wonka. Con la participación de sus alumnas Soprano Rosa Elena López como la Princesa Mulan\, Soprano Mel Garech como la Princesa Cenicienta y Soprano Mónica Sittler como la Princesa Rapunzel.\n\nInvitados el día 9 de febrero de 2024\, a las 19.00 horas\, salón de la galería de Arte Alianza Francesa.\n\n 
URL:https://alianzafrancesa.org.gt/evento/concierto-de-las-rosas/
LOCATION:Alianza Francesa de Guatemala\, 5ta calle 10-55 Finca La Aurora zona 13\, Guatemala\, Guatemala\, 01013\, Guatemala
CATEGORIES:Agenda,Música,Musique,Otros
ATTACH;FMTTYPE=image/jpeg:https://alianzafrancesa.org.gt/wp-content/uploads/2024/01/WhatsApp-Image-2024-02-01-at-10.30.39.jpeg
ORGANIZER;CN="Alianza Francesa de Guatemala":MAILTO:info@alianzafrancesa.org.gt
END:VEVENT
BEGIN:VEVENT
DTSTART;TZID=America/Guatemala:20240215T190000
DTEND;TZID=America/Guatemala:20240215T190000
DTSTAMP:20260421T033430
CREATED:20240130T210054Z
LAST-MODIFIED:20240202T210316Z
UID:9178-1708023600-1708023600@alianzafrancesa.org.gt
SUMMARY:Recital Guitarra Clásica
DESCRIPTION:El día del amor y la amistad solo puede celebrarse con el sonido de la guitarra clásica. Por ello\, Alianza Francesa de Guatemala y Guitarra para TODOS presentan un nuevo recital. \nErick Letona y Erlyn Juárez presentan lo mejor del repertorio clásico y latinoamericano\, dejando listo el escenario para el Maestro Héctor Zamora que nos deleitara con lo mejor de las seis cuerdas: Albéniz\, Mangoré\, Tárrega\, Villalobos\, entre otros\, todo para que la noche sea perfecta. Los esperamos. Entrada Gratuita. \n????️ jueves 15/02/2024\n⏲️ 19:00\n???? 5a calle 10-55\, zona 13\, frente al Museo de los Niños.\n???? ENTRADA GRATUITA\n???? PARQUEO GRATUITO (SEGÚN DISPONIBILIDAD) \n¡Te esperamos!
URL:https://alianzafrancesa.org.gt/evento/recital-guitarra-clasica/
LOCATION:Alianza Francesa de Guatemala\, 5ta calle 10-55 Finca La Aurora zona 13\, Guatemala\, Guatemala\, 01013\, Guatemala
CATEGORIES:Agenda,Música,Musique,Otros
ATTACH;FMTTYPE=image/png:https://alianzafrancesa.org.gt/wp-content/uploads/2024/01/1.png
ORGANIZER;CN="Alianza Francesa de Guatemala":MAILTO:info@alianzafrancesa.org.gt
END:VEVENT
BEGIN:VEVENT
DTSTART;TZID=America/Guatemala:20240217T200000
DTEND;TZID=America/Guatemala:20240217T220000
DTSTAMP:20260421T033430
CREATED:20240206T221757Z
LAST-MODIFIED:20240206T225830Z
UID:9205-1708200000-1708207200@alianzafrancesa.org.gt
SUMMARY:Feria Petenera en Ciudad de Guatemala
DESCRIPTION:FERIA PETENERA EN CIUDAD DE GUATEMALA \nLo que busca es ofrecer un espacio de convivencia a la comunidad proveniente del departamento de Petén o personas que compartan la cultura y que está actualmente radicada en la ciudad de Guatemala. En este espacio queremos que se ofrezca música\, platillos\, ventas de artesanías y celebración. Esperamos que los que se identifiquen con la comunidad petenera quieran estar en este lugar e inviten a otros a compartir del espacio y la experiencia de su cultura. \nLa música está a cargo del Grupo que nos visita desde Petén\, con más de 30 años de trayectoria GRUPO PHOENIX y del dj creador del #miercolesdeCumbia basico3 \n????️ sábado 17/02/2024\n⏲️ 20:00\n???? 5a calle 10-55\, zona 13\, frente al Museo de los Niños.\n???? Preventa: por mensaje directo en redes sociales.\n???? PARQUEO GRATUITO (SEGÚN DISPONIBILIDAD) \n¡Te esperamos!
URL:https://alianzafrancesa.org.gt/evento/feria-petenera-en-ciudad-de-guatemala/
LOCATION:Alianza Francesa de Guatemala\, 5ta calle 10-55 Finca La Aurora zona 13\, Guatemala\, Guatemala\, 01013\, Guatemala
CATEGORIES:Agenda,Música,Musique
ORGANIZER;CN="Alianza Francesa de Guatemala":MAILTO:info@alianzafrancesa.org.gt
END:VEVENT
BEGIN:VEVENT
DTSTART;TZID=America/Guatemala:20240227T190000
DTEND;TZID=America/Guatemala:20240227T210000
DTSTAMP:20260421T033430
CREATED:20240207T184033Z
LAST-MODIFIED:20240207T184112Z
UID:9216-1709060400-1709067600@alianzafrancesa.org.gt
SUMMARY:Concierto de guitarra clásica y barroca con Claudio Solares
DESCRIPTION:Claudio Solares\, guitarrista Guatemalteco\, empezó su carrera concertista a los 12 años. Fue guiado inicialmente por su padre y luego en forma autodidacta. En 1985 tomó clases de perfeccionamiento con René Abularach y luego William Orbaugh\, con quien fundaron el primer Cuarteto de Guitarras clásicas junto a Miguel Angel Villagrán y Claudia Abalde. Ha tomado Master Class con guitarristas de clase mundial como Jorge Martinez Zárate\, Miguel Angel Girollet\, Thibault Cauvin y otros. Desde 2013 se interesa por la música temprana\, y adquirió una vihuela de mano y una guitarra Barroca. En este campo es referente en el istmo\, dando a conocer desde 2016 obras encontradas en Catedral\, escritas para la guitarra Barroca durante el período de oro de Antigua. Ha tocado con los ensambles de mayor renombre como Cuarteto Asturias\, Cuarteto Contemporáneo\, Consorcio Barroco y Quinteto Strauss. Es fundador\, junto con Juan Dominguez\, del único grupo de danza de Bailes Barrocos en el istmo\, interpretando muchas de las obras de Catedral. Ha participado en los Festivales Internacionales en el IGA en 1987-88-89\, y desde 2017 en el Festival del Centro Histórico\, en el Festival Barroco\, el Festival Guitarrísimo\, y fue jurado para el 1.er Concurso de Guitarra\, organizado por GuitarraParaTodos en 2022. Fue crítico musical para Prensa Libre\, de 1985 a 1990. Ha presentado su arte en todas las salas importantes del país\, como Teatro Nacional\, Teatro Abril\, Palacio Nacional\, IGA\, Teatro Lux\, Palacio de los Capitanes en Antigua\, Casa Popenoe\, Teatro Municipal de Xela\, Museo Colonial en Antigua\, y en Honduras. \n????️ martes 27/02/2024\n⏲️ 19:00\n???? jardín de la AFGT\n???? 5a calle 10-55\, zona 13\, frente al Museo de los Niños.\n???? Q50\n???? PARQUEO GRATUITO (SEGÚN DISPONIBILIDAD) \n¡Te esperamos!
URL:https://alianzafrancesa.org.gt/evento/concierto-de-guitarra-clasica-y-barroca-con-claudio-solares/
LOCATION:Alianza Francesa de Guatemala\, 5ta calle 10-55 Finca La Aurora zona 13\, Guatemala\, Guatemala\, 01013\, Guatemala
CATEGORIES:Agenda,Música,Musique
ATTACH;FMTTYPE=image/jpeg:https://alianzafrancesa.org.gt/wp-content/uploads/2024/02/WhatsApp-Image-2024-02-02-at-8.08.28-AM.jpeg
ORGANIZER;CN="Alianza Francesa de Guatemala":MAILTO:info@alianzafrancesa.org.gt
END:VEVENT
END:VCALENDAR