BEGIN:VCALENDAR
VERSION:2.0
PRODID:-//Alianza Francesa Guatemala - ECPv6.15.20//NONSGML v1.0//EN
CALSCALE:GREGORIAN
METHOD:PUBLISH
X-ORIGINAL-URL:https://alianzafrancesa.org.gt
X-WR-CALDESC:Eventos para Alianza Francesa Guatemala
REFRESH-INTERVAL;VALUE=DURATION:PT1H
X-Robots-Tag:noindex
X-PUBLISHED-TTL:PT1H
BEGIN:VTIMEZONE
TZID:America/Guatemala
BEGIN:STANDARD
TZOFFSETFROM:-0600
TZOFFSETTO:-0600
TZNAME:CST
DTSTART:20240101T000000
END:STANDARD
END:VTIMEZONE
BEGIN:VEVENT
DTSTART;TZID=America/Guatemala:20250206T190000
DTEND;TZID=America/Guatemala:20250206T220000
DTSTAMP:20260421T015921
CREATED:20250206T153817Z
LAST-MODIFIED:20250206T162652Z
UID:10012-1738868400-1738879200@alianzafrancesa.org.gt
SUMMARY:Concierto - Resiliente con Daniel Rosé
DESCRIPTION:Iniciamos febrero con el concierto «Resiliente» a cargo del pianista Daniel Rosé\, que nos extiende la invitación para acompañarle en una velada llena de talento musical\, donde descubriremos esta íntima historia de un soñador. \nEste evento contará con el acompañamiento artístico de Luis Orellana (violín)\, Susan González (cello) y Adriana Ixcoy (trompeta)\, además del pianista invitado Hugo Garrido\, para disfrutar una noche cautivante para toda la familia. \n Entrada: Q50 (día del evento) | Todo público \n 6 febrero | 19:00 horas \n Galería\, Alianza Francesa\, 5ta calle 10-55\, z13 \n Parqueo | Carro: Q20 – Motocicleta: Q10
URL:https://alianzafrancesa.org.gt/evento/10012/
CATEGORIES:Agenda,Autres,Música,Musique,Otros
ATTACH;FMTTYPE=image/jpeg:https://alianzafrancesa.org.gt/wp-content/uploads/2025/02/RESILIENTE-FLYER-POST-CUADRADO-scaled.jpg
END:VEVENT
BEGIN:VEVENT
DTSTART;TZID=America/Guatemala:20250213T193000
DTEND;TZID=America/Guatemala:20250213T220000
DTSTAMP:20260421T015921
CREATED:20250206T161952Z
LAST-MODIFIED:20250206T161952Z
UID:10019-1739475000-1739484000@alianzafrancesa.org.gt
SUMMARY:Concierto - Presentación disco "En clave de Jazz"\, por David Franco
DESCRIPTION:Junto a Guitarra para Todos\, estamos emocionados de anunciar un evento único: la presentación del disco «En clave de jazz» del Maestro David Franco. Será una noche inolvidable llena de emociones\, donde podrás disfrutar en vivo de las piezas que dan vida a este disco\, creado con dedicación y pasión. \nEste concierto es más que una presentación; es una celebración. Queremos compartir contigo las historias\, los sentimientos y la energía que inspiraron este proyecto. Cada nota y cada acorde están pensados para tocar tu corazón y transportarte a un universo musical único. \n Evento gratuito \n 13 de febrero de 2025 | 19:30 horas \n Galería\, Alianza Francesa\, 5ta calle 10-55\, z13 \n Parqueo gratuito según disponibilidad
URL:https://alianzafrancesa.org.gt/evento/concierto-presentacion-disco-en-clave-de-jazz-por-david-franco/
LOCATION:Alianza Francesa – Ciudad de Guatemala\, 5a. Calle 10-55 Zona 13 - Finca La Aurora\, Ciudad de Guatemala\, Guatemala
CATEGORIES:Agenda,Autres,Música,Musique,Otros
ATTACH;FMTTYPE=image/png:https://alianzafrancesa.org.gt/wp-content/uploads/2025/02/01.png
END:VEVENT
BEGIN:VEVENT
DTSTART;TZID=America/Guatemala:20250221T193000
DTEND;TZID=America/Guatemala:20250221T220000
DTSTAMP:20260421T015921
CREATED:20250206T162432Z
LAST-MODIFIED:20250206T162432Z
UID:10026-1740166200-1740175200@alianzafrancesa.org.gt
SUMMARY:Baile - Wine&Tango
DESCRIPTION:Show de tango\, vino y taller de esta disciplina \nAprende tango mientras degustas una copa de vino francés. Te invitamos a disfrutar en el mes del amor\, una noche intensa\, apasionante y al ritmo de esta música en pareja\, amigos o familia. \nClase especial de Tango Argentino \n Show de bailarines de Tango \n Artista invitado \n Copa de vino francés \n Pre-venta: Q80 (Kevin Salguero 3812-5288) \n Taquilla: Q90 \n Viernes 21 de febrero 2025 | 19:30 horas \n Galería\, Alianza Francesa\, 5ta calle 10-55\, z13 \n Parqueo gratuito según disponibilidad
URL:https://alianzafrancesa.org.gt/evento/baile-winetango/
LOCATION:Alianza Francesa de Guatemala\, 5ta calle 10-55 Finca La Aurora zona 13\, Guatemala\, Guatemala\, 01013\, Guatemala
CATEGORIES:Agenda,Autres,Danse,Danza,Música,Musique,Otros
ATTACH;FMTTYPE=image/png:https://alianzafrancesa.org.gt/wp-content/uploads/2025/02/winetango-01.png
END:VEVENT
END:VCALENDAR