BEGIN:VCALENDAR
VERSION:2.0
PRODID:-//Alianza Francesa Guatemala - ECPv6.15.20//NONSGML v1.0//EN
CALSCALE:GREGORIAN
METHOD:PUBLISH
X-WR-CALNAME:Alianza Francesa Guatemala
X-ORIGINAL-URL:https://alianzafrancesa.org.gt
X-WR-CALDESC:Eventos para Alianza Francesa Guatemala
REFRESH-INTERVAL;VALUE=DURATION:PT1H
X-Robots-Tag:noindex
X-PUBLISHED-TTL:PT1H
BEGIN:VTIMEZONE
TZID:America/Guatemala
BEGIN:STANDARD
TZOFFSETFROM:-0600
TZOFFSETTO:-0600
TZNAME:CST
DTSTART:20240101T000000
END:STANDARD
END:VTIMEZONE
BEGIN:VEVENT
DTSTART;TZID=America/Guatemala:20250315T190000
DTEND;TZID=America/Guatemala:20250315T210000
DTSTAMP:20260419T081652
CREATED:20250326T180652Z
LAST-MODIFIED:20250326T180652Z
UID:10086-1742065200-1742072400@alianzafrancesa.org.gt
SUMMARY:FRANCOFONÍA 2025 - CONCIERTO BENJAMIN PIAT
DESCRIPTION:???? ¡No te pierdas el concierto de Benjamin Piat en la Alianza Francesa de Guatemala! ????????????\nEste 15 de marzo a las 19:30 hrs\, el talentoso artista francés nos deleitará con su música en vivo. Ven a disfrutar de su estilo único y cierra el evento de Juegos de Mesa con una noche llena de buen ritmo y energía. ????✨ \n???? Fecha: 15 de marzo\n???? Hora: 19:30 hrs\n???? Ubicación: Alianza Francesa de Guatemala \n¡Entrada libre para todos! ????\n¡Te esperamos!
URL:https://alianzafrancesa.org.gt/evento/francofonia-2025-concierto-benjamin-piat/
LOCATION:Alianza Francesa de Guatemala\, 5ta calle 10-55 Finca La Aurora zona 13\, Guatemala\, Guatemala\, 01013\, Guatemala
CATEGORIES:Agenda,Autres,Música,Musique,Otros
ATTACH;FMTTYPE=image/png:https://alianzafrancesa.org.gt/wp-content/uploads/2025/03/15-marzo-02.png
END:VEVENT
BEGIN:VEVENT
DTSTART;TZID=America/Guatemala:20250320T190000
DTEND;TZID=America/Guatemala:20250320T210000
DTSTAMP:20260419T081652
CREATED:20250326T181232Z
LAST-MODIFIED:20250326T181232Z
UID:10095-1742497200-1742504400@alianzafrancesa.org.gt
SUMMARY:CONCIERTO - Guitarra para todos/Compositores franceses
DESCRIPTION:La Alianza Francesa de Guatemala te invita a disfrutar de una velada inolvidable con un recital de guitarra clásica. Sumérgete en un viaje musical a través de las cuerdas\, donde la pasión y la técnica se unen para dar vida a un repertorio exquisito. \n  \nEste evento reunirá piezas de grandes compositores\, desde obras maestras del repertorio clásico hasta melodías cautivadoras que han dejado huella en la historia de la música. Será una oportunidad única para disfrutar de la belleza y la expresividad de la guitarra en un ambiente íntimo y acogedor. \n  \n???? Fecha: 20 de marzo de 2025 \n???? Lugar: Alianza Francesa de Guatemala \n⏰ Hora: 19:00 horas \n???? Entrada: Gratis \n  \nTe invitamos a compartir esta noche especial con nosotros\, donde la música nos transportará a diferentes épocas y emociones. Ya seas amante de la guitarra\, aficionado a la música clásica o simplemente busques una experiencia cultural única\, este recital será una ocasión imperdible. \n  \n¡No te lo pierdas! Para más información\, contáctanos en el teléfono 5985-1253.
URL:https://alianzafrancesa.org.gt/evento/concierto-guitarra-para-todos-compositores-franceses/
LOCATION:Alianza Francesa de Guatemala\, 5ta calle 10-55 Finca La Aurora zona 13\, Guatemala\, Guatemala\, 01013\, Guatemala
CATEGORIES:Agenda,Autres,Música,Musique,Otros
ATTACH;FMTTYPE=image/png:https://alianzafrancesa.org.gt/wp-content/uploads/2025/03/Visuales-20-mar-guitarra-para-todos.png
END:VEVENT
BEGIN:VEVENT
DTSTART;TZID=America/Guatemala:20250330T170000
DTEND;TZID=America/Guatemala:20250330T183000
DTSTAMP:20260419T081652
CREATED:20250326T181806Z
LAST-MODIFIED:20250326T181806Z
UID:10104-1743354000-1743359400@alianzafrancesa.org.gt
SUMMARY:CONCIERTO - Festival de Jazz
DESCRIPTION:Al Jac Duo Fusion\, dúo francés formado por Alex Jacquemin (guitarrista) y Cedrick Bec (baterista) te harán disfrutar de la música mediante composiciones espontáneas e improvisadas\, ofreciendo un ritmo envolvente y sin duda\, una presentación que maravillará a sus asistentes con piezas asombrosas. \n Entrada gratuita | Todo público \n Domingo 30 de marzo | 17:00 horas \n Teatro Dick Smith IGA\, Zona 4\, Ciudad
URL:https://alianzafrancesa.org.gt/evento/concierto-festival-de-jazz/
LOCATION:Teatro Dick Smith del IGA\, Ruta 1 4-05 Zona 4\, Guatemala\, Guatemala
CATEGORIES:Agenda,Autres,Música,Musique,Otros
ATTACH;FMTTYPE=image/png:https://alianzafrancesa.org.gt/wp-content/uploads/2025/03/Posts_GIJF2025-19-scaled.png
END:VEVENT
END:VCALENDAR