BEGIN:VCALENDAR
VERSION:2.0
PRODID:-//Alianza Francesa Guatemala - ECPv6.15.20//NONSGML v1.0//EN
CALSCALE:GREGORIAN
METHOD:PUBLISH
X-ORIGINAL-URL:https://alianzafrancesa.org.gt
X-WR-CALDESC:Eventos para Alianza Francesa Guatemala
REFRESH-INTERVAL;VALUE=DURATION:PT1H
X-Robots-Tag:noindex
X-PUBLISHED-TTL:PT1H
BEGIN:VTIMEZONE
TZID:America/Guatemala
BEGIN:STANDARD
TZOFFSETFROM:-0600
TZOFFSETTO:-0600
TZNAME:CST
DTSTART:20240101T000000
END:STANDARD
END:VTIMEZONE
BEGIN:VEVENT
DTSTART;TZID=America/Guatemala:20250404T173000
DTEND;TZID=America/Guatemala:20250404T200000
DTSTAMP:20260419T110952
CREATED:20250326T182354Z
LAST-MODIFIED:20250326T182354Z
UID:10113-1743787800-1743796800@alianzafrancesa.org.gt
SUMMARY:CONCIERTO - Ambkor - Rocketman Latam Tour
DESCRIPTION:El consagrado rapero español Ambkor visita por primera vez Guatemala como parte de su Roketman Latam Tour 2025. \nMás información: Productora Quantum Label \n????️ Entrada: Q375 \n???? Viernes 4 de abril | 17:30 horas \n???? Galería\, Alianza Francesa\, 5ta calle 10-55\, z13
URL:https://alianzafrancesa.org.gt/evento/concierto-ambkor-rocketman-latam-tour/
LOCATION:Alianza Francesa de Guatemala\, 5ta calle 10-55 Finca La Aurora zona 13\, Guatemala\, Guatemala\, 01013\, Guatemala
CATEGORIES:Agenda,Autres,Música,Musique,Otros
ATTACH;FMTTYPE=image/jpeg:https://alianzafrancesa.org.gt/wp-content/uploads/2025/03/Ambkor-afiche-otro-formato1-scaled.jpeg
END:VEVENT
BEGIN:VEVENT
DTSTART;TZID=America/Guatemala:20250424T190000
DTEND;TZID=America/Guatemala:20250424T210000
DTSTAMP:20260419T110952
CREATED:20250326T183216Z
LAST-MODIFIED:20250326T183216Z
UID:10130-1745521200-1745528400@alianzafrancesa.org.gt
SUMMARY:CONCIERTO - Guitarra para Todos
DESCRIPTION:Dejate envolver por las asombrosas interpretaciones de tres grandes guitarristas que ofrecerán este recital clásico para todo público y en especial para los amantes de la música. \nAcompañemos a José Santizo\, Kimi Ixcot y David Franco una nueva velada de melodías cautivadoras y talento musical en nuestras noches de música en vivo. \n???? Evento gratuito | Todo público \n???? Jueves 24 de abril | 19:00 hrs \n???? Galería\, Alianza Francesa\, 5ta calle 10-55\, z13 \n???? Parqueo gratuito según disponibilidad
URL:https://alianzafrancesa.org.gt/evento/concierto-guitarra-para-todos-4/
LOCATION:Alianza Francesa de Guatemala\, 5ta calle 10-55 Finca La Aurora zona 13\, Guatemala\, Guatemala\, 01013\, Guatemala
CATEGORIES:Agenda,Autres,Música,Musique,Otros
ATTACH;FMTTYPE=image/jpeg:https://alianzafrancesa.org.gt/wp-content/uploads/2025/03/guitarra-para-todos-24_041.jpeg
END:VEVENT
BEGIN:VEVENT
DTSTART;TZID=America/Guatemala:20250430T190000
DTEND;TZID=America/Guatemala:20250430T210000
DTSTAMP:20260419T110952
CREATED:20250402T185427Z
LAST-MODIFIED:20250402T185427Z
UID:10137-1746039600-1746046800@alianzafrancesa.org.gt
SUMMARY:CONCIERTO - Imox Jazz
DESCRIPTION:????✨ ¡Celebremos juntos el Día Internacional del Jazz! ???????? \nLa Alianza Francesa de Guatemala te invita a una noche llena de ritmo y magia con Imox Jazz y sus invitados Majazz. ???????? Además\, disfruta del lanzamiento de la «Big Band» de Imox Jazz. ???????? \n???????? Encuentra también a @patiopizzeria y disfruta de su deliciosa pizza mientras vives una experiencia única de jazz en vivo. ????✨ \n???? Fecha: Miércoles 30 de abril\n???? Hora: 19:30 hrs\n???? Lugar: Jardín de la Alianza Francesa de Guatemala\n???? Preventa: Q100 | Taquilla: Q125 \n¡Asegura tu entrada y no te lo pierdas!
URL:https://alianzafrancesa.org.gt/evento/concierto-imox-jazz/
LOCATION:Alianza Francesa – Ciudad de Guatemala\, 5a. Calle 10-55 Zona 13 - Finca La Aurora\, Ciudad de Guatemala\, Guatemala
CATEGORIES:Agenda,Música,Musique,Otros
ATTACH;FMTTYPE=image/png:https://alianzafrancesa.org.gt/wp-content/uploads/2025/04/Visuales-abril-imox-jazz.png
END:VEVENT
END:VCALENDAR