BEGIN:VCALENDAR
VERSION:2.0
PRODID:-//Alianza Francesa Guatemala - ECPv6.15.20//NONSGML v1.0//EN
CALSCALE:GREGORIAN
METHOD:PUBLISH
X-WR-CALNAME:Alianza Francesa Guatemala
X-ORIGINAL-URL:https://alianzafrancesa.org.gt
X-WR-CALDESC:Eventos para Alianza Francesa Guatemala
REFRESH-INTERVAL;VALUE=DURATION:PT1H
X-Robots-Tag:noindex
X-PUBLISHED-TTL:PT1H
BEGIN:VTIMEZONE
TZID:America/Guatemala
BEGIN:STANDARD
TZOFFSETFROM:-0600
TZOFFSETTO:-0600
TZNAME:CST
DTSTART:20240101T000000
END:STANDARD
END:VTIMEZONE
BEGIN:VEVENT
DTSTART;TZID=America/Guatemala:20250503T190000
DTEND;TZID=America/Guatemala:20250503T230000
DTSTAMP:20260419T110623
CREATED:20250506T174050Z
LAST-MODIFIED:20250506T174050Z
UID:10178-1746298800-1746313200@alianzafrancesa.org.gt
SUMMARY:CONCIERTO | Sharif & Rafael Lewchowsky en Guatemala
DESCRIPTION:Quantum Label les trae el próximo 3 de Mayo el #UnInstanteEternoTour junto Charles Ans\, Rebeca Lane y Kontra Marín como invitados especiales. \n🎟️ Entrada: Q400 | Meet&Greet: Q600 \n📅 Viernes 3 de mayo | 19:30 horas \n📍 Jardín\, Alianza Francesa\, 5ta calle 10-55\, z13
URL:https://alianzafrancesa.org.gt/evento/concierto-sharif-rafael-lewchowsky-en-guatemala/
LOCATION:Alianza Francesa – Ciudad de Guatemala\, 5a. Calle 10-55 Zona 13 - Finca La Aurora\, Ciudad de Guatemala\, Guatemala
CATEGORIES:Agenda,Música,Musique,Otros
ATTACH;FMTTYPE=image/jpeg:https://alianzafrancesa.org.gt/wp-content/uploads/2025/05/WhatsApp-Image-2025-04-22-at-11.36.451.jpeg
END:VEVENT
BEGIN:VEVENT
DTSTART;TZID=America/Guatemala:20250508T080000
DTEND;TZID=America/Guatemala:20250508T220000
DTSTAMP:20260419T110623
CREATED:20250506T175645Z
LAST-MODIFIED:20250506T175645Z
UID:10181-1746691200-1746741600@alianzafrancesa.org.gt
SUMMARY:BAILE | Milonga de Gala - Una noche de tango
DESCRIPTION:✨ Milonga de Gala – Una noche de tango ✨ \nTe invitamos a vivir una velada única\, al estilo de Buenos Aires\, entre música\, danza y elegancia. \n  \nAdemás\, podrás disfrutar de venta de vino y comida en un ambiente acogedor. \nNo es necesario saber bailar: ven a descubrir\, observar y dejarte llevar por la magia del tango. \n  \n📍 Galería de la Alianza Francesa\, zona 13 \n📅 Jueves 8 de mayo \n🕡 De 6:30 p.m. a 9:30 p.m. \n🎩 Código de vestimenta: etiqueta \n  \n🎟️ Preventa: Q125 \n🎟️ Día del evento: Q150 \nIncluye una copa de vino\, ingreso a la milonga (baile social) y una presentación especial de los maestros Rocío Trkman y Víctor Melchor. \n 
URL:https://alianzafrancesa.org.gt/evento/baile-milonga-de-gala-una-noche-de-tango/
LOCATION:Alianza Francesa – Ciudad de Guatemala\, 5a. Calle 10-55 Zona 13 - Finca La Aurora\, Ciudad de Guatemala\, Guatemala
CATEGORIES:Agenda,Música,Musique,Otros
ATTACH;FMTTYPE=image/jpeg:https://alianzafrancesa.org.gt/wp-content/uploads/2025/05/visual-cuadrado-1.jpeg
END:VEVENT
BEGIN:VEVENT
DTSTART;TZID=America/Guatemala:20250522T190000
DTEND;TZID=America/Guatemala:20250522T220000
DTSTAMP:20260419T110623
CREATED:20250506T182411Z
LAST-MODIFIED:20250506T182411Z
UID:10203-1747940400-1747951200@alianzafrancesa.org.gt
SUMMARY:CONCIERTO | Guitarra para todos
DESCRIPTION:🎶 Invitación Especial a un Recital de Guitarra Clásica 🎶 \n  \nTe invitamos cordialmente a una velada única donde la guitarra clásica será la voz del alma. Acompáñanos en un recital íntimo y emotivo\, en el que resonarán siglos de historia y belleza a través de las cuerdas de este noble instrumento. \n  \nEl repertorio incluirá obras de grandes maestros como Bach\, Tárrega\, Villa-Lobos y Albéniz\, entre otros\, interpretadas con profunda sensibilidad por Gerber del Cid\, Emanuel Chiroy y el Duo Los 2 Amigos\, cuyo talento y pasión han cautivado a públicos en múltiples escenarios. \n  \nEste concierto no solo es una experiencia musical\, sino también un viaje por los paisajes sonoros de diferentes épocas y culturas\, con la guitarra como guía. Cada nota narrará una historia\, cada silencio tendrá su propia voz. \n  \n📍 Lugar: Alianza Francesa de Guatemala \n📅 Fecha: Jueves 22 de mayo \n🕖 Hora: 19:00 \n  \nLa entrada es gratuita\, y está abierta a todo público. Ven solo\, en pareja o con amigos\, pero no te lo pierdas. Regálate un momento de calma\, arte y conexión profunda con la música.
URL:https://alianzafrancesa.org.gt/evento/concierto-guitarra-para-todos-5/
LOCATION:Alianza Francesa de Guatemala\, 5ta calle 10-55 Finca La Aurora zona 13\, Guatemala\, Guatemala\, 01013\, Guatemala
CATEGORIES:Agenda,Autres,Música,Musique,Otros
ATTACH;FMTTYPE=image/jpeg:https://alianzafrancesa.org.gt/wp-content/uploads/2025/05/visuel.jpeg
END:VEVENT
END:VCALENDAR