BEGIN:VCALENDAR
VERSION:2.0
PRODID:-//Alianza Francesa Guatemala - ECPv6.15.20//NONSGML v1.0//EN
CALSCALE:GREGORIAN
METHOD:PUBLISH
X-ORIGINAL-URL:https://alianzafrancesa.org.gt
X-WR-CALDESC:Eventos para Alianza Francesa Guatemala
REFRESH-INTERVAL;VALUE=DURATION:PT1H
X-Robots-Tag:noindex
X-PUBLISHED-TTL:PT1H
BEGIN:VTIMEZONE
TZID:America/Guatemala
BEGIN:STANDARD
TZOFFSETFROM:-0600
TZOFFSETTO:-0600
TZNAME:CST
DTSTART:20240101T000000
END:STANDARD
END:VTIMEZONE
BEGIN:VEVENT
DTSTART;TZID=America/Guatemala:20250911T190000
DTEND;TZID=America/Guatemala:20250911T203000
DTSTAMP:20260419T100601
CREATED:20250902T185014Z
LAST-MODIFIED:20250902T185014Z
UID:10590-1757617200-1757622600@alianzafrancesa.org.gt
SUMMARY:CONCIERTO | RECITAL DE GUITARRA CLÁSICA
DESCRIPTION:Junto a Guitarra para Todos\n\nTe invitamos a disfrutar de una velada inolvidable de guitarra clásica con el talentoso guitarrista guatemalteco Héctor Zamora\, quien ha compartido su arte en importantes escenarios de Sudamérica y México.\n\nUna oportunidad de vivir esta experiencia musical acompañada también de Elmerson Gudiel y Noah Sheley.\n\n📅 Jueves 11 de septiembre | 19:00 horas\n🎫 Evento gratuito | Todo Público\n📍 Galería\, Alianza Francesa\, 5ta calle 10-55\, z13 (Ciudad)\n🚗 Parqueo gratuito según disponibilidad
URL:https://alianzafrancesa.org.gt/evento/concierto-recital-de-guitarra-clasica/
LOCATION:Alianza Francesa de Guatemala\, 5ta calle 10-55 Finca La Aurora zona 13\, Guatemala\, Guatemala\, 01013\, Guatemala
CATEGORIES:Agenda,Autres,Música,Musique,Otros
ATTACH;FMTTYPE=image/jpeg:https://alianzafrancesa.org.gt/wp-content/uploads/2025/09/WhatsApp-Image-2025-09-02-at-09.19.10.jpeg
END:VEVENT
BEGIN:VEVENT
DTSTART;TZID=America/Guatemala:20250912T070000
DTEND;TZID=America/Guatemala:20250912T220000
DTSTAMP:20260419T100601
CREATED:20250902T185617Z
LAST-MODIFIED:20250902T185617Z
UID:10593-1757660400-1757714400@alianzafrancesa.org.gt
SUMMARY:CONCIERTO | CARDELLINO
DESCRIPTION:Cardellino llega a Guatemala este 9 de septiembre\, la Alianza Francesa se convierte en escenario para uno de los cantautores y productores uruguayos más frescos de la música urbana. \nNo te pierdas la oportunidad de vivir una noche única donde hits como: ¿Quién Pudiera?\, TOSCANA y Siento por Cierto se encuentran en el escenario. \n🎟️ Entradas en primetix.fun \n📅 Viernes 12 de septiembre | 19:00 horas \n📍 Jardín\, Alianza Francesa\, 5ta calle 10-55\, z13
URL:https://alianzafrancesa.org.gt/evento/concierto-cardellino/
LOCATION:Alianza Francesa – Ciudad de Guatemala\, 5a. Calle 10-55 Zona 13 - Finca La Aurora\, Ciudad de Guatemala\, Guatemala
CATEGORIES:Agenda,Música,Musique,Otros
ATTACH;FMTTYPE=image/jpeg:https://alianzafrancesa.org.gt/wp-content/uploads/2025/09/visual-Cardellino.jpeg
END:VEVENT
BEGIN:VEVENT
DTSTART;TZID=America/Guatemala:20250914T150000
DTEND;TZID=America/Guatemala:20250914T190000
DTSTAMP:20260419T100601
CREATED:20250902T190049Z
LAST-MODIFIED:20250902T190049Z
UID:10596-1757862000-1757876400@alianzafrancesa.org.gt
SUMMARY:CONCIERTO | CLUBZ REGRESA A GUATEMALA
DESCRIPTION:¡CLUBZ REGRESA A GUATEMALA! \nEs un dúo mexicano que fusiona el espíritu retro del pop ochentero con la estética moderna del synth y el R&B digital. Su música es una mezcla de nostalgia analógica y frescura contemporánea\, ideal para noches neón\, pistas de baile íntimas y playlists que exigen emoción y groove \nLa presentación en vivo de Clubz\, forma parte de ‘Melómano Domingo’ una serie de eventos de domingo. Un espacio creado para dar respiro a tu semana\, en el que podrás conocer a tu nueva propuesta musical favorita. \nEste evento contará con una sección de mercado musical con marcas enfocadas en venta de vinilos\, cassettes \, discos\, merch vintage de artistas\, instrumentos y accesorios\, estación de tatuajes y más. \nTambién tendremos selecciones musicales por diferentes disqueras/proyectos relevantes al ecosistema musical local\, previos al conciertos. Además de un bingo musical que se jugará con el público en el transcurso del evento\, dando así la oportunidad de ganar muchos premios de todas las marcas involucradas en el evento \n🎟️ Entradas en: 2mundos.shop\n🗓️ Domingo 14 de septiembre | 15:00 horas\n📍 Jardín\, Alianza Francesa de Guatemala (zona 13)
URL:https://alianzafrancesa.org.gt/evento/concierto-clubz-regresa-a-guatemala/
LOCATION:Alianza Francesa – Ciudad de Guatemala\, 5a. Calle 10-55 Zona 13 - Finca La Aurora\, Ciudad de Guatemala\, Guatemala
CATEGORIES:Agenda,Música,Musique,Otros
ATTACH;FMTTYPE=image/jpeg:https://alianzafrancesa.org.gt/wp-content/uploads/2025/09/01.jpg
END:VEVENT
BEGIN:VEVENT
DTSTART;TZID=America/Guatemala:20250919T160000
DTEND;TZID=America/Guatemala:20250919T220000
DTSTAMP:20260419T100601
CREATED:20250903T183904Z
LAST-MODIFIED:20250903T183904Z
UID:10607-1758297600-1758319200@alianzafrancesa.org.gt
SUMMARY:CONCIERTO | CITY FEST 2025
DESCRIPTION:¡La espera ha terminado! CITY FEST 2025 es una realidad! Gracias al apoyo de ADESCA\, este 19 de septiembre en Alianza Francesa Ciudad de Guatemala y el 20 de septiembre en La Casa del Río Antigua Guatemala\, Viviremos dos días de música independiente y pasión.\n\n¡Muy pronto descubrirás las bandas que harán vibrar la escena musical alternativa guatemalteca!\n\n viernes 19 de septiembre | 16:00 hrs\n\n Evento gratuito | Todo público\n\n Jardín\, Alianza Francesa\, 5ta calle 10-55\, z13\n\n Parqueo gratuito según disponibilidad
URL:https://alianzafrancesa.org.gt/evento/concierto-city-fest-2025/
LOCATION:Alianza Francesa – Ciudad de Guatemala\, 5a. Calle 10-55 Zona 13 - Finca La Aurora\, Ciudad de Guatemala\, Guatemala
CATEGORIES:Agenda,Música,Musique,Otros
ATTACH;FMTTYPE=image/jpeg:https://alianzafrancesa.org.gt/wp-content/uploads/2025/09/¡Viva-la-musica¡Atencion-Guatemala-Estamos-emocionados-de-anunciar-el-City-Fest-2025-un-fest.jpg
END:VEVENT
BEGIN:VEVENT
DTSTART;TZID=America/Guatemala:20250926T190000
DTEND;TZID=America/Guatemala:20250926T220000
DTSTAMP:20260419T100601
CREATED:20250903T184644Z
LAST-MODIFIED:20250903T184644Z
UID:10618-1758913200-1758924000@alianzafrancesa.org.gt
SUMMARY:INTERCAMBIO | NUIT DES LANGES
DESCRIPTION:Noche de las lengas en el marco de MULTI ET PLURILINGUISME : PARLOS-EN ! \n¡Celebremos el Día Europeo de las Lenguas con una noche divertida y multicultural! \nPrepárate para una noche de conversación y karaoke en varios idiomas  Practica\, canta\, conoce nuevas culturas y comparte tu idioma en un ambiente relajado y festivo. \n Evento gratuito | Todo público \n Viernes 26 de septiembre | 19:00 hrs \n Mediateca\, Alianza Francesa\, 5ta calle 10-55\, z13 \n Parqueo gratuito según disponibilidad
URL:https://alianzafrancesa.org.gt/evento/intercambio-nuit-des-langes/
LOCATION:Alianza Francesa – Ciudad de Guatemala\, 5a. Calle 10-55 Zona 13 - Finca La Aurora\, Ciudad de Guatemala\, Guatemala
CATEGORIES:Agenda,Idioma,Música,Musique,Otros
ATTACH;FMTTYPE=image/png:https://alianzafrancesa.org.gt/wp-content/uploads/2025/09/Visuales-septiembre-Agenda-Lenguas-3-karaoke.png
ORGANIZER;CN="Alianza Francesa de Guatemala":MAILTO:info@alianzafrancesa.org.gt
END:VEVENT
END:VCALENDAR