BEGIN:VCALENDAR
VERSION:2.0
PRODID:-//Alianza Francesa Guatemala - ECPv6.15.20//NONSGML v1.0//EN
CALSCALE:GREGORIAN
METHOD:PUBLISH
X-WR-CALNAME:Alianza Francesa Guatemala
X-ORIGINAL-URL:https://alianzafrancesa.org.gt
X-WR-CALDESC:Eventos para Alianza Francesa Guatemala
REFRESH-INTERVAL;VALUE=DURATION:PT1H
X-Robots-Tag:noindex
X-PUBLISHED-TTL:PT1H
BEGIN:VTIMEZONE
TZID:America/Chicago
BEGIN:DAYLIGHT
TZOFFSETFROM:-0600
TZOFFSETTO:-0500
TZNAME:CDT
DTSTART:20180311T080000
END:DAYLIGHT
BEGIN:STANDARD
TZOFFSETFROM:-0500
TZOFFSETTO:-0600
TZNAME:CST
DTSTART:20181104T070000
END:STANDARD
BEGIN:DAYLIGHT
TZOFFSETFROM:-0600
TZOFFSETTO:-0500
TZNAME:CDT
DTSTART:20190310T080000
END:DAYLIGHT
BEGIN:STANDARD
TZOFFSETFROM:-0500
TZOFFSETTO:-0600
TZNAME:CST
DTSTART:20191103T070000
END:STANDARD
BEGIN:DAYLIGHT
TZOFFSETFROM:-0600
TZOFFSETTO:-0500
TZNAME:CDT
DTSTART:20200308T080000
END:DAYLIGHT
BEGIN:STANDARD
TZOFFSETFROM:-0500
TZOFFSETTO:-0600
TZNAME:CST
DTSTART:20201101T070000
END:STANDARD
END:VTIMEZONE
BEGIN:VEVENT
DTSTART;TZID=America/Chicago:20190813T193000
DTEND;TZID=America/Chicago:20190813T210000
DTSTAMP:20260424T162258
CREATED:20190708T205302Z
LAST-MODIFIED:20190708T205302Z
UID:4882-1565724600-1565730000@alianzafrancesa.org.gt
SUMMARY:Ciclo Música Instrumental - Jazz trio
DESCRIPTION:Ciclo Música Instrumental – Jazz trio\nPinto / Batz /Skarwan\nPrimera velada del nuevo ciclo de música instrumental “Sin palabras” con el concierto del trio de jazz Pinto / Batz / Skarwan que interpretará los temas del último disco del guitarrista mexicano Cristóbal Pinto así como estándares de jazz en formato trio (guitara – contrabajo – batería). Pinto será acompañado del talentoso baterísta guatemalteco David Batz y excepcionalmente del contrabajista guatemalteco-austriaco Emilio Aguilar Skarwan. \nConocer a los músicos : \nCristobal Pinto\n\nCristobal Pinto es un guitarrista y compositor de jazz nacido en México actualmente reside en Guatemala. Hasta la fecha ha lanzado dos álbumes con su composición original (Deja Vu-2017 y Maneki Neko 2018). En el 2020 tiene previsto lanzar su nuevo material discográfico titulado: Vice Versa. \nSus estudios avanzados en el jazz le otorgaron una beca en el 2018 para realizar su especialización por parte de Berklee College of Music (Boston). Entre sus estudios\, su maestro de composición de la universidad\, Joe Mullholland\, se ha referido a su música como: It is really impressive! Lots of strong themes\, great rhythmic energy\, impressive playing. Very consistently creative. \n                        Pedro González                                                                                                                               \nPedro González  es un bajista guatemalteco destacado por su virtuosismo y versatilidad en el gremio artístico del país. Participa como miembro activo de Imox Jazz\, Tzigane Trío y Tijuana Love. Cuenta con altas influencias de música ibérica y ritmos contemporáneos altamente atractivos. \nDavid Batz\n\nDavid Batz es un aclamado baterísta guatemalteco que ha acaparado la atención de la escena del jazz local. Su virtuosismo se ve reflejado en los discos más recientes de la escena. Es baterísta que ha marcado un sello característico de Imox Jazz\, Natú\, Dina Ramirez y Cristobal Pinto. \n  \nMartes 13 de agosto\n19:30hrs\nEntrada: Q30 en taquilla\nGalería de Arte de la Alianza Francesa de Guatemala
URL:https://alianzafrancesa.org.gt/evento/ciclo-musica-instrumental-jazz-trio/
LOCATION:horarios_semi-intensivos.svg
CATEGORIES:Agenda,Música
ATTACH;FMTTYPE=:
END:VEVENT
END:VCALENDAR