BEGIN:VCALENDAR
VERSION:2.0
PRODID:-//Alianza Francesa Guatemala - ECPv6.15.20//NONSGML v1.0//EN
CALSCALE:GREGORIAN
METHOD:PUBLISH
X-ORIGINAL-URL:https://alianzafrancesa.org.gt
X-WR-CALDESC:Eventos para Alianza Francesa Guatemala
REFRESH-INTERVAL;VALUE=DURATION:PT1H
X-Robots-Tag:noindex
X-PUBLISHED-TTL:PT1H
BEGIN:VTIMEZONE
TZID:America/Chicago
BEGIN:DAYLIGHT
TZOFFSETFROM:-0600
TZOFFSETTO:-0500
TZNAME:CDT
DTSTART:20180311T080000
END:DAYLIGHT
BEGIN:STANDARD
TZOFFSETFROM:-0500
TZOFFSETTO:-0600
TZNAME:CST
DTSTART:20181104T070000
END:STANDARD
BEGIN:DAYLIGHT
TZOFFSETFROM:-0600
TZOFFSETTO:-0500
TZNAME:CDT
DTSTART:20190310T080000
END:DAYLIGHT
BEGIN:STANDARD
TZOFFSETFROM:-0500
TZOFFSETTO:-0600
TZNAME:CST
DTSTART:20191103T070000
END:STANDARD
BEGIN:DAYLIGHT
TZOFFSETFROM:-0600
TZOFFSETTO:-0500
TZNAME:CDT
DTSTART:20200308T080000
END:DAYLIGHT
BEGIN:STANDARD
TZOFFSETFROM:-0500
TZOFFSETTO:-0600
TZNAME:CST
DTSTART:20201101T070000
END:STANDARD
END:VTIMEZONE
BEGIN:VEVENT
DTSTART;TZID=America/Chicago:20190823T193000
DTEND;TZID=America/Chicago:20190823T210000
DTSTAMP:20260424T162436
CREATED:20190708T222819Z
LAST-MODIFIED:20190708T222819Z
UID:4905-1566588600-1566594000@alianzafrancesa.org.gt
SUMMARY:Galería de canciones (Ciclo de cantautores) - Ishto Juevez
DESCRIPTION:Galería de canciones (Ciclo de cantautores) – Ishto Juevez\nTe invitamos a otra noche del ciclo de cantautores “Galería de Canciones” con Ishto Jueves\, cantautor guatemalteco. \nEmpezó como un gitano musical\, con una trompeta invisible\, cantando en autobuses y mercados de latinoamerica y europa\, una jornada aprendizaje e influencia musical\, que se convirtió en una profesión y un camino que lo llevó por escenarios y pequeños teatros\, absorbiendo vida y ritmos en muchos países\, abriendo espacio para una poesía humanitaria y migratoria\, en ritmos que saltan y cumbias swingueadas. \n \nRegresó a casa\, después de 10 años a dar vida a los 3 últimos albums\, CHAPUZchapin (2013)\, ELE migrante (2014) y La Fortuna y sus lados B (2016)\, este ultimo grabado en Los Angeles\, co producido con Gaby Moreno.  Compartó escena con Café Tacvba\, Natalia Lafourcade\, Kevin Johansen\, entre otros. \nFue seleccionado para presentarse en SXSW 2019. Hoy en día\, se encuentra pre produciendo el siguiente album/EP\, para el cual se lanzó ya un primer sencillo\, de nombre RIO y en las próximas semanas lanzará el segundo More Amor. \nViernes 23 de agosto\n20:00hrs\nEntrada : Q.30\nGalería de arte de la Alianza Francesa de Guatemala
URL:https://alianzafrancesa.org.gt/evento/galeria-de-canciones-ciclo-de-cantautores-ishto-juevez/
LOCATION:horarios_semi-intensivos.svg
CATEGORIES:Agenda,Música
ATTACH;FMTTYPE=:
END:VEVENT
END:VCALENDAR