BEGIN:VCALENDAR
VERSION:2.0
PRODID:-//Alianza Francesa Guatemala - ECPv6.15.20//NONSGML v1.0//EN
CALSCALE:GREGORIAN
METHOD:PUBLISH
X-WR-CALNAME:Alianza Francesa Guatemala
X-ORIGINAL-URL:https://alianzafrancesa.org.gt
X-WR-CALDESC:Eventos para Alianza Francesa Guatemala
REFRESH-INTERVAL;VALUE=DURATION:PT1H
X-Robots-Tag:noindex
X-PUBLISHED-TTL:PT1H
BEGIN:VTIMEZONE
TZID:America/Chicago
BEGIN:DAYLIGHT
TZOFFSETFROM:-0600
TZOFFSETTO:-0500
TZNAME:CDT
DTSTART:20180311T080000
END:DAYLIGHT
BEGIN:STANDARD
TZOFFSETFROM:-0500
TZOFFSETTO:-0600
TZNAME:CST
DTSTART:20181104T070000
END:STANDARD
BEGIN:DAYLIGHT
TZOFFSETFROM:-0600
TZOFFSETTO:-0500
TZNAME:CDT
DTSTART:20190310T080000
END:DAYLIGHT
BEGIN:STANDARD
TZOFFSETFROM:-0500
TZOFFSETTO:-0600
TZNAME:CST
DTSTART:20191103T070000
END:STANDARD
BEGIN:DAYLIGHT
TZOFFSETFROM:-0600
TZOFFSETTO:-0500
TZNAME:CDT
DTSTART:20200308T080000
END:DAYLIGHT
BEGIN:STANDARD
TZOFFSETFROM:-0500
TZOFFSETTO:-0600
TZNAME:CST
DTSTART:20201101T070000
END:STANDARD
END:VTIMEZONE
BEGIN:VEVENT
DTSTART;TZID=America/Chicago:20191112T193000
DTEND;TZID=America/Chicago:20191112T210000
DTSTAMP:20260424T113917
CREATED:20191031T230117Z
LAST-MODIFIED:20191031T230117Z
UID:5423-1573587000-1573592400@alianzafrancesa.org.gt
SUMMARY:Ciclo Música Instrumental - Dina Ramírez
DESCRIPTION:Ciclo Música Instrumental – Jazz trio\nDina Ramírez\nDina Ramírez\, destacada saxofonista y compositora guatemalteca\, presentará en el marco de “Sin palabras”\, ciclo de música instrumental\, las composiciones originales de su secunda producción: “1715” y otros temas en un formato íntimo en el cual se hará acompañar por el pianista Allan Urbizo y el bajista Rolando Gudiel. \nConocer a los músicos :\nDina Ramírez \n \nDina Ramírez\, saxofonista\, compositora y educadora guatemalteca; es la mujer más sobresaliente en el género musical jazz en Guatemala por su inconfundible estilo y destreza en el Saxo. \nEn sus inicios como artista integró la banda de la iglesia y al poco tiempo formo parte de la banda reconocida “De la Rut” en donde exploró con ritmos reggae y el soul; y compuso junto a los artistas los temas mas sonados “Música en la Piel” y “Viajes de Rut”. \nEn la entrega Premios Estela 2018 estuvo nominada en 2 categorías y fueron: “Mejor Álbum del Año” y “Mejor Canción Jazz ó Blues”\nEn 2019 presenta su segundo material discográfico denominado “1715” el cual contiene 8 tracks donde curiosamente cada canción la nombra con un número de 4 dígitos. \n  \nAllan Urbizo\n \nAllan Urbizo nació en la Ciudad de Guatemala el 24 de Marzo de 1986. Empezó sus estudios de piano a la edad de 6 años con el maestro Vicente Ferrer. Ingresó a la academia de música Poliritmos en 2003 donde se ve influenciado por el Jazz\, género que empieza a estudiar con los maestros Gamaliel Mayén y Carlos Chicoj. A partir de 2013 comienza su grupo de jazz llamado The Cool Jazz Project junto al bajista Jorge Chaluleu\, el baterista Juan Carlos Batres y al trompetista Marvin Sen. Grupo que finalmente desaparece en 2014. \n  \nRolando Gudiel\n \nRolando Gudiel\, más conocido como “Jechu”\, es bajista\, compositor\, arreglista e instructor musical con más de 30 años de experiencia. Ha participado en más de 15 agrupaciones jazzísticas que incluyen los géneros Big Band\, jazz latino y jazz tradicional entre otros. También se ha involucrado en actividades musicales dentro de toda Guatemala y en países hermanos centroamericanos\, incluyendo grabaciones emblemáticas\, arreglos para imagen en movimiento y colaboraciones con diversos artistas y presentaciones propias. \n \nEn esta velada\, habrán opciones de comida y bebidas en el Bistrot Crêpette (dentro de las instalaciones de la Alianza Francesa).\n  \nMartes 12 de Noviembre\n19:30hrs\nEntrada: Q30 en taquilla\nGalería de Arte de la Alianza Francesa de Guatemala
URL:https://alianzafrancesa.org.gt/evento/ciclo-musica-instrumental-dina-ramirez/
LOCATION:horarios_semi-intensivos.svg
CATEGORIES:Agenda,Música
ATTACH;FMTTYPE=:
END:VEVENT
END:VCALENDAR