BEGIN:VCALENDAR
VERSION:2.0
PRODID:-//Alianza Francesa Guatemala - ECPv6.15.20//NONSGML v1.0//EN
CALSCALE:GREGORIAN
METHOD:PUBLISH
X-WR-CALNAME:Alianza Francesa Guatemala
X-ORIGINAL-URL:https://alianzafrancesa.org.gt
X-WR-CALDESC:Eventos para Alianza Francesa Guatemala
REFRESH-INTERVAL;VALUE=DURATION:PT1H
X-Robots-Tag:noindex
X-PUBLISHED-TTL:PT1H
BEGIN:VTIMEZONE
TZID:America/Chicago
BEGIN:DAYLIGHT
TZOFFSETFROM:-0600
TZOFFSETTO:-0500
TZNAME:CDT
DTSTART:20180311T080000
END:DAYLIGHT
BEGIN:STANDARD
TZOFFSETFROM:-0500
TZOFFSETTO:-0600
TZNAME:CST
DTSTART:20181104T070000
END:STANDARD
BEGIN:DAYLIGHT
TZOFFSETFROM:-0600
TZOFFSETTO:-0500
TZNAME:CDT
DTSTART:20190310T080000
END:DAYLIGHT
BEGIN:STANDARD
TZOFFSETFROM:-0500
TZOFFSETTO:-0600
TZNAME:CST
DTSTART:20191103T070000
END:STANDARD
BEGIN:DAYLIGHT
TZOFFSETFROM:-0600
TZOFFSETTO:-0500
TZNAME:CDT
DTSTART:20200308T080000
END:DAYLIGHT
BEGIN:STANDARD
TZOFFSETFROM:-0500
TZOFFSETTO:-0600
TZNAME:CST
DTSTART:20201101T070000
END:STANDARD
END:VTIMEZONE
BEGIN:VEVENT
DTSTART;TZID=America/Chicago:20191119T193000
DTEND;TZID=America/Chicago:20191119T210000
DTSTAMP:20260424T113823
CREATED:20191031T174519Z
LAST-MODIFIED:20191031T174519Z
UID:5375-1574191800-1574197200@alianzafrancesa.org.gt
SUMMARY:Galería de canciones (ciclo de cantautores) – CH'UMILKAJ
DESCRIPTION:Galería de canciones \n(Ciclo de cantautores) – CH’UMILKAJ\nNueva noche del ciclo de cantautores “Canciones en galería” con CH’UMILKAJ. \nCantautora maya kaqchikel\, profesora de música\, integrante de diversas agrupaciones artísticas\, Ch’umilkaj utiliza la música como medio para revitalizar y reivindicar su identidad cultural como mujer kaqchikel. Estará en “Galería de canciones” para la presentación de su primer álbum discográfico epónimo.\n \n24 años\, es originaria de San Juan Comalapa\, Chimaltenango Cantautora Maya Kaqchikel\, profesora de música\, gestora y promotora cultural\, estudiante del séptimo semestre de la Licenciatura en Educación Musical en la Universidad Da Vinci de Guatemala.\n\nHa formado parte de las diversas agrupaciones artísticas\, entre ellos: Música Maya Aj (2001)\, B’itzma Sobrevivencia (2012)\, B’ixrwach’ulew (2013). Promotora cultural de Kamin proyecto para las artes (2014) Fundadora de la agrupación musical de mujeres “Tutak’al” (2015) Cofundadora y exintegrante del proyecto K’at creación de cantos infantiles en idiomas mayas (2016) “Somos una generación que tiene la capacidad de lograr pequeños o grandes cambios”.\n\nCh’umilkaj  y exintegrante del consejo directivo de Aj patan Samaj del Movimiento de Artistas Mayas Ruk’u’x. Actualmente es embajadora de la U-Report UNICEF Guatemala y forma parte de la Red de Jóvenes Indígenas por la Plataforma Iberoamericana de Jóvenes del Fondo.\nMartes 19 de Noviembre\n19:30hrs\nEntrada: Q30 taquilla\nGalería de Arte de la Alianza Francesa de Guatemala
URL:https://alianzafrancesa.org.gt/evento/galeria-de-canciones-ciclo-de-cantautores-chumilkaj/
LOCATION:horarios_semi-intensivos.svg
CATEGORIES:Agenda,Música
ATTACH;FMTTYPE=:
END:VEVENT
END:VCALENDAR